Workbook

Sheet Sheet1
G1: Hizentra | N1: Gammagard | U1: Gammanorm | AB1: Subcuvia | AI1: KIOVIG | AQ1: Drug: | AR1: Hizentra | AV1: Infusion & Volume Limits
D2: Administration Set | G2: VersaRate Position | N2: VersaRate Position | U2: VersaRate Position | AB2: VersaRate Position | AI2: VersaRate Position | AQ2: Pump: | AR2: SCIg60 Infuser | AV2: Initial | AW2: Subsequent
B3: Pump | C3: Needle Qty | D3: 24 ga | E3: 27 ga | F3: Needle Length (mm) | G3: 1 | H3: 2 | I3: 3 | J3: 4 | K3: 5 | L3: 6 | N3: 1 | O3: 2 | P3: 3 | Q3: 4 | R3: 5 | S3: 6 | U3: 1 | V3: 2 | W3: 3 | X3: 4 | Y3: 5 | Z3: 6 | AB3: 1 | AC3: 2 | AD3: 3 | AE3: 4 | AF3: 5 | AG3: 6 | AI3: 1 | AJ3: 2 | AK3: 3 | AL3: 4 | AM3: 5 | AN3: 6 | AQ3: Lookup Set: | AR3: SUB-209-G24 | AS3: Needle Length: | AT3: =IFERROR(IF(NeedleGauge="24 ga",VLOOKUP(AdminSet,D4:F46,3,0),VLOOKUP(AdminSet,E4:F46,2,0)) & " mm","") -> 9 mm | AZ3: Total Flow Rate
B4: FREEDOM60® | C4: 1-27 ga | E4: SUB-104-G27 | F4: 4 | H4: =IFERROR(H6*(1-($AR$16*($F4-$AU$16))),"DNM") -> 12.126729 | I4: =IFERROR(I6*(1-($AR$16*($F4-$AU$16))),"DNM") -> 14.623233 | J4: =IFERROR(J6*(1-($AR$16*($F4-$AU$16))),"DNM") -> 16.027152 | K4: =IFERROR(K6*(1-($AR$16*($F4-$AU$16))),"DNM") -> 17.917097 | L4: =IFERROR(L6*(1-($AR$16*($F4-$AU$16))),"DNM") -> 19.784868 | U4: =IFERROR(U6*(1-($AR$16*($F4-$AU$16))),"DNM") -> 13.057084 | V4: =IFERROR(V6*(1-($AR$16*($F4-$AU$16))),"DNM") -> 18.940487 | W4: =IFERROR(W6*(1-($AR$16*($F4-$AU$16))),"DNM") -> 21.3096 | X4: =IFERROR(X6*(1-($AR$16*($F4-$AU$16))),"DNM") -> 24.82065 | Y4: =IFERROR(Y6*(1-($AR$16*($F4-$AU$16))),"DNM") -> 27.96327 | Z4: =IFERROR(Z6*(1-($AR$16*($F4-$AU$16))),"DNM") -> 27.110362 | AB4: =IFERROR(AB6*(1-($AR$16*($F4-$AU$16))),"DNM") -> 14.039266 | AC4: =IFERROR(AC6*(1-($AR$16*($F4-$AU$16))),"DNM") -> 20.365231 | AD4: =IFERROR(AD6*(1-($AR$16*($F4-$AU$16))),"DNM") -> 22.912555 | AE4: =IFERROR(AE6*(1-($AR$16*($F4-$AU$16))),"DNM") -> 26.687713 | AF4: =IFERROR(AF6*(1-($AR$16*($F4-$AU$16))),"DNM") -> 30.066728 | AG4: =IFERROR(AG6*(1-($AR$16*($F4-$AU$16))),"DNM") -> 29.149662 | AQ4: Default Set: | AR4: =VLOOKUP(QtyNeedles,[1]Lists!$H$2:$K$8,MATCH(NeedleGauge,[1]Lists!$H$2:$K$2,0),0) -> #N/A | AV4: =INDEX([1]'Flow Rate Limits'!$A$1:$Z$6,MATCH(Country_Region,[1]'Flow Rate Limits'!$A$1:$A$6,0),MATCH(Drug,[1]'Flow Rate Limits'!$A$1:$Z$1,0)) -> 9999 | AZ4: =IF(AnyErrorMessages=1,"",FlowRate) -> 18.641072 | BA4: ml/hr
C5: 1-27 ga | E5: SUB-106-G27 | F5: 6 | H5: =IFERROR(H6*(1-($AR$16*($F5-$AU$16))),"DNM") -> 11.448675 | I5: =IFERROR(I6*(1-($AR$16*($F5-$AU$16))),"DNM") -> 13.80559 | J5: =IFERROR(J6*(1-($AR$16*($F5-$AU$16))),"DNM") -> 15.13101 | K5: =IFERROR(K6*(1-($AR$16*($F5-$AU$16))),"DNM") -> 16.915281 | L5: =IFERROR(L6*(1-($AR$16*($F5-$AU$16))),"DNM") -> 18.678617 | U5: =IFERROR(U6*(1-($AR$16*($F5-$AU$16))),"DNM") -> 12.32701 | V5: =IFERROR(V6*(1-($AR$16*($F5-$AU$16))),"DNM") -> 17.881449 | W5: =IFERROR(W6*(1-($AR$16*($F5-$AU$16))),"DNM") -> 20.118096 | X5: =IFERROR(X6*(1-($AR$16*($F5-$AU$16))),"DNM") -> 23.432828 | Y5: =IFERROR(Y6*(1-($AR$16*($F5-$AU$16))),"DNM") -> 26.399732 | Z5: =IFERROR(Z6*(1-($AR$16*($F5-$AU$16))),"DNM") -> 25.594514 | AB5: =IFERROR(AB6*(1-($AR$16*($F5-$AU$16))),"DNM") -> 13.254275 | AC5: =IFERROR(AC6*(1-($AR$16*($F5-$AU$16))),"DNM") -> 19.22653 | AD5: =IFERROR(AD6*(1-($AR$16*($F5-$AU$16))),"DNM") -> 21.631423 | AE5: =IFERROR(AE6*(1-($AR$16*($F5-$AU$16))),"DNM") -> 25.195497 | AF5: =IFERROR(AF6*(1-($AR$16*($F5-$AU$16))),"DNM") -> 28.385577 | AG5: =IFERROR(AG6*(1-($AR$16*($F5-$AU$16))),"DNM") -> 27.519789 | AQ5: Alternative Set: | AR5: SUB-104-G27 | AZ5: =IF(AnyErrorMessages=1,"",IF(AZ4>AV4,"Exceeds total flow rate limit",""))
C6: 1-27 ga | E6: SUB-109-G27 | F6: 9 | H6: 10.431595 | I6: 12.579125 | J6: 13.786797 | K6: 15.412557 | L6: 17.019241 | U6: =AB6-(AB6*$AR$19) -> 11.2319 | V6: =AC6-(AC6*$AR$19) -> 16.292892 | W6: =AD6-(AD6*$AR$19) -> 18.330839 | X6: =AE6-(AE6*$AR$19) -> 21.351097 | Y6: =AF6-(AF6*$AR$19) -> 24.054426 | Z6: =AG6-(AG6*$AR$19) -> 23.320741 | AB6: 12.076788 | AC6: 17.518479 | AD6: 19.709725 | AE6: 22.957173 | AF6: 25.863852 | AG6: 25.074978 | AQ6: VersaRate Position: | AR6: 2 | AZ6: Flow Rate Per Site
C7: 1-27 ga | E7: SAF-Q-106-G27 | F7: 6 | H7: =IFERROR(H8*(1-($AR$16*($F7-$AU$16))),"DNM") -> 11.448675 | I7: =IFERROR(I8*(1-($AR$16*($F7-$AU$16))),"DNM") -> 13.80559 | J7: =IFERROR(J8*(1-($AR$16*($F7-$AU$16))),"DNM") -> 15.13101 | K7: =IFERROR(K8*(1-($AR$16*($F7-$AU$16))),"DNM") -> 16.915281 | L7: =IFERROR(L8*(1-($AR$16*($F7-$AU$16))),"DNM") -> 18.678617 | U7: =IFERROR(U8*(1-($AR$16*($F7-$AU$16))),"DNM") -> 12.32701 | V7: =IFERROR(V8*(1-($AR$16*($F7-$AU$16))),"DNM") -> 17.881449 | W7: =IFERROR(W8*(1-($AR$16*($F7-$AU$16))),"DNM") -> 20.118096 | X7: =IFERROR(X8*(1-($AR$16*($F7-$AU$16))),"DNM") -> 23.432828 | Y7: =IFERROR(Y8*(1-($AR$16*($F7-$AU$16))),"DNM") -> 26.399732 | Z7: =IFERROR(Z8*(1-($AR$16*($F7-$AU$16))),"DNM") -> 25.594514 | AB7: =IFERROR(AB8*(1-($AR$16*($F7-$AU$16))),"DNM") -> 13.254275 | AC7: =IFERROR(AC8*(1-($AR$16*($F7-$AU$16))),"DNM") -> 19.22653 | AD7: =IFERROR(AD8*(1-($AR$16*($F7-$AU$16))),"DNM") -> 21.631423 | AE7: =IFERROR(AE8*(1-($AR$16*($F7-$AU$16))),"DNM") -> 25.195497 | AF7: =IFERROR(AF8*(1-($AR$16*($F7-$AU$16))),"DNM") -> 28.385577 | AG7: =IFERROR(AG8*(1-($AR$16*($F7-$AU$16))),"DNM") -> 27.519789 | AQ7: Flow Rate: | AR7: =IF(Pump="Freedom60®",IF(NeedleGauge="24 ga",VLOOKUP(AdminSet,D4:AN46,2+VersaRatePosition+MATCH(Drug,G1:AN1,0),0),VLOOKUP(AdminSet,E4:AN46,1+VersaRatePosition+MATCH(Drug,G1:AN1,0),0)),IF(NeedleGauge="24 ga",VLOOKUP(AdminSet,D47:AN89,2+VersaRatePosition+MATCH(Drug,G1:AN1,0),0),VLOOKUP(AdminSet,E47:AN89,1+VersaRatePosition+MATCH(Drug,G1:AN1,0),0))) -> 18.641072 | AS7: ml/hr | AU7: Infusion: | AV7: =INDEX([1]'Flow Rate Limits'!$A$1:$Z$6,MATCH(Country_Region,[1]'Flow Rate Limits'!$A$1:$A$6,0),MATCH(Drug,[1]'Flow Rate Limits'!$A$1:$Z$1,0)+1) -> 15.5 | AW7: =INDEX([1]'Flow Rate Limits'!$A$1:$Z$6,MATCH(Country_Region,[1]'Flow Rate Limits'!$A$1:$A$6,0),MATCH(Drug,[1]'Flow Rate Limits'!$A$1:$Z$1,0)+2) -> 25.5 | AZ7: =IF(AnyErrorMessages=1,"",AZ4/AR9) -> 9.3205359 | BA7: ml/hr
C8: 1-27 ga | E8: SAF-Q-109-G27 | F8: 9 | H8: =H6 -> 10.431595 | I8: =I6 -> 12.579125 | J8: =J6 -> 13.786797 | K8: =K6 -> 15.412557 | L8: =L6 -> 17.019241 | U8: =AB8-(AB8*$AR$19) -> 11.2319 | V8: =AC8-(AC8*$AR$19) -> 16.292892 | W8: =AD8-(AD8*$AR$19) -> 18.330839 | X8: =AE8-(AE8*$AR$19) -> 21.351097 | Y8: =AF8-(AF8*$AR$19) -> 24.054426 | Z8: =AG8-(AG8*$AR$19) -> 23.320741 | AB8: =AB6 -> 12.076788 | AC8: =AC6 -> 17.518479 | AD8: =AD6 -> 19.709725 | AE8: =AE6 -> 22.957173 | AF8: =AF6 -> 25.863852 | AG8: =AG6 -> 25.074978 | AQ8: Needle Set: | AR8: 2 Needles | BC8: =IF(AnyErrorMessages=1,"",IF(AZ7>AW7,"Exceeds limit for subsequent infusions",IF(AND(InitialWarnings=1,AZ7>AV7),"Caution: Limit for first time infusion exceeded","")))
C9: 1-24 ga | D9: SUB-109-G24 | F9: 9 | G9: 11.013345 | H9: 16.691955 | I9: 27.38082 | J9: 28.2 | K9: 34.958867 | L9: 43.189229 | U9: =AB9-(AB9*$AR$19) -> 16.816198 | V9: =AC9-(AC9*$AR$19) -> 31.281342 | Z9: =AG9-(AG9*$AR$19) -> 103.49973 | AB9: 18.081149 | AC9: 33.634392 | AG9: 111.2852 | AQ9: Qty Needles: | AR9: =VALUE(LEFT(NeedleSet,1)) -> 2 | AZ9: Dosage Volume Per Site
C10: 1-24 ga | D10: SUB-112-G24 | F10: 12 | G10: =IFERROR(G9*(1-($AR$16*($F10-$AU$16))),"DNM") -> 9.9395439 | H10: =IFERROR(H9*(1-($AR$16*($F10-$AU$16))),"DNM") -> 15.06449 | I10: =IFERROR(I9*(1-($AR$16*($F10-$AU$16))),"DNM") -> 24.71119 | J10: =IFERROR(J9*(1-($AR$16*($F10-$AU$16))),"DNM") -> 25.4505 | K10: =IFERROR(K9*(1-($AR$16*($F10-$AU$16))),"DNM") -> 31.550378 | L10: =IFERROR(L9*(1-($AR$16*($F10-$AU$16))),"DNM") -> 38.978279 | U10: =IFERROR(U9*(1-($AR$16*($F10-$AU$16))),"DNM") -> 15.176618 | V10: =IFERROR(V9*(1-($AR$16*($F10-$AU$16))),"DNM") -> 28.231411 | Z10: =IFERROR(Z9*(1-($AR$16*($F10-$AU$16))),"DNM") -> 93.408505 | AB10: =IFERROR(AB9*(1-($AR$16*($F10-$AU$16))),"DNM") -> 16.318237 | AC10: =IFERROR(AC9*(1-($AR$16*($F10-$AU$16))),"DNM") -> 30.355039 | AG10: =IFERROR(AG9*(1-($AR$16*($F10-$AU$16))),"DNM") -> 100.4349 | AQ10: Needle Gauge: | AR10: 24 ga | AU10: Volume: | AV10: =INDEX([1]'Flow Rate Limits'!$A$1:$Z$6,MATCH(Country_Region,[1]'Flow Rate Limits'!$A$1:$A$6,0),MATCH(Drug,[1]'Flow Rate Limits'!$A$1:$Z$1,0)+3) -> 15 | AW10: =INDEX([1]'Flow Rate Limits'!$A$1:$Z$6,MATCH(Country_Region,[1]'Flow Rate Limits'!$A$1:$A$6,0),MATCH(Drug,[1]'Flow Rate Limits'!$A$1:$Z$1,0)+4) -> 25 | AZ10: =IF(AnyErrorMessages=1,"",AR11/AR9) -> 12.5 | BA10: ml
C11: 1-24 ga | D11: SAF-Q-106-G24 | F11: 6 | G11: =IFERROR(G12*(1-($AR$16*($F11-$AU$16))),"DNM") -> 12.087146 | H11: =IFERROR(H12*(1-($AR$16*($F11-$AU$16))),"DNM") -> 18.319421 | I11: =IFERROR(I12*(1-($AR$16*($F11-$AU$16))),"DNM") -> 30.05045 | J11: =IFERROR(J12*(1-($AR$16*($F11-$AU$16))),"DNM") -> 30.9495 | K11: =IFERROR(K12*(1-($AR$16*($F11-$AU$16))),"DNM") -> 38.367357 | L11: =IFERROR(L12*(1-($AR$16*($F11-$AU$16))),"DNM") -> 47.400179 | U11: =IFERROR(U12*(1-($AR$16*($F11-$AU$16))),"DNM") -> 18.455777 | V11: =IFERROR(V12*(1-($AR$16*($F11-$AU$16))),"DNM") -> 34.331272 | Z11: =IFERROR(Z12*(1-($AR$16*($F11-$AU$16))),"DNM") -> 113.59095 | AB11: =IFERROR(AB12*(1-($AR$16*($F11-$AU$16))),"DNM") -> 19.844061 | AC11: =IFERROR(AC12*(1-($AR$16*($F11-$AU$16))),"DNM") -> 36.913745 | AG11: =IFERROR(AG12*(1-($AR$16*($F11-$AU$16))),"DNM") -> 122.13551 | AQ11: Dosage Volume: | AR11: =VALUE(AR12) -> 25 | AS11: ml | BC11: =IF(AnyErrorMessages=1,"",IF(AZ10>AW10,"Exceeds limit for subsequent infusions",IF(AND(InitialWarnings=1,AZ10>AV10),"Caution: Limit for first time infusion exceeded","")))
C12: 1-24 ga | D12: SAF-Q-109-G24 | F12: 9 | G12: =G9 -> 11.013345 | H12: =H9 -> 16.691955 | I12: =I9 -> 27.38082 | J12: =J9 -> 28.2 | K12: =K9 -> 34.958867 | L12: =L9 -> 43.189229 | U12: =AB12-(AB12*$AR$19) -> 16.816198 | V12: =AC12-(AC12*$AR$19) -> 31.281342 | Z12: =AG12-(AG12*$AR$19) -> 103.49973 | AB12: =AB9 -> 18.081149 | AC12: =AC9 -> 33.634392 | AG12: =AG9 -> 111.2852 | AQ12: (Linked cell for dosage volume): | AR12: 25
C13: 2-27 ga | E13: SUB-204-G27 | F13: 4 | H13: =IFERROR(H15*(1-($AR$16*($F13-$AU$16))),"DNM") -> 18.689216 | I13: =IFERROR(I15*(1-($AR$16*($F13-$AU$16))),"DNM") -> 24.545678 | J13: =IFERROR(J15*(1-($AR$16*($F13-$AU$16))),"DNM") -> 28.191985 | K13: =IFERROR(K15*(1-($AR$16*($F13-$AU$16))),"DNM") -> 34.881807 | L13: =IFERROR(L15*(1-($AR$16*($F13-$AU$16))),"DNM") -> 41.066161 | U13: =IFERROR(U15*(1-($AR$16*($F13-$AU$16))),"DNM") -> 17.042819 | V13: =IFERROR(V15*(1-($AR$16*($F13-$AU$16))),"DNM") -> 29.250625 | W13: =IFERROR(W15*(1-($AR$16*($F13-$AU$16))),"DNM") -> 36.014108 | X13: =IFERROR(X15*(1-($AR$16*($F13-$AU$16))),"DNM") -> 44.393783 | Y13: =IFERROR(Y15*(1-($AR$16*($F13-$AU$16))),"DNM") -> 55.715705 | Z13: =IFERROR(Z15*(1-($AR$16*($F13-$AU$16))),"DNM") -> 60.761238 | AB13: =IFERROR(AB15*(1-($AR$16*($F13-$AU$16))),"DNM") -> 18.324817 | AC13: =IFERROR(AC15*(1-($AR$16*($F13-$AU$16))),"DNM") -> 31.450921 | AD13: =IFERROR(AD15*(1-($AR$16*($F13-$AU$16))),"DNM") -> 38.723168 | AE13: =IFERROR(AE15*(1-($AR$16*($F13-$AU$16))),"DNM") -> 47.73318 | AF13: =IFERROR(AF15*(1-($AR$16*($F13-$AU$16))),"DNM") -> 59.906762 | AG13: =IFERROR(AG15*(1-($AR$16*($F13-$AU$16))),"DNM") -> 65.331831 | AZ13: Infusion Time
C14: 2-27 ga | E14: SUB-250 | F14: 6 | H14: =IFERROR(H15*(1-($AR$16*($F14-$AU$16))),"DNM") -> 17.644227 | I14: =IFERROR(I15*(1-($AR$16*($F14-$AU$16))),"DNM") -> 23.173232 | J14: =IFERROR(J15*(1-($AR$16*($F14-$AU$16))),"DNM") -> 26.615659 | K14: =IFERROR(K15*(1-($AR$16*($F14-$AU$16))),"DNM") -> 32.931426 | L14: =IFERROR(L15*(1-($AR$16*($F14-$AU$16))),"DNM") -> 38.769989 | U14: =IFERROR(U15*(1-($AR$16*($F14-$AU$16))),"DNM") -> 16.089887 | V14: =IFERROR(V15*(1-($AR$16*($F14-$AU$16))),"DNM") -> 27.615107 | W14: =IFERROR(W15*(1-($AR$16*($F14-$AU$16))),"DNM") -> 34.000416 | X14: =IFERROR(X15*(1-($AR$16*($F14-$AU$16))),"DNM") -> 41.91155 | Y14: =IFERROR(Y15*(1-($AR$16*($F14-$AU$16))),"DNM") -> 52.600418 | Z14: =IFERROR(Z15*(1-($AR$16*($F14-$AU$16))),"DNM") -> 57.363836 | AB14: =IFERROR(AB15*(1-($AR$16*($F14-$AU$16))),"DNM") -> 17.300204 | AC14: =IFERROR(AC15*(1-($AR$16*($F14-$AU$16))),"DNM") -> 29.692375 | AD14: =IFERROR(AD15*(1-($AR$16*($F14-$AU$16))),"DNM") -> 36.558001 | AE14: =IFERROR(AE15*(1-($AR$16*($F14-$AU$16))),"DNM") -> 45.064228 | AF14: =IFERROR(AF15*(1-($AR$16*($F14-$AU$16))),"DNM") -> 56.557136 | AG14: =IFERROR(AG15*(1-($AR$16*($F14-$AU$16))),"DNM") -> 61.678869 | AZ14: =IF(AnyErrorMessages=1,"",IF($AR$11=0,0,INT($AR$11/$AR$7))) -> 1 | BA14: hrs | BB14: =IF(AnyErrorMessages=1,"",IF($AR$11=0,0,INT((($AR$11/$AR$7)-INT($AR$11/$AR$7))*60))) -> 20 | BC14: min
C15: 2-27 ga | E15: SUB-260 | F15: 9 | H15: 16.076745 | I15: 21.114562 | J15: 24.25117 | K15: 30.005855 | L15: 35.32573 | U15: =AB15-(AB15*$AR$19) -> 14.66049 | V15: =AC15-(AC15*$AR$19) -> 25.161828 | W15: =AD15-(AD15*$AR$19) -> 30.979878 | X15: =AE15-(AE15*$AR$19) -> 38.1882 | Y15: =AF15-(AF15*$AR$19) -> 47.927488 | Z15: =AG15-(AG15*$AR$19) -> 52.267732 | AB15: 15.763284 | AC15: 27.054556 | AD15: 33.310252 | AE15: 41.0608 | AF15: 51.532698 | AG15: 56.199425
C16: 2-27 ga | E16: SUB-212-G27 | F16: 12 | H16: =IFERROR(H15*(1-($AR$16*($F16-$AU$16))),"DNM") -> 14.509262 | I16: =IFERROR(I15*(1-($AR$16*($F16-$AU$16))),"DNM") -> 19.055892 | J16: =IFERROR(J15*(1-($AR$16*($F16-$AU$16))),"DNM") -> 21.886681 | K16: =IFERROR(K15*(1-($AR$16*($F16-$AU$16))),"DNM") -> 27.080285 | L16: =IFERROR(L15*(1-($AR$16*($F16-$AU$16))),"DNM") -> 31.881471 | U16: =IFERROR(U15*(1-($AR$16*($F16-$AU$16))),"DNM") -> 13.231092 | V16: =IFERROR(V15*(1-($AR$16*($F16-$AU$16))),"DNM") -> 22.70855 | W16: =IFERROR(W15*(1-($AR$16*($F16-$AU$16))),"DNM") -> 27.95934 | X16: =IFERROR(X15*(1-($AR$16*($F16-$AU$16))),"DNM") -> 34.464851 | Y16: =IFERROR(Y15*(1-($AR$16*($F16-$AU$16))),"DNM") -> 43.254558 | Z16: =IFERROR(Z15*(1-($AR$16*($F16-$AU$16))),"DNM") -> 47.171628 | AB16: =IFERROR(AB15*(1-($AR$16*($F16-$AU$16))),"DNM") -> 14.226364 | AC16: =IFERROR(AC15*(1-($AR$16*($F16-$AU$16))),"DNM") -> 24.416737 | AD16: =IFERROR(AD15*(1-($AR$16*($F16-$AU$16))),"DNM") -> 30.062502 | AE16: =IFERROR(AE15*(1-($AR$16*($F16-$AU$16))),"DNM") -> 37.057372 | AF16: =IFERROR(AF15*(1-($AR$16*($F16-$AU$16))),"DNM") -> 46.50826 | AG16: =IFERROR(AG15*(1-($AR$16*($F16-$AU$16))),"DNM") -> 50.719981 | AQ16: Needle Length Factor: | AR16: 0.0325 | AS16: per mm from baseline of | AU16: 9 | AV16: mm
C17: 2-27 ga | E17: SAF-Q-206-G27 | F17: 6 | H17: =IFERROR(H18*(1-($AR$16*($F17-$AU$16))),"DNM") -> 17.644227 | I17: =IFERROR(I18*(1-($AR$16*($F17-$AU$16))),"DNM") -> 23.173232 | J17: =IFERROR(J18*(1-($AR$16*($F17-$AU$16))),"DNM") -> 26.615659 | K17: =IFERROR(K18*(1-($AR$16*($F17-$AU$16))),"DNM") -> 32.931426 | L17: =IFERROR(L18*(1-($AR$16*($F17-$AU$16))),"DNM") -> 38.769989 | U17: =IFERROR(U18*(1-($AR$16*($F17-$AU$16))),"DNM") -> 16.089887 | V17: =IFERROR(V18*(1-($AR$16*($F17-$AU$16))),"DNM") -> 27.615107 | W17: =IFERROR(W18*(1-($AR$16*($F17-$AU$16))),"DNM") -> 34.000416 | X17: =IFERROR(X18*(1-($AR$16*($F17-$AU$16))),"DNM") -> 41.91155 | Y17: =IFERROR(Y18*(1-($AR$16*($F17-$AU$16))),"DNM") -> 52.600418 | Z17: =IFERROR(Z18*(1-($AR$16*($F17-$AU$16))),"DNM") -> 57.363836 | AB17: =IFERROR(AB18*(1-($AR$16*($F17-$AU$16))),"DNM") -> 17.300204 | AC17: =IFERROR(AC18*(1-($AR$16*($F17-$AU$16))),"DNM") -> 29.692375 | AD17: =IFERROR(AD18*(1-($AR$16*($F17-$AU$16))),"DNM") -> 36.558001 | AE17: =IFERROR(AE18*(1-($AR$16*($F17-$AU$16))),"DNM") -> 45.064228 | AF17: =IFERROR(AF18*(1-($AR$16*($F17-$AU$16))),"DNM") -> 56.557136 | AG17: =IFERROR(AG18*(1-($AR$16*($F17-$AU$16))),"DNM") -> 61.678869
C18: 2-27 ga | E18: SAF-Q-209-G27 | F18: 9 | H18: =H15 -> 16.076745 | I18: =I15 -> 21.114562 | J18: =J15 -> 24.25117 | K18: =K15 -> 30.005855 | L18: =L15 -> 35.32573 | U18: =AB18-(AB18*$AR$19) -> 14.66049 | V18: =AC18-(AC18*$AR$19) -> 25.161828 | W18: =AD18-(AD18*$AR$19) -> 30.979878 | X18: =AE18-(AE18*$AR$19) -> 38.1882 | Y18: =AF18-(AF18*$AR$19) -> 47.927488 | Z18: =AG18-(AG18*$AR$19) -> 52.267732 | AB18: =AB15 -> 15.763284 | AC18: =AC15 -> 27.054556 | AD18: =AD15 -> 33.310252 | AE18: =AE15 -> 41.0608 | AF18: =AF15 -> 51.532698 | AG18: =AG15 -> 56.199425
C19: 2-27 ga | E19: SAF-Q-212-G27 | F19: 12 | H19: =IFERROR(H18*(1-($AR$16*($F19-$AU$16))),"DNM") -> 14.509262 | I19: =IFERROR(I18*(1-($AR$16*($F19-$AU$16))),"DNM") -> 19.055892 | J19: =IFERROR(J18*(1-($AR$16*($F19-$AU$16))),"DNM") -> 21.886681 | K19: =IFERROR(K18*(1-($AR$16*($F19-$AU$16))),"DNM") -> 27.080285 | L19: =IFERROR(L18*(1-($AR$16*($F19-$AU$16))),"DNM") -> 31.881471 | U19: =IFERROR(U18*(1-($AR$16*($F19-$AU$16))),"DNM") -> 13.231092 | V19: =IFERROR(V18*(1-($AR$16*($F19-$AU$16))),"DNM") -> 22.70855 | W19: =IFERROR(W18*(1-($AR$16*($F19-$AU$16))),"DNM") -> 27.95934 | X19: =IFERROR(X18*(1-($AR$16*($F19-$AU$16))),"DNM") -> 34.464851 | Y19: =IFERROR(Y18*(1-($AR$16*($F19-$AU$16))),"DNM") -> 43.254558 | Z19: =IFERROR(Z18*(1-($AR$16*($F19-$AU$16))),"DNM") -> 47.171628 | AB19: =IFERROR(AB18*(1-($AR$16*($F19-$AU$16))),"DNM") -> 14.226364 | AC19: =IFERROR(AC18*(1-($AR$16*($F19-$AU$16))),"DNM") -> 24.416737 | AD19: =IFERROR(AD18*(1-($AR$16*($F19-$AU$16))),"DNM") -> 30.062502 | AE19: =IFERROR(AE18*(1-($AR$16*($F19-$AU$16))),"DNM") -> 37.057372 | AF19: =IFERROR(AF18*(1-($AR$16*($F19-$AU$16))),"DNM") -> 46.50826 | AG19: =IFERROR(AG18*(1-($AR$16*($F19-$AU$16))),"DNM") -> 50.719981 | AQ19: Gammanorm Factor: | AR19: 0.069959661
C20: 2-24 ga | D20: SUB-209-G24 | F20: 9 | G20: 13.054141 | H20: 18.620145 | I20: 34.440802 | J20: 37.80327 | K20: 62.545299 | L20: 89.964427 | U20: =AB20-(AB20*$AR$19) -> 20.346596 | V20: =AC20-(AC20*$AR$19) -> 34.961769 | W20: =AD20-(AD20*$AR$19) -> 58.466597 | Z20: =AG20-(AG20*$AR$19) -> 90.927286 | AB20: 21.877111 | AC20: 37.591669 | AD20: 62.864582 | AG20: 97.767035
C21: 2-24 ga | D21: SUB-212-G24 | F21: 12 | G21: =IFERROR(G20*(1-($AR$16*($F21-$AU$16))),"DNM") -> 11.781363 | H21: =IFERROR(H20*(1-($AR$16*($F21-$AU$16))),"DNM") -> 16.804681 | I21: =IFERROR(I20*(1-($AR$16*($F21-$AU$16))),"DNM") -> 31.082823 | J21: =IFERROR(J20*(1-($AR$16*($F21-$AU$16))),"DNM") -> 34.117451 | K21: =IFERROR(K20*(1-($AR$16*($F21-$AU$16))),"DNM") -> 56.447132 | L21: =IFERROR(L20*(1-($AR$16*($F21-$AU$16))),"DNM") -> 81.192895 | U21: =IFERROR(U20*(1-($AR$16*($F21-$AU$16))),"DNM") -> 18.362803 | V21: =IFERROR(V20*(1-($AR$16*($F21-$AU$16))),"DNM") -> 31.552996 | W21: =IFERROR(W20*(1-($AR$16*($F21-$AU$16))),"DNM") -> 52.766104 | Z21: =IFERROR(Z20*(1-($AR$16*($F21-$AU$16))),"DNM") -> 82.061876 | AB21: =IFERROR(AB20*(1-($AR$16*($F21-$AU$16))),"DNM") -> 19.744093 | AC21: =IFERROR(AC20*(1-($AR$16*($F21-$AU$16))),"DNM") -> 33.926481 | AD21: =IFERROR(AD20*(1-($AR$16*($F21-$AU$16))),"DNM") -> 56.735285 | AG21: =IFERROR(AG20*(1-($AR$16*($F21-$AU$16))),"DNM") -> 88.234749 | AQ21: Country/Region: | AR21: USA
C22: 3-27 ga | E22: SUB-310 | F22: 6 | H22: =IFERROR(H23*(1-($AR$16*($F22-$AU$16))),"DNM") -> 23.901744 | I22: =IFERROR(I23*(1-($AR$16*($F22-$AU$16))),"DNM") -> 32.406626 | J22: =IFERROR(J23*(1-($AR$16*($F22-$AU$16))),"DNM") -> 39.748634 | K22: =IFERROR(K23*(1-($AR$16*($F22-$AU$16))),"DNM") -> 47.13544 | L22: =IFERROR(L23*(1-($AR$16*($F22-$AU$16))),"DNM") -> 53.245964 | N22: 50 | O22: 91 | P22: 133 | Q22: 170 | R22: 207 | S22: 242 | U22: =IFERROR(U23*(1-($AR$16*($F22-$AU$16))),"DNM") -> 18.386255 | V22: =IFERROR(V23*(1-($AR$16*($F22-$AU$16))),"DNM") -> 29.172553 | W22: =IFERROR(W23*(1-($AR$16*($F22-$AU$16))),"DNM") -> 40.802365 | X22: =IFERROR(X23*(1-($AR$16*($F22-$AU$16))),"DNM") -> 56.631163 | Y22: =IFERROR(Y23*(1-($AR$16*($F22-$AU$16))),"DNM") -> 69.556999 | Z22: =IFERROR(Z23*(1-($AR$16*($F22-$AU$16))),"DNM") -> 87.183101 | AB22: =IFERROR(AB23*(1-($AR$16*($F22-$AU$16))),"DNM") -> 19.769309 | AC22: =IFERROR(AC23*(1-($AR$16*($F22-$AU$16))),"DNM") -> 31.366976 | AD22: =IFERROR(AD23*(1-($AR$16*($F22-$AU$16))),"DNM") -> 43.871608 | AE22: =IFERROR(AE23*(1-($AR$16*($F22-$AU$16))),"DNM") -> 60.891082 | AF22: =IFERROR(AF23*(1-($AR$16*($F22-$AU$16))),"DNM") -> 74.789228 | AG22: =IFERROR(AG23*(1-($AR$16*($F22-$AU$16))),"DNM") -> 93.741204 | AI22: 50 | AJ22: 91 | AK22: 133 | AL22: 170 | AM22: 207 | AN22: 242 | AQ22: Include First Infusion Warnings: | AR22: =TRUE() -> 1
C23: 3-27 ga | E23: SUB-320 | F23: 9 | H23: 21.778354 | I23: 29.527678 | J23: 36.217435 | K23: 42.948009 | L23: 48.515685 | N23: =IFERROR(N22*(1+($AR$16*($F22-$AU$16))),"DNM") -> 45.125 | O23: =IFERROR(O22*(1+($AR$16*($F22-$AU$16))),"DNM") -> 82.1275 | P23: =IFERROR(P22*(1+($AR$16*($F22-$AU$16))),"DNM") -> 120.0325 | Q23: =IFERROR(Q22*(1+($AR$16*($F22-$AU$16))),"DNM") -> 153.425 | R23: =IFERROR(R22*(1+($AR$16*($F22-$AU$16))),"DNM") -> 186.8175 | S23: =IFERROR(S22*(1+($AR$16*($F22-$AU$16))),"DNM") -> 218.405 | U23: =AB23-(AB23*$AR$19) -> 16.752852 | V23: =AC23-(AC23*$AR$19) -> 26.580914 | W23: =AD23-(AD23*$AR$19) -> 37.177554 | X23: =AE23-(AE23*$AR$19) -> 51.600148 | Y23: =AF23-(AF23*$AR$19) -> 63.377676 | Z23: =AG23-(AG23*$AR$19) -> 79.437905 | AB23: 18.013038 | AC23: 28.580389 | AD23: 39.97413 | AE23: 55.481624 | AF23: 68.145083 | AG23: 85.413397 | AI23: =IFERROR(AI22*(1+($AR$16*($F22-$AU$16))),"DNM") -> 45.125 | AJ23: =IFERROR(AJ22*(1+($AR$16*($F22-$AU$16))),"DNM") -> 82.1275 | AK23: =IFERROR(AK22*(1+($AR$16*($F22-$AU$16))),"DNM") -> 120.0325 | AL23: =IFERROR(AL22*(1+($AR$16*($F22-$AU$16))),"DNM") -> 153.425 | AM23: =IFERROR(AM22*(1+($AR$16*($F22-$AU$16))),"DNM") -> 186.8175 | AN23: =IFERROR(AN22*(1+($AR$16*($F22-$AU$16))),"DNM") -> 218.405
C24: 3-27 ga | E24: SUB-312-G27 | F24: 12 | H24: =IFERROR(H23*(1-($AR$16*($F24-$AU$16))),"DNM") -> 19.654965 | I24: =IFERROR(I23*(1-($AR$16*($F24-$AU$16))),"DNM") -> 26.648729 | J24: =IFERROR(J23*(1-($AR$16*($F24-$AU$16))),"DNM") -> 32.686235 | K24: =IFERROR(K23*(1-($AR$16*($F24-$AU$16))),"DNM") -> 38.760579 | L24: =IFERROR(L23*(1-($AR$16*($F24-$AU$16))),"DNM") -> 43.785405 | N24: =IFERROR(N23*(1+($AR$16*($F22-$AU$16))),"DNM") -> 40.725313 | O24: =IFERROR(O23*(1+($AR$16*($F22-$AU$16))),"DNM") -> 74.120069 | P24: =IFERROR(P23*(1+($AR$16*($F22-$AU$16))),"DNM") -> 108.32933 | Q24: =IFERROR(Q23*(1+($AR$16*($F22-$AU$16))),"DNM") -> 138.46606 | R24: =IFERROR(R23*(1+($AR$16*($F22-$AU$16))),"DNM") -> 168.60279 | S24: =IFERROR(S23*(1+($AR$16*($F22-$AU$16))),"DNM") -> 197.11051 | U24: =IFERROR(U23*(1-($AR$16*($F24-$AU$16))),"DNM") -> 15.119449 | V24: =IFERROR(V23*(1-($AR$16*($F24-$AU$16))),"DNM") -> 23.989275 | W24: =IFERROR(W23*(1-($AR$16*($F24-$AU$16))),"DNM") -> 33.552742 | X24: =IFERROR(X23*(1-($AR$16*($F24-$AU$16))),"DNM") -> 46.569134 | Y24: =IFERROR(Y23*(1-($AR$16*($F24-$AU$16))),"DNM") -> 57.198353 | Z24: =IFERROR(Z23*(1-($AR$16*($F24-$AU$16))),"DNM") -> 71.692709 | AB24: =IFERROR(AB23*(1-($AR$16*($F24-$AU$16))),"DNM") -> 16.256767 | AC24: =IFERROR(AC23*(1-($AR$16*($F24-$AU$16))),"DNM") -> 25.793801 | AD24: =IFERROR(AD23*(1-($AR$16*($F24-$AU$16))),"DNM") -> 36.076653 | AE24: =IFERROR(AE23*(1-($AR$16*($F24-$AU$16))),"DNM") -> 50.072165 | AF24: =IFERROR(AF23*(1-($AR$16*($F24-$AU$16))),"DNM") -> 61.500937 | AG24: =IFERROR(AG23*(1-($AR$16*($F24-$AU$16))),"DNM") -> 77.085591 | AI24: =IFERROR(AI23*(1+($AR$16*($F22-$AU$16))),"DNM") -> 40.725313 | AJ24: =IFERROR(AJ23*(1+($AR$16*($F22-$AU$16))),"DNM") -> 74.120069 | AK24: =IFERROR(AK23*(1+($AR$16*($F22-$AU$16))),"DNM") -> 108.32933 | AL24: =IFERROR(AL23*(1+($AR$16*($F22-$AU$16))),"DNM") -> 138.46606 | AM24: =IFERROR(AM23*(1+($AR$16*($F22-$AU$16))),"DNM") -> 168.60279 | AN24: =IFERROR(AN23*(1+($AR$16*($F22-$AU$16))),"DNM") -> 197.11051
C25: 3-27 ga | E25: SAF-Q-306-G27 | F25: 6 | H25: =IFERROR(H26*(1-($AR$16*($F25-$AU$16))),"DNM") -> 23.901744 | I25: =IFERROR(I26*(1-($AR$16*($F25-$AU$16))),"DNM") -> 32.406626 | J25: =IFERROR(J26*(1-($AR$16*($F25-$AU$16))),"DNM") -> 39.748634 | K25: =IFERROR(K26*(1-($AR$16*($F25-$AU$16))),"DNM") -> 47.13544 | L25: =IFERROR(L26*(1-($AR$16*($F25-$AU$16))),"DNM") -> 53.245964 | N25: =N22 -> 50 | O25: =O22 -> 91 | P25: =P22 -> 133 | Q25: =Q22 -> 170 | R25: =R22 -> 207 | S25: =S22 -> 242 | U25: =IFERROR(U26*(1-($AR$16*($F25-$AU$16))),"DNM") -> 18.386255 | V25: =IFERROR(V26*(1-($AR$16*($F25-$AU$16))),"DNM") -> 29.172553 | W25: =IFERROR(W26*(1-($AR$16*($F25-$AU$16))),"DNM") -> 40.802365 | X25: =IFERROR(X26*(1-($AR$16*($F25-$AU$16))),"DNM") -> 56.631163 | Y25: =IFERROR(Y26*(1-($AR$16*($F25-$AU$16))),"DNM") -> 69.556999 | Z25: =IFERROR(Z26*(1-($AR$16*($F25-$AU$16))),"DNM") -> 87.183101 | AB25: =IFERROR(AB26*(1-($AR$16*($F25-$AU$16))),"DNM") -> 19.769309 | AC25: =IFERROR(AC26*(1-($AR$16*($F25-$AU$16))),"DNM") -> 31.366976 | AD25: =IFERROR(AD26*(1-($AR$16*($F25-$AU$16))),"DNM") -> 43.871608 | AE25: =IFERROR(AE26*(1-($AR$16*($F25-$AU$16))),"DNM") -> 60.891082 | AF25: =IFERROR(AF26*(1-($AR$16*($F25-$AU$16))),"DNM") -> 74.789228 | AG25: =IFERROR(AG26*(1-($AR$16*($F25-$AU$16))),"DNM") -> 93.741204 | AI25: =AI22 -> 50 | AJ25: =AJ22 -> 91 | AK25: =AK22 -> 133 | AL25: =AL22 -> 170 | AM25: =AM22 -> 207 | AN25: =AN22 -> 242
C26: 3-27 ga | E26: SAF-Q-309-G27 | F26: 9 | H26: =H23 -> 21.778354 | I26: =I23 -> 29.527678 | J26: =J23 -> 36.217435 | K26: =K23 -> 42.948009 | L26: =L23 -> 48.515685 | N26: =IFERROR(N25*(1+($AR$16*($F25-$AU$16))),"DNM") -> 45.125 | O26: =IFERROR(O25*(1+($AR$16*($F25-$AU$16))),"DNM") -> 82.1275 | P26: =IFERROR(P25*(1+($AR$16*($F25-$AU$16))),"DNM") -> 120.0325 | Q26: =IFERROR(Q25*(1+($AR$16*($F25-$AU$16))),"DNM") -> 153.425 | R26: =IFERROR(R25*(1+($AR$16*($F25-$AU$16))),"DNM") -> 186.8175 | S26: =IFERROR(S25*(1+($AR$16*($F25-$AU$16))),"DNM") -> 218.405 | U26: =AB26-(AB26*$AR$19) -> 16.752852 | V26: =AC26-(AC26*$AR$19) -> 26.580914 | W26: =AD26-(AD26*$AR$19) -> 37.177554 | X26: =AE26-(AE26*$AR$19) -> 51.600148 | Y26: =AF26-(AF26*$AR$19) -> 63.377676 | Z26: =AG26-(AG26*$AR$19) -> 79.437905 | AB26: =AB23 -> 18.013038 | AC26: =AC23 -> 28.580389 | AD26: =AD23 -> 39.97413 | AE26: =AE23 -> 55.481624 | AF26: =AF23 -> 68.145083 | AG26: =AG23 -> 85.413397 | AI26: =IFERROR(AI25*(1+($AR$16*($F25-$AU$16))),"DNM") -> 45.125 | AJ26: =IFERROR(AJ25*(1+($AR$16*($F25-$AU$16))),"DNM") -> 82.1275 | AK26: =IFERROR(AK25*(1+($AR$16*($F25-$AU$16))),"DNM") -> 120.0325 | AL26: =IFERROR(AL25*(1+($AR$16*($F25-$AU$16))),"DNM") -> 153.425 | AM26: =IFERROR(AM25*(1+($AR$16*($F25-$AU$16))),"DNM") -> 186.8175 | AN26: =IFERROR(AN25*(1+($AR$16*($F25-$AU$16))),"DNM") -> 218.405
C27: 3-24 ga | D27: SUB-309-G24 | F27: 9 | H27: 19.524111 | I27: 43.274879 | J27: 48.070166 | K27: 77.240748 | L27: 112.11584 | U27: =AB27-(AB27*$AR$19) -> 19.271704 | V27: =AC27-(AC27*$AR$19) -> 38.504719 | W27: =AD27-(AD27*$AR$19) -> 55.439663 | X27: =AE27-(AE27*$AR$19) -> 110.3338 | Z27: =AG27-(AG27*$AR$19) -> 94.410539 | AB27: 20.721364 | AC27: 41.401128 | AD27: 59.609955 | AE27: 118.63334 | AG27: 101.5123
C28: 3-24 ga | D28: SUB-312-G24 | F28: 12 | H28: =IFERROR(H27*(1-($AR$16*($F28-$AU$16))),"DNM") -> 17.62051 | I28: =IFERROR(I27*(1-($AR$16*($F28-$AU$16))),"DNM") -> 39.055579 | J28: =IFERROR(J27*(1-($AR$16*($F28-$AU$16))),"DNM") -> 43.383325 | K28: =IFERROR(K27*(1-($AR$16*($F28-$AU$16))),"DNM") -> 69.709775 | L28: =IFERROR(L27*(1-($AR$16*($F28-$AU$16))),"DNM") -> 101.18454 | U28: =IFERROR(U27*(1-($AR$16*($F28-$AU$16))),"DNM") -> 17.392713 | V28: =IFERROR(V27*(1-($AR$16*($F28-$AU$16))),"DNM") -> 34.750509 | W28: =IFERROR(W27*(1-($AR$16*($F28-$AU$16))),"DNM") -> 50.034295 | X28: =IFERROR(X27*(1-($AR$16*($F28-$AU$16))),"DNM") -> 99.576251 | Z28: =IFERROR(Z27*(1-($AR$16*($F28-$AU$16))),"DNM") -> 85.205511 | AB28: =IFERROR(AB27*(1-($AR$16*($F28-$AU$16))),"DNM") -> 18.701031 | AC28: =IFERROR(AC27*(1-($AR$16*($F28-$AU$16))),"DNM") -> 37.364518 | AD28: =IFERROR(AD27*(1-($AR$16*($F28-$AU$16))),"DNM") -> 53.797984 | AE28: =IFERROR(AE27*(1-($AR$16*($F28-$AU$16))),"DNM") -> 107.06659 | AG28: =IFERROR(AG27*(1-($AR$16*($F28-$AU$16))),"DNM") -> 91.614855
C29: 3-24 ga | D29: SAF-Q-309-G24 | F29: 9 | H29: =H27 -> 19.524111 | I29: =I27 -> 43.274879 | J29: =J27 -> 48.070166 | K29: =K27 -> 77.240748 | L29: =L27 -> 112.11584 | U29: =AB29-(AB29*$AR$19) -> 19.271704 | V29: =AC29-(AC29*$AR$19) -> 38.504719 | W29: =AD29-(AD29*$AR$19) -> 55.439663 | X29: =AE29-(AE29*$AR$19) -> 110.3338 | Z29: =AG29-(AG29*$AR$19) -> 94.410539 | AB29: =AB27 -> 20.721364 | AC29: =AC27 -> 41.401128 | AD29: =AD27 -> 59.609955 | AE29: =AE27 -> 118.63334 | AG29: =AG27 -> 101.5123
C30: 4-27 ga | E30: SUB-400 | F30: 6 | H30: =IFERROR(H31*(1-($AR$16*($F30-$AU$16))),"DNM") -> 23.341965 | I30: =IFERROR(I31*(1-($AR$16*($F30-$AU$16))),"DNM") -> 33.547259 | J30: =IFERROR(J31*(1-($AR$16*($F30-$AU$16))),"DNM") -> 44.374906 | K30: =IFERROR(K31*(1-($AR$16*($F30-$AU$16))),"DNM") -> 57.473305 | L30: =IFERROR(L31*(1-($AR$16*($F30-$AU$16))),"DNM") -> 66.10313 | N30: =IFERROR(N31*(1-($AR$16*($F30-$AU$16))),"DNM") -> 60.3625 | O30: =IFERROR(O31*(1-($AR$16*($F30-$AU$16))),"DNM") -> 109.75 | P30: =IFERROR(P31*(1-($AR$16*($F30-$AU$16))),"DNM") -> 164.625 | Q30: =IFERROR(Q31*(1-($AR$16*($F30-$AU$16))),"DNM") -> 218.4025 | R30: =IFERROR(R31*(1-($AR$16*($F30-$AU$16))),"DNM") -> 282.0575 | S30: =IFERROR(S31*(1-($AR$16*($F30-$AU$16))),"DNM") -> 358.8825 | AI30: =IFERROR(AI31*(1-($AR$16*($F30-$AU$16))),"DNM") -> 60.3625 | AJ30: =IFERROR(AJ31*(1-($AR$16*($F30-$AU$16))),"DNM") -> 109.75 | AK30: =IFERROR(AK31*(1-($AR$16*($F30-$AU$16))),"DNM") -> 164.625 | AL30: =IFERROR(AL31*(1-($AR$16*($F30-$AU$16))),"DNM") -> 218.4025 | AM30: =IFERROR(AM31*(1-($AR$16*($F30-$AU$16))),"DNM") -> 282.0575 | AN30: =IFERROR(AN31*(1-($AR$16*($F30-$AU$16))),"DNM") -> 358.8825
C31: 4-27 ga | E31: SUB-410 | F31: 9 | H31: 21.268305 | I31: 30.566979 | J31: 40.432716 | K31: 52.367476 | L31: 60.230642 | N31: 55 | O31: 100 | P31: 150 | Q31: 199 | R31: 257 | S31: 327 | AI31: 55 | AJ31: 100 | AK31: 150 | AL31: 199 | AM31: 257 | AN31: 327
C32: 4-27 ga | E32: SUB-412-G27 | F32: 12 | H32: =IFERROR(H31*(1-($AR$16*($F32-$AU$16))),"DNM") -> 19.194645 | I32: =IFERROR(I31*(1-($AR$16*($F32-$AU$16))),"DNM") -> 27.586698 | J32: =IFERROR(J31*(1-($AR$16*($F32-$AU$16))),"DNM") -> 36.490526 | K32: =IFERROR(K31*(1-($AR$16*($F32-$AU$16))),"DNM") -> 47.261647 | L32: =IFERROR(L31*(1-($AR$16*($F32-$AU$16))),"DNM") -> 54.358154 | N32: =IFERROR(N31*(1-($AR$16*($F32-$AU$16))),"DNM") -> 49.6375 | O32: =IFERROR(O31*(1-($AR$16*($F32-$AU$16))),"DNM") -> 90.25 | P32: =IFERROR(P31*(1-($AR$16*($F32-$AU$16))),"DNM") -> 135.375 | Q32: =IFERROR(Q31*(1-($AR$16*($F32-$AU$16))),"DNM") -> 179.5975 | R32: =IFERROR(R31*(1-($AR$16*($F32-$AU$16))),"DNM") -> 231.9425 | S32: =IFERROR(S31*(1-($AR$16*($F32-$AU$16))),"DNM") -> 295.1175 | AI32: =IFERROR(AI31*(1-($AR$16*($F32-$AU$16))),"DNM") -> 49.6375 | AJ32: =IFERROR(AJ31*(1-($AR$16*($F32-$AU$16))),"DNM") -> 90.25 | AK32: =IFERROR(AK31*(1-($AR$16*($F32-$AU$16))),"DNM") -> 135.375 | AL32: =IFERROR(AL31*(1-($AR$16*($F32-$AU$16))),"DNM") -> 179.5975 | AM32: =IFERROR(AM31*(1-($AR$16*($F32-$AU$16))),"DNM") -> 231.9425 | AN32: =IFERROR(AN31*(1-($AR$16*($F32-$AU$16))),"DNM") -> 295.1175
C33: 4-27 ga | E33: SUB-414-G27 | F33: 14 | H33: =IFERROR(H31*(1-($AR$16*($F33-$AU$16))),"DNM") -> 17.812206 | I33: =IFERROR(I31*(1-($AR$16*($F33-$AU$16))),"DNM") -> 25.599845 | J33: =IFERROR(J31*(1-($AR$16*($F33-$AU$16))),"DNM") -> 33.8624 | K33: =IFERROR(K31*(1-($AR$16*($F33-$AU$16))),"DNM") -> 43.857761 | L33: =IFERROR(L31*(1-($AR$16*($F33-$AU$16))),"DNM") -> 50.443163 | N33: =IFERROR(N31*(1-($AR$16*($F33-$AU$16))),"DNM") -> 46.0625 | O33: =IFERROR(O31*(1-($AR$16*($F33-$AU$16))),"DNM") -> 83.75 | P33: =IFERROR(P31*(1-($AR$16*($F33-$AU$16))),"DNM") -> 125.625 | Q33: =IFERROR(Q31*(1-($AR$16*($F33-$AU$16))),"DNM") -> 166.6625 | R33: =IFERROR(R31*(1-($AR$16*($F33-$AU$16))),"DNM") -> 215.2375 | S33: =IFERROR(S31*(1-($AR$16*($F33-$AU$16))),"DNM") -> 273.8625 | AI33: =IFERROR(AI31*(1-($AR$16*($F33-$AU$16))),"DNM") -> 46.0625 | AJ33: =IFERROR(AJ31*(1-($AR$16*($F33-$AU$16))),"DNM") -> 83.75 | AK33: =IFERROR(AK31*(1-($AR$16*($F33-$AU$16))),"DNM") -> 125.625 | AL33: =IFERROR(AL31*(1-($AR$16*($F33-$AU$16))),"DNM") -> 166.6625 | AM33: =IFERROR(AM31*(1-($AR$16*($F33-$AU$16))),"DNM") -> 215.2375 | AN33: =IFERROR(AN31*(1-($AR$16*($F33-$AU$16))),"DNM") -> 273.8625
C34: 4-27 ga | E34: SAF-Q-406-G27 | F34: 6 | H34: =IFERROR(H35*(1-($AR$16*($F34-$AU$16))),"DNM") -> 23.341965 | I34: =IFERROR(I35*(1-($AR$16*($F34-$AU$16))),"DNM") -> 33.547259 | J34: =IFERROR(J35*(1-($AR$16*($F34-$AU$16))),"DNM") -> 44.374906 | K34: =IFERROR(K35*(1-($AR$16*($F34-$AU$16))),"DNM") -> 57.473305 | L34: =IFERROR(L35*(1-($AR$16*($F34-$AU$16))),"DNM") -> 66.10313 | N34: =IFERROR(N35*(1-($AR$16*($F34-$AU$16))),"DNM") -> 60.3625 | O34: =IFERROR(O35*(1-($AR$16*($F34-$AU$16))),"DNM") -> 109.75 | P34: =IFERROR(P35*(1-($AR$16*($F34-$AU$16))),"DNM") -> 164.625 | Q34: =IFERROR(Q35*(1-($AR$16*($F34-$AU$16))),"DNM") -> 218.4025 | R34: =IFERROR(R35*(1-($AR$16*($F34-$AU$16))),"DNM") -> 282.0575 | S34: =IFERROR(S35*(1-($AR$16*($F34-$AU$16))),"DNM") -> 358.8825 | AI34: =IFERROR(AI35*(1-($AR$16*($F34-$AU$16))),"DNM") -> 60.3625 | AJ34: =IFERROR(AJ35*(1-($AR$16*($F34-$AU$16))),"DNM") -> 109.75 | AK34: =IFERROR(AK35*(1-($AR$16*($F34-$AU$16))),"DNM") -> 164.625 | AL34: =IFERROR(AL35*(1-($AR$16*($F34-$AU$16))),"DNM") -> 218.4025 | AM34: =IFERROR(AM35*(1-($AR$16*($F34-$AU$16))),"DNM") -> 282.0575 | AN34: =IFERROR(AN35*(1-($AR$16*($F34-$AU$16))),"DNM") -> 358.8825
C35: 4-27 ga | E35: SAF-Q-409-G27 | F35: 9 | H35: =H31 -> 21.268305 | I35: =I31 -> 30.566979 | J35: =J31 -> 40.432716 | K35: =K31 -> 52.367476 | L35: =L31 -> 60.230642 | N35: =N31 -> 55 | O35: =O31 -> 100 | P35: =P31 -> 150 | Q35: =Q31 -> 199 | R35: =R31 -> 257 | S35: =S31 -> 327 | AI35: =AI31 -> 55 | AJ35: =AJ31 -> 100 | AK35: =AK31 -> 150 | AL35: =AL31 -> 199 | AM35: =AM31 -> 257 | AN35: =AN31 -> 327
C36: 4-27 ga | E36: SAF-Q-412-G27 | F36: 12 | H36: =IFERROR(H35*(1-($AR$16*($F36-$AU$16))),"DNM") -> 19.194645 | I36: =IFERROR(I35*(1-($AR$16*($F36-$AU$16))),"DNM") -> 27.586698 | J36: =IFERROR(J35*(1-($AR$16*($F36-$AU$16))),"DNM") -> 36.490526 | K36: =IFERROR(K35*(1-($AR$16*($F36-$AU$16))),"DNM") -> 47.261647 | L36: =IFERROR(L35*(1-($AR$16*($F36-$AU$16))),"DNM") -> 54.358154 | N36: =IFERROR(N35*(1-($AR$16*($F36-$AU$16))),"DNM") -> 49.6375 | O36: =IFERROR(O35*(1-($AR$16*($F36-$AU$16))),"DNM") -> 90.25 | P36: =IFERROR(P35*(1-($AR$16*($F36-$AU$16))),"DNM") -> 135.375 | Q36: =IFERROR(Q35*(1-($AR$16*($F36-$AU$16))),"DNM") -> 179.5975 | R36: =IFERROR(R35*(1-($AR$16*($F36-$AU$16))),"DNM") -> 231.9425 | S36: =IFERROR(S35*(1-($AR$16*($F36-$AU$16))),"DNM") -> 295.1175 | AI36: =IFERROR(AI35*(1-($AR$16*($F36-$AU$16))),"DNM") -> 49.6375 | AJ36: =IFERROR(AJ35*(1-($AR$16*($F36-$AU$16))),"DNM") -> 90.25 | AK36: =IFERROR(AK35*(1-($AR$16*($F36-$AU$16))),"DNM") -> 135.375 | AL36: =IFERROR(AL35*(1-($AR$16*($F36-$AU$16))),"DNM") -> 179.5975 | AM36: =IFERROR(AM35*(1-($AR$16*($F36-$AU$16))),"DNM") -> 231.9425 | AN36: =IFERROR(AN35*(1-($AR$16*($F36-$AU$16))),"DNM") -> 295.1175
C37: 4-24 ga | D37: SUB-409-G24 | F37: 9 | H37: 20.667108 | I37: 41.433059 | J37: 57.035211 | K37: 86.21449 | L37: 171.02328
C38: 4-24 ga | D38: SUB-412-G24 | F38: 12 | H38: =IFERROR(H37*(1-($AR$16*($F38-$AU$16))),"DNM") -> 18.652065 | I38: =IFERROR(I37*(1-($AR$16*($F38-$AU$16))),"DNM") -> 37.393336 | J38: =IFERROR(J37*(1-($AR$16*($F38-$AU$16))),"DNM") -> 51.474278 | K38: =IFERROR(K37*(1-($AR$16*($F38-$AU$16))),"DNM") -> 77.808577 | L38: =IFERROR(L37*(1-($AR$16*($F38-$AU$16))),"DNM") -> 154.34851
C39: 5-27 ga | E39: SUB-506 | F39: 6 | H39: =IFERROR(H40*(1-($AR$16*($F39-$AU$16))),"DNM") -> 22.482236 | I39: =IFERROR(I40*(1-($AR$16*($F39-$AU$16))),"DNM") -> 33.382908 | J39: =IFERROR(J40*(1-($AR$16*($F39-$AU$16))),"DNM") -> 51.304845 | K39: =IFERROR(K40*(1-($AR$16*($F39-$AU$16))),"DNM") -> 67.517619 | L39: =IFERROR(L40*(1-($AR$16*($F39-$AU$16))),"DNM") -> 91.602911 | N39: =IFERROR(N40*(1-($AR$16*($F39-$AU$16))),"DNM") -> 65.85 | O39: =IFERROR(O40*(1-($AR$16*($F39-$AU$16))),"DNM") -> 118.53 | P39: =IFERROR(P40*(1-($AR$16*($F39-$AU$16))),"DNM") -> 177.795 | Q39: =IFERROR(Q40*(1-($AR$16*($F39-$AU$16))),"DNM") -> 234.865 | R39: =IFERROR(R40*(1-($AR$16*($F39-$AU$16))),"DNM") -> 307.3 | S39: =IFERROR(S40*(1-($AR$16*($F39-$AU$16))),"DNM") -> 404.9775 | AI39: =IFERROR(AI40*(1-($AR$16*($F39-$AU$16))),"DNM") -> 65.85 | AJ39: =IFERROR(AJ40*(1-($AR$16*($F39-$AU$16))),"DNM") -> 118.53 | AK39: =IFERROR(AK40*(1-($AR$16*($F39-$AU$16))),"DNM") -> 177.795 | AL39: =IFERROR(AL40*(1-($AR$16*($F39-$AU$16))),"DNM") -> 234.865 | AM39: =IFERROR(AM40*(1-($AR$16*($F39-$AU$16))),"DNM") -> 307.3 | AN39: =IFERROR(AN40*(1-($AR$16*($F39-$AU$16))),"DNM") -> 404.9775
C40: 5-27 ga | E40: SUB-509 | F40: 9 | H40: 20.484953 | I40: 30.417228 | J40: 46.747012 | K40: 61.51947 | L40: 83.465067 | N40: 60 | O40: 108 | P40: 162 | Q40: 214 | R40: 280 | S40: 369 | AI40: 60 | AJ40: 108 | AK40: 162 | AL40: 214 | AM40: 280 | AN40: 369
C41: 5-27 ga | E41: SAF-Q-509-G27 | F41: 9 | H41: =H40 -> 20.484953 | I41: =I40 -> 30.417228 | J41: =J40 -> 46.747012 | K41: =K40 -> 61.51947 | L41: =L40 -> 83.465067 | N41: =N40 -> 60 | O41: =O40 -> 108 | P41: =P40 -> 162 | Q41: =Q40 -> 214 | R41: =R40 -> 280 | S41: =S40 -> 369 | AI41: =AI40 -> 60 | AJ41: =AJ40 -> 108 | AK41: =AK40 -> 162 | AL41: =AL40 -> 214 | AM41: =AM40 -> 280 | AN41: =AN40 -> 369
C42: 5-24 ga | D42: SUB-512-G24 | F42: 12 | G42: 12.297093 | H42: 22.584516 | I42: 42.944724 | J42: 54.946356 | K42: 101.24251 | L42: 179.65912
C43: 6-27 ga | E43: SUB-606 | F43: 6 | H43: =IFERROR(H44*(1-($AR$16*($F43-$AU$16))),"DNM") -> 22.231803 | I43: =IFERROR(I44*(1-($AR$16*($F43-$AU$16))),"DNM") -> 37.300499 | J43: =IFERROR(J44*(1-($AR$16*($F43-$AU$16))),"DNM") -> 51.919205 | K43: =IFERROR(K44*(1-($AR$16*($F43-$AU$16))),"DNM") -> 77.386123 | L43: =IFERROR(L44*(1-($AR$16*($F43-$AU$16))),"DNM") -> 99.429733
C44: 6-27 ga | E44: SUB-609 | F44: 9 | H44: 20.256769 | I44: 33.986787 | J44: 47.306793 | K44: 70.511274 | L44: 90.596568
C45: 6-27 ga | E45: SAF-Q-609-G27 | F45: 9 | H45: =H44 -> 20.256769 | I45: =I44 -> 33.986787 | J45: =J44 -> 47.306793 | K45: =K44 -> 70.511274 | L45: =L44 -> 90.596568
C46: 6-24 ga | D46: SUB-612-G24 | F46: 12 | G46: 11.352641 | H46: 23.583542 | I46: 46.350517 | J46: 63.925711 | K46: 118.44305 | L46: 233.15817
B47: SCIg60 Infuser | C47: 1 | E47: SUB-104-G27 | F47: 4 | H47: =IFERROR(H49*(1-($AR$16*($F47-$AU$16))),"DNM") -> 11.543478 | I47: =IFERROR(I49*(1-($AR$16*($F47-$AU$16))),"DNM") -> 14.860038 | J47: =IFERROR(J49*(1-($AR$16*($F47-$AU$16))),"DNM") -> 15.874508 | K47: =IFERROR(K49*(1-($AR$16*($F47-$AU$16))),"DNM") -> 16.606748 | L47: =IFERROR(L49*(1-($AR$16*($F47-$AU$16))),"DNM") -> 21.039619 | U47: =IFERROR(U49*(1-($AR$16*($F47-$AU$16))),"DNM") -> 13.098559 | V47: =IFERROR(V49*(1-($AR$16*($F47-$AU$16))),"DNM") -> 17.46611 | W47: =IFERROR(W49*(1-($AR$16*($F47-$AU$16))),"DNM") -> 22.014479 | X47: =IFERROR(X49*(1-($AR$16*($F47-$AU$16))),"DNM") -> 24.170028 | Y47: =IFERROR(Y49*(1-($AR$16*($F47-$AU$16))),"DNM") -> 28.391028 | Z47: =IFERROR(Z49*(1-($AR$16*($F47-$AU$16))),"DNM") -> 29.00812 | AB47: =IFERROR(AB49*(1-($AR$16*($F47-$AU$16))),"DNM") -> 14.083861 | AC47: =IFERROR(AC49*(1-($AR$16*($F47-$AU$16))),"DNM") -> 18.779949 | AD47: =IFERROR(AD49*(1-($AR$16*($F47-$AU$16))),"DNM") -> 23.670456 | AE47: =IFERROR(AE49*(1-($AR$16*($F47-$AU$16))),"DNM") -> 25.98815 | AF47: =IFERROR(AF49*(1-($AR$16*($F47-$AU$16))),"DNM") -> 30.526663 | AG47: =IFERROR(AG49*(1-($AR$16*($F47-$AU$16))),"DNM") -> 31.190174
C48: 1 | E48: SUB-106-G27 | F48: 6 | H48: =IFERROR(H49*(1-($AR$16*($F48-$AU$16))),"DNM") -> 10.898036 | I48: =IFERROR(I49*(1-($AR$16*($F48-$AU$16))),"DNM") -> 14.029154 | J48: =IFERROR(J49*(1-($AR$16*($F48-$AU$16))),"DNM") -> 14.986901 | K48: =IFERROR(K49*(1-($AR$16*($F48-$AU$16))),"DNM") -> 15.678199 | L48: =IFERROR(L49*(1-($AR$16*($F48-$AU$16))),"DNM") -> 19.86321 | U48: =IFERROR(U49*(1-($AR$16*($F48-$AU$16))),"DNM") -> 12.366166 | V48: =IFERROR(V49*(1-($AR$16*($F48-$AU$16))),"DNM") -> 16.48951 | W48: =IFERROR(W49*(1-($AR$16*($F48-$AU$16))),"DNM") -> 20.783562 | X48: =IFERROR(X49*(1-($AR$16*($F48-$AU$16))),"DNM") -> 22.818585 | Y48: =IFERROR(Y49*(1-($AR$16*($F48-$AU$16))),"DNM") -> 26.803572 | Z48: =IFERROR(Z49*(1-($AR$16*($F48-$AU$16))),"DNM") -> 27.386161 | AB48: =IFERROR(AB49*(1-($AR$16*($F48-$AU$16))),"DNM") -> 13.296376 | AC48: =IFERROR(AC49*(1-($AR$16*($F48-$AU$16))),"DNM") -> 17.729887 | AD48: =IFERROR(AD49*(1-($AR$16*($F48-$AU$16))),"DNM") -> 22.346947 | AE48: =IFERROR(AE49*(1-($AR$16*($F48-$AU$16))),"DNM") -> 24.535049 | AF48: =IFERROR(AF49*(1-($AR$16*($F48-$AU$16))),"DNM") -> 28.819796 | AG48: =IFERROR(AG49*(1-($AR$16*($F48-$AU$16))),"DNM") -> 29.446207
C49: 1 | E49: SUB-109-G27 | F49: 9 | H49: 9.9298733 | I49: 12.782828 | J49: 13.655491 | K49: 14.285375 | L49: 18.098597 | U49: =AB49-(AB49*$AR$19) -> 11.267578 | V49: =AC49-(AC49*$AR$19) -> 15.024611 | W49: =AD49-(AD49*$AR$19) -> 18.937186 | X49: =AE49-(AE49*$AR$19) -> 20.791422 | Y49: =AF49-(AF49*$AR$19) -> 24.422389 | Z49: =AG49-(AG49*$AR$19) -> 24.953222 | AB49: 12.115149 | AC49: 16.154795 | AD49: 20.361683 | AE49: 22.355398 | AF49: 26.259495 | AG49: 26.830257
C50: 1 | E50: SAF-Q-106-G27 | F50: 6 | H50: =IFERROR(H51*(1-($AR$16*($F50-$AU$16))),"DNM") -> 10.898036 | I50: =IFERROR(I51*(1-($AR$16*($F50-$AU$16))),"DNM") -> 14.029154 | J50: =IFERROR(J51*(1-($AR$16*($F50-$AU$16))),"DNM") -> 14.986901 | K50: =IFERROR(K51*(1-($AR$16*($F50-$AU$16))),"DNM") -> 15.678199 | L50: =IFERROR(L51*(1-($AR$16*($F50-$AU$16))),"DNM") -> 19.86321 | U50: =IFERROR(U51*(1-($AR$16*($F50-$AU$16))),"DNM") -> 12.366166 | V50: =IFERROR(V51*(1-($AR$16*($F50-$AU$16))),"DNM") -> 16.48951 | W50: =IFERROR(W51*(1-($AR$16*($F50-$AU$16))),"DNM") -> 20.783562 | X50: =IFERROR(X51*(1-($AR$16*($F50-$AU$16))),"DNM") -> 22.818585 | Y50: =IFERROR(Y51*(1-($AR$16*($F50-$AU$16))),"DNM") -> 26.803572 | Z50: =IFERROR(Z51*(1-($AR$16*($F50-$AU$16))),"DNM") -> 27.386161 | AB50: =IFERROR(AB51*(1-($AR$16*($F50-$AU$16))),"DNM") -> 13.296376 | AC50: =IFERROR(AC51*(1-($AR$16*($F50-$AU$16))),"DNM") -> 17.729887 | AD50: =IFERROR(AD51*(1-($AR$16*($F50-$AU$16))),"DNM") -> 22.346947 | AE50: =IFERROR(AE51*(1-($AR$16*($F50-$AU$16))),"DNM") -> 24.535049 | AF50: =IFERROR(AF51*(1-($AR$16*($F50-$AU$16))),"DNM") -> 28.819796 | AG50: =IFERROR(AG51*(1-($AR$16*($F50-$AU$16))),"DNM") -> 29.446207
C51: 1 | E51: SAF-Q-109-G27 | F51: 9 | H51: =H49 -> 9.9298733 | I51: =I49 -> 12.782828 | J51: =J49 -> 13.655491 | K51: =K49 -> 14.285375 | L51: =L49 -> 18.098597 | U51: =AB51-(AB51*$AR$19) -> 11.267578 | V51: =AC51-(AC51*$AR$19) -> 15.024611 | W51: =AD51-(AD51*$AR$19) -> 18.937186 | X51: =AE51-(AE51*$AR$19) -> 20.791422 | Y51: =AF51-(AF51*$AR$19) -> 24.422389 | Z51: =AG51-(AG51*$AR$19) -> 24.953222 | AB51: =AB49 -> 12.115149 | AC51: =AC49 -> 16.154795 | AD51: =AD49 -> 20.361683 | AE51: =AE49 -> 22.355398 | AF51: =AF49 -> 26.259495 | AG51: =AG49 -> 26.830257
C52: 1 | D52: SUB-109-G24 | F52: 9 | G52: 6.4555787 | H52: 15.74958 | I52: 24.449467 | J52: 27.08687 | K52: 34.765511 | L52: 43.167051 | U52: =AB52-(AB52*$AR$19) -> 19.214825 | V52: =AC52-(AC52*$AR$19) -> 28.010041 | Z52: =AG52-(AG52*$AR$19) -> 100.14746 | AB52: 20.660206 | AC52: 30.117017 | AG52: 107.68077
C53: 1 | D53: SUB-112-G24 | F53: 12 | G53: =IFERROR(G52*(1-($AR$16*($F53-$AU$16))),"DNM") -> 5.8261598 | H53: =IFERROR(H52*(1-($AR$16*($F53-$AU$16))),"DNM") -> 14.213996 | I53: =IFERROR(I52*(1-($AR$16*($F53-$AU$16))),"DNM") -> 22.065644 | J53: =IFERROR(J52*(1-($AR$16*($F53-$AU$16))),"DNM") -> 24.4459 | K53: =IFERROR(K52*(1-($AR$16*($F53-$AU$16))),"DNM") -> 31.375874 | L53: =IFERROR(L52*(1-($AR$16*($F53-$AU$16))),"DNM") -> 38.958264 | U53: =IFERROR(U52*(1-($AR$16*($F53-$AU$16))),"DNM") -> 17.34138 | V53: =IFERROR(V52*(1-($AR$16*($F53-$AU$16))),"DNM") -> 25.279062 | Z53: =IFERROR(Z52*(1-($AR$16*($F53-$AU$16))),"DNM") -> 90.383082 | AB53: =IFERROR(AB52*(1-($AR$16*($F53-$AU$16))),"DNM") -> 18.645836 | AC53: =IFERROR(AC52*(1-($AR$16*($F53-$AU$16))),"DNM") -> 27.180608 | AG53: =IFERROR(AG52*(1-($AR$16*($F53-$AU$16))),"DNM") -> 97.181894
C54: 1 | D54: SAF-Q-106-G24 | F54: 6 | G54: =IFERROR(G55*(1-($AR$16*($F54-$AU$16))),"DNM") -> 7.0849976 | H54: =IFERROR(H55*(1-($AR$16*($F54-$AU$16))),"DNM") -> 17.285164 | I54: =IFERROR(I55*(1-($AR$16*($F54-$AU$16))),"DNM") -> 26.83329 | J54: =IFERROR(J55*(1-($AR$16*($F54-$AU$16))),"DNM") -> 29.727839 | K54: =IFERROR(K55*(1-($AR$16*($F54-$AU$16))),"DNM") -> 38.155148 | L54: =IFERROR(L55*(1-($AR$16*($F54-$AU$16))),"DNM") -> 47.375839 | U54: =IFERROR(U55*(1-($AR$16*($F54-$AU$16))),"DNM") -> 21.088271 | V54: =IFERROR(V55*(1-($AR$16*($F54-$AU$16))),"DNM") -> 30.74102 | Z54: =IFERROR(Z55*(1-($AR$16*($F54-$AU$16))),"DNM") -> 109.91184 | AB54: =IFERROR(AB55*(1-($AR$16*($F54-$AU$16))),"DNM") -> 22.674576 | AC54: =IFERROR(AC55*(1-($AR$16*($F54-$AU$16))),"DNM") -> 33.053426 | AG54: =IFERROR(AG55*(1-($AR$16*($F54-$AU$16))),"DNM") -> 118.17964
C55: 1 | D55: SAF-Q-109-G24 | F55: 9 | G55: =G52 -> 6.4555787 | H55: =H52 -> 15.74958 | I55: =I52 -> 24.449467 | J55: =J52 -> 27.08687 | K55: =K52 -> 34.765511 | L55: =L52 -> 43.167051 | U55: =AB55-(AB55*$AR$19) -> 19.214825 | V55: =AC55-(AC55*$AR$19) -> 28.010041 | Z55: =AG55-(AG55*$AR$19) -> 100.14746 | AB55: =AB52 -> 20.660206 | AC55: =AC52 -> 30.117017 | AG55: =AG52 -> 107.68077
C56: 2 | E56: SUB-204-G27 | F56: 4 | H56: =IFERROR(H58*(1-($AR$16*($F56-$AU$16))),"DNM") -> 19.229174 | I56: =IFERROR(I58*(1-($AR$16*($F56-$AU$16))),"DNM") -> 25.117783 | J56: =IFERROR(J58*(1-($AR$16*($F56-$AU$16))),"DNM") -> 28.763986 | K56: =IFERROR(K58*(1-($AR$16*($F56-$AU$16))),"DNM") -> 34.405714 | L56: =IFERROR(L58*(1-($AR$16*($F56-$AU$16))),"DNM") -> 41.077361 | U56: =IFERROR(U58*(1-($AR$16*($F56-$AU$16))),"DNM") -> 16.67233 | V56: =IFERROR(V58*(1-($AR$16*($F56-$AU$16))),"DNM") -> 25.847287 | W56: =IFERROR(W58*(1-($AR$16*($F56-$AU$16))),"DNM") -> 35.047595 | X56: =IFERROR(X58*(1-($AR$16*($F56-$AU$16))),"DNM") -> 43.549299 | Y56: =IFERROR(Y58*(1-($AR$16*($F56-$AU$16))),"DNM") -> 50.88184 | Z56: =IFERROR(Z58*(1-($AR$16*($F56-$AU$16))),"DNM") -> 56.37547 | AB56: =IFERROR(AB58*(1-($AR$16*($F56-$AU$16))),"DNM") -> 17.926459 | AC56: =IFERROR(AC58*(1-($AR$16*($F56-$AU$16))),"DNM") -> 27.791576 | AD56: =IFERROR(AD58*(1-($AR$16*($F56-$AU$16))),"DNM") -> 37.683951 | AE56: =IFERROR(AE58*(1-($AR$16*($F56-$AU$16))),"DNM") -> 46.825172 | AF56: =IFERROR(AF58*(1-($AR$16*($F56-$AU$16))),"DNM") -> 54.709283 | AG56: =IFERROR(AG58*(1-($AR$16*($F56-$AU$16))),"DNM") -> 60.616156
C57: 2 | E57: SUB-250 | F57: 6 | H57: =IFERROR(H58*(1-($AR$16*($F57-$AU$16))),"DNM") -> 18.153995 | I57: =IFERROR(I58*(1-($AR$16*($F57-$AU$16))),"DNM") -> 23.713348 | J57: =IFERROR(J58*(1-($AR$16*($F57-$AU$16))),"DNM") -> 27.155677 | K57: =IFERROR(K58*(1-($AR$16*($F57-$AU$16))),"DNM") -> 32.481954 | L57: =IFERROR(L58*(1-($AR$16*($F57-$AU$16))),"DNM") -> 38.780563 | U57: =IFERROR(U58*(1-($AR$16*($F57-$AU$16))),"DNM") -> 15.740114 | V57: =IFERROR(V58*(1-($AR$16*($F57-$AU$16))),"DNM") -> 24.402062 | W57: =IFERROR(W58*(1-($AR$16*($F57-$AU$16))),"DNM") -> 33.087944 | X57: =IFERROR(X58*(1-($AR$16*($F57-$AU$16))),"DNM") -> 41.114285 | Y57: =IFERROR(Y58*(1-($AR$16*($F57-$AU$16))),"DNM") -> 48.036834 | Z57: =IFERROR(Z58*(1-($AR$16*($F57-$AU$16))),"DNM") -> 53.223293 | AB57: =IFERROR(AB58*(1-($AR$16*($F57-$AU$16))),"DNM") -> 16.924119 | AC57: =IFERROR(AC58*(1-($AR$16*($F57-$AU$16))),"DNM") -> 26.237639 | AD57: =IFERROR(AD58*(1-($AR$16*($F57-$AU$16))),"DNM") -> 35.576892 | AE57: =IFERROR(AE58*(1-($AR$16*($F57-$AU$16))),"DNM") -> 44.206991 | AF57: =IFERROR(AF58*(1-($AR$16*($F57-$AU$16))),"DNM") -> 51.650269 | AG57: =IFERROR(AG58*(1-($AR$16*($F57-$AU$16))),"DNM") -> 57.226865
C58: 2 | E58: SUB-260 | F58: 9 | H58: 16.541225 | I58: 21.606695 | J58: 24.743213 | K58: 29.596313 | L58: 35.335365 | U58: =AB58-(AB58*$AR$19) -> 14.341789 | V58: =AC58-(AC58*$AR$19) -> 22.234225 | W58: =AD58-(AD58*$AR$19) -> 30.148469 | X58: =AE58-(AE58*$AR$19) -> 37.461763 | Y58: =AF58-(AF58*$AR$19) -> 43.769325 | Z58: =AG58-(AG58*$AR$19) -> 48.495028 | AB58: 15.42061 | AC58: 23.906732 | AD58: 32.416302 | AE58: 40.279718 | AF58: 47.061749 | AG58: 52.14293
C59: 2 | E59: SUB-212-G27 | F59: 12 | H59: =IFERROR(H58*(1-($AR$16*($F59-$AU$16))),"DNM") -> 14.928456 | I59: =IFERROR(I58*(1-($AR$16*($F59-$AU$16))),"DNM") -> 19.500042 | J59: =IFERROR(J58*(1-($AR$16*($F59-$AU$16))),"DNM") -> 22.33075 | K59: =IFERROR(K58*(1-($AR$16*($F59-$AU$16))),"DNM") -> 26.710673 | L59: =IFERROR(L58*(1-($AR$16*($F59-$AU$16))),"DNM") -> 31.890167 | U59: =IFERROR(U58*(1-($AR$16*($F59-$AU$16))),"DNM") -> 12.943465 | V59: =IFERROR(V58*(1-($AR$16*($F59-$AU$16))),"DNM") -> 20.066388 | W59: =IFERROR(W58*(1-($AR$16*($F59-$AU$16))),"DNM") -> 27.208993 | X59: =IFERROR(X58*(1-($AR$16*($F59-$AU$16))),"DNM") -> 33.809241 | Y59: =IFERROR(Y58*(1-($AR$16*($F59-$AU$16))),"DNM") -> 39.501816 | Z59: =IFERROR(Z58*(1-($AR$16*($F59-$AU$16))),"DNM") -> 43.766763 | AB59: =IFERROR(AB58*(1-($AR$16*($F59-$AU$16))),"DNM") -> 13.9171 | AC59: =IFERROR(AC58*(1-($AR$16*($F59-$AU$16))),"DNM") -> 21.575826 | AD59: =IFERROR(AD58*(1-($AR$16*($F59-$AU$16))),"DNM") -> 29.255713 | AE59: =IFERROR(AE58*(1-($AR$16*($F59-$AU$16))),"DNM") -> 36.352446 | AF59: =IFERROR(AF58*(1-($AR$16*($F59-$AU$16))),"DNM") -> 42.473228 | AG59: =IFERROR(AG58*(1-($AR$16*($F59-$AU$16))),"DNM") -> 47.058994
C60: 2 | E60: SAF-Q-206-G27 | F60: 6 | H60: =IFERROR(H61*(1-($AR$16*($F60-$AU$16))),"DNM") -> 18.153995 | I60: =IFERROR(I61*(1-($AR$16*($F60-$AU$16))),"DNM") -> 23.713348 | J60: =IFERROR(J61*(1-($AR$16*($F60-$AU$16))),"DNM") -> 27.155677 | K60: =IFERROR(K61*(1-($AR$16*($F60-$AU$16))),"DNM") -> 32.481954 | L60: =IFERROR(L61*(1-($AR$16*($F60-$AU$16))),"DNM") -> 38.780563 | U60: =IFERROR(U61*(1-($AR$16*($F60-$AU$16))),"DNM") -> 15.740114 | V60: =IFERROR(V61*(1-($AR$16*($F60-$AU$16))),"DNM") -> 24.402062 | W60: =IFERROR(W61*(1-($AR$16*($F60-$AU$16))),"DNM") -> 33.087944 | X60: =IFERROR(X61*(1-($AR$16*($F60-$AU$16))),"DNM") -> 41.114285 | Y60: =IFERROR(Y61*(1-($AR$16*($F60-$AU$16))),"DNM") -> 48.036834 | Z60: =IFERROR(Z61*(1-($AR$16*($F60-$AU$16))),"DNM") -> 53.223293 | AB60: =IFERROR(AB61*(1-($AR$16*($F60-$AU$16))),"DNM") -> 16.924119 | AC60: =IFERROR(AC61*(1-($AR$16*($F60-$AU$16))),"DNM") -> 26.237639 | AD60: =IFERROR(AD61*(1-($AR$16*($F60-$AU$16))),"DNM") -> 35.576892 | AE60: =IFERROR(AE61*(1-($AR$16*($F60-$AU$16))),"DNM") -> 44.206991 | AF60: =IFERROR(AF61*(1-($AR$16*($F60-$AU$16))),"DNM") -> 51.650269 | AG60: =IFERROR(AG61*(1-($AR$16*($F60-$AU$16))),"DNM") -> 57.226865
C61: 2 | E61: SAF-Q-209-G27 | F61: 9 | H61: =H58 -> 16.541225 | I61: =I58 -> 21.606695 | J61: =J58 -> 24.743213 | K61: =K58 -> 29.596313 | L61: =L58 -> 35.335365 | U61: =AB61-(AB61*$AR$19) -> 14.341789 | V61: =AC61-(AC61*$AR$19) -> 22.234225 | W61: =AD61-(AD61*$AR$19) -> 30.148469 | X61: =AE61-(AE61*$AR$19) -> 37.461763 | Y61: =AF61-(AF61*$AR$19) -> 43.769325 | Z61: =AG61-(AG61*$AR$19) -> 48.495028 | AB61: =AB58 -> 15.42061 | AC61: =AC58 -> 23.906732 | AD61: =AD58 -> 32.416302 | AE61: =AE58 -> 40.279718 | AF61: =AF58 -> 47.061749 | AG61: =AG58 -> 52.14293
C62: 2 | E62: SAF-Q-212-G27 | F62: 12 | H62: =IFERROR(H61*(1-($AR$16*($F62-$AU$16))),"DNM") -> 14.928456 | I62: =IFERROR(I61*(1-($AR$16*($F62-$AU$16))),"DNM") -> 19.500042 | J62: =IFERROR(J61*(1-($AR$16*($F62-$AU$16))),"DNM") -> 22.33075 | K62: =IFERROR(K61*(1-($AR$16*($F62-$AU$16))),"DNM") -> 26.710673 | L62: =IFERROR(L61*(1-($AR$16*($F62-$AU$16))),"DNM") -> 31.890167 | U62: =IFERROR(U61*(1-($AR$16*($F62-$AU$16))),"DNM") -> 12.943465 | V62: =IFERROR(V61*(1-($AR$16*($F62-$AU$16))),"DNM") -> 20.066388 | W62: =IFERROR(W61*(1-($AR$16*($F62-$AU$16))),"DNM") -> 27.208993 | X62: =IFERROR(X61*(1-($AR$16*($F62-$AU$16))),"DNM") -> 33.809241 | Y62: =IFERROR(Y61*(1-($AR$16*($F62-$AU$16))),"DNM") -> 39.501816 | Z62: =IFERROR(Z61*(1-($AR$16*($F62-$AU$16))),"DNM") -> 43.766763 | AB62: =IFERROR(AB61*(1-($AR$16*($F62-$AU$16))),"DNM") -> 13.9171 | AC62: =IFERROR(AC61*(1-($AR$16*($F62-$AU$16))),"DNM") -> 21.575826 | AD62: =IFERROR(AD61*(1-($AR$16*($F62-$AU$16))),"DNM") -> 29.255713 | AE62: =IFERROR(AE61*(1-($AR$16*($F62-$AU$16))),"DNM") -> 36.352446 | AF62: =IFERROR(AF61*(1-($AR$16*($F62-$AU$16))),"DNM") -> 42.473228 | AG62: =IFERROR(AG61*(1-($AR$16*($F62-$AU$16))),"DNM") -> 47.058994
C63: 2 | D63: SUB-209-G24 | F63: 9 | H63: 18.641072 | I63: 33.112366 | J63: 36.942304 | K63: 58.837708 | L63: 84.957259 | U63: =AB63-(AB63*$AR$19) -> 20.027138 | V63: =AC63-(AC63*$AR$19) -> 34.163596 | W63: =AD63-(AD63*$AR$19) -> 48.074413 | X63: =AE63-(AE63*$AR$19) -> 72.248636 | Z63: =AG63-(AG63*$AR$19) -> 86.465637 | AB63: 21.533623 | AC63: 36.733456 | AD63: 51.690676 | AE63: 77.683335 | AG63: 92.96977
C64: 2 | D64: SUB-212-G24 | F64: 12 | H64: =IFERROR(H63*(1-($AR$16*($F64-$AU$16))),"DNM") -> 16.823567 | I64: =IFERROR(I63*(1-($AR$16*($F64-$AU$16))),"DNM") -> 29.883911 | J64: =IFERROR(J63*(1-($AR$16*($F64-$AU$16))),"DNM") -> 33.34043 | K64: =IFERROR(K63*(1-($AR$16*($F64-$AU$16))),"DNM") -> 53.101032 | L64: =IFERROR(L63*(1-($AR$16*($F64-$AU$16))),"DNM") -> 76.673926 | U64: =IFERROR(U63*(1-($AR$16*($F64-$AU$16))),"DNM") -> 18.074492 | V64: =IFERROR(V63*(1-($AR$16*($F64-$AU$16))),"DNM") -> 30.832645 | W64: =IFERROR(W63*(1-($AR$16*($F64-$AU$16))),"DNM") -> 43.387158 | X64: =IFERROR(X63*(1-($AR$16*($F64-$AU$16))),"DNM") -> 65.204394 | Z64: =IFERROR(Z63*(1-($AR$16*($F64-$AU$16))),"DNM") -> 78.035237 | AB64: =IFERROR(AB63*(1-($AR$16*($F64-$AU$16))),"DNM") -> 19.434094 | AC64: =IFERROR(AC63*(1-($AR$16*($F64-$AU$16))),"DNM") -> 33.151944 | AD64: =IFERROR(AD63*(1-($AR$16*($F64-$AU$16))),"DNM") -> 46.650835 | AE64: =IFERROR(AE63*(1-($AR$16*($F64-$AU$16))),"DNM") -> 70.10921 | AG64: =IFERROR(AG63*(1-($AR$16*($F64-$AU$16))),"DNM") -> 83.905218
C65: 3 | E65: SUB-310 | F65: 6 | H65: =IFERROR(H66*(1-($AR$16*($F65-$AU$16))),"DNM") -> 22.727482 | I65: =IFERROR(I66*(1-($AR$16*($F65-$AU$16))),"DNM") -> 29.979809 | J65: =IFERROR(J66*(1-($AR$16*($F65-$AU$16))),"DNM") -> 39.1578 | K65: =IFERROR(K66*(1-($AR$16*($F65-$AU$16))),"DNM") -> 43.345769 | L65: =IFERROR(L66*(1-($AR$16*($F65-$AU$16))),"DNM") -> 51.20427 | N65: =N22/(1+N$92) -> 46.782178 | O65: =O22/(1+O$92) -> 87.419672 | P65: =P22/(1+P$92) -> 128.50676 | Q65: =Q22/(1+Q$92) -> 163.03279 | R65: =R22/(1+R$92) -> 193.11182 | S65: =S22/(1+S$92) -> 225.68661 | U65: =IFERROR(U66*(1-($AR$16*($F65-$AU$16))),"DNM") -> 17.469923 | V65: =IFERROR(V66*(1-($AR$16*($F65-$AU$16))),"DNM") -> 30.146247 | W65: =IFERROR(W66*(1-($AR$16*($F65-$AU$16))),"DNM") -> 40.963401 | X65: =IFERROR(X66*(1-($AR$16*($F65-$AU$16))),"DNM") -> 53.597551 | Y65: =IFERROR(Y66*(1-($AR$16*($F65-$AU$16))),"DNM") -> 69.827358 | Z65: =IFERROR(Z66*(1-($AR$16*($F65-$AU$16))),"DNM") -> 73.915768 | AB65: =IFERROR(AB66*(1-($AR$16*($F65-$AU$16))),"DNM") -> 18.784049 | AC65: =IFERROR(AC66*(1-($AR$16*($F65-$AU$16))),"DNM") -> 32.413914 | AD65: =IFERROR(AD66*(1-($AR$16*($F65-$AU$16))),"DNM") -> 44.044758 | AE65: =IFERROR(AE66*(1-($AR$16*($F65-$AU$16))),"DNM") -> 57.629276 | AF65: =IFERROR(AF66*(1-($AR$16*($F65-$AU$16))),"DNM") -> 75.079924 | AG65: =IFERROR(AG66*(1-($AR$16*($F65-$AU$16))),"DNM") -> 79.475873 | AI65: =AI22/(1+AI$92) -> 46.782178 | AJ65: =AJ22/(1+AJ$92) -> 87.419672 | AK65: =AK22/(1+AK$92) -> 128.50676 | AL65: =AL22/(1+AL$92) -> 163.03279 | AM65: =AM22/(1+AM$92) -> 193.11182 | AN65: =AN22/(1+AN$92) -> 225.68661
C66: 3 | E66: SUB-320 | F66: 9 | H66: 20.708411 | I66: 27.316455 | J66: 35.679089 | K66: 39.495006 | L66: 46.655372 | N66: =IFERROR(N65*(1+($AR$16*($F65-$AU$16))),"DNM") -> 42.220916 | O66: =IFERROR(O65*(1+($AR$16*($F65-$AU$16))),"DNM") -> 78.896254 | P66: =IFERROR(P65*(1+($AR$16*($F65-$AU$16))),"DNM") -> 115.97735 | Q66: =IFERROR(Q65*(1+($AR$16*($F65-$AU$16))),"DNM") -> 147.13709 | R66: =IFERROR(R65*(1+($AR$16*($F65-$AU$16))),"DNM") -> 174.28342 | S66: =IFERROR(S65*(1+($AR$16*($F65-$AU$16))),"DNM") -> 203.68216 | U66: =AB66-(AB66*$AR$19) -> 15.917926 | V66: =AC66-(AC66*$AR$19) -> 27.468107 | W66: =AD66-(AD66*$AR$19) -> 37.324284 | X66: =AE66-(AE66*$AR$19) -> 48.836038 | Y66: =AF66-(AF66*$AR$19) -> 63.624016 | Z66: =AG66-(AG66*$AR$19) -> 67.349219 | AB66: 17.115307 | AC66: 29.534318 | AD66: 40.131898 | AE66: 52.509591 | AF66: 68.409953 | AG66: 72.415374 | AI66: =IFERROR(AI65*(1+($AR$16*($F65-$AU$16))),"DNM") -> 42.220916 | AJ66: =IFERROR(AJ65*(1+($AR$16*($F65-$AU$16))),"DNM") -> 78.896254 | AK66: =IFERROR(AK65*(1+($AR$16*($F65-$AU$16))),"DNM") -> 115.97735 | AL66: =IFERROR(AL65*(1+($AR$16*($F65-$AU$16))),"DNM") -> 147.13709 | AM66: =IFERROR(AM65*(1+($AR$16*($F65-$AU$16))),"DNM") -> 174.28342 | AN66: =IFERROR(AN65*(1+($AR$16*($F65-$AU$16))),"DNM") -> 203.68216
C67: 3 | E67: SUB-312-G27 | F67: 12 | H67: =IFERROR(H66*(1-($AR$16*($F67-$AU$16))),"DNM") -> 18.689341 | I67: =IFERROR(I66*(1-($AR$16*($F67-$AU$16))),"DNM") -> 24.653101 | J67: =IFERROR(J66*(1-($AR$16*($F67-$AU$16))),"DNM") -> 32.200378 | K67: =IFERROR(K66*(1-($AR$16*($F67-$AU$16))),"DNM") -> 35.644243 | L67: =IFERROR(L66*(1-($AR$16*($F67-$AU$16))),"DNM") -> 42.106473 | N67: =IFERROR(N66*(1+($AR$16*($F65-$AU$16))),"DNM") -> 38.104377 | O67: =IFERROR(O66*(1+($AR$16*($F65-$AU$16))),"DNM") -> 71.203869 | P67: =IFERROR(P66*(1+($AR$16*($F65-$AU$16))),"DNM") -> 104.66956 | Q67: =IFERROR(Q66*(1+($AR$16*($F65-$AU$16))),"DNM") -> 132.79122 | R67: =IFERROR(R66*(1+($AR$16*($F65-$AU$16))),"DNM") -> 157.29079 | S67: =IFERROR(S66*(1+($AR$16*($F65-$AU$16))),"DNM") -> 183.82315 | U67: =IFERROR(U66*(1-($AR$16*($F67-$AU$16))),"DNM") -> 14.365928 | V67: =IFERROR(V66*(1-($AR$16*($F67-$AU$16))),"DNM") -> 24.789966 | W67: =IFERROR(W66*(1-($AR$16*($F67-$AU$16))),"DNM") -> 33.685166 | X67: =IFERROR(X66*(1-($AR$16*($F67-$AU$16))),"DNM") -> 44.074524 | Y67: =IFERROR(Y66*(1-($AR$16*($F67-$AU$16))),"DNM") -> 57.420674 | Z67: =IFERROR(Z66*(1-($AR$16*($F67-$AU$16))),"DNM") -> 60.78267 | AB67: =IFERROR(AB66*(1-($AR$16*($F67-$AU$16))),"DNM") -> 15.446564 | AC67: =IFERROR(AC66*(1-($AR$16*($F67-$AU$16))),"DNM") -> 26.654722 | AD67: =IFERROR(AD66*(1-($AR$16*($F67-$AU$16))),"DNM") -> 36.219038 | AE67: =IFERROR(AE66*(1-($AR$16*($F67-$AU$16))),"DNM") -> 47.389906 | AF67: =IFERROR(AF66*(1-($AR$16*($F67-$AU$16))),"DNM") -> 61.739983 | AG67: =IFERROR(AG66*(1-($AR$16*($F67-$AU$16))),"DNM") -> 65.354875 | AI67: =IFERROR(AI66*(1+($AR$16*($F65-$AU$16))),"DNM") -> 38.104377 | AJ67: =IFERROR(AJ66*(1+($AR$16*($F65-$AU$16))),"DNM") -> 71.203869 | AK67: =IFERROR(AK66*(1+($AR$16*($F65-$AU$16))),"DNM") -> 104.66956 | AL67: =IFERROR(AL66*(1+($AR$16*($F65-$AU$16))),"DNM") -> 132.79122 | AM67: =IFERROR(AM66*(1+($AR$16*($F65-$AU$16))),"DNM") -> 157.29079 | AN67: =IFERROR(AN66*(1+($AR$16*($F65-$AU$16))),"DNM") -> 183.82315
C68: 3 | E68: SAF-Q-306-G27 | F68: 6 | H68: =IFERROR(H69*(1-($AR$16*($F68-$AU$16))),"DNM") -> 22.727482 | I68: =IFERROR(I69*(1-($AR$16*($F68-$AU$16))),"DNM") -> 29.979809 | J68: =IFERROR(J69*(1-($AR$16*($F68-$AU$16))),"DNM") -> 39.1578 | K68: =IFERROR(K69*(1-($AR$16*($F68-$AU$16))),"DNM") -> 43.345769 | L68: =IFERROR(L69*(1-($AR$16*($F68-$AU$16))),"DNM") -> 51.20427 | N68: =N65 -> 46.782178 | O68: =O65 -> 87.419672 | P68: =P65 -> 128.50676 | Q68: =Q65 -> 163.03279 | R68: =R65 -> 193.11182 | S68: =S65 -> 225.68661 | U68: =IFERROR(U69*(1-($AR$16*($F68-$AU$16))),"DNM") -> 17.469923 | V68: =IFERROR(V69*(1-($AR$16*($F68-$AU$16))),"DNM") -> 30.146247 | W68: =IFERROR(W69*(1-($AR$16*($F68-$AU$16))),"DNM") -> 40.963401 | X68: =IFERROR(X69*(1-($AR$16*($F68-$AU$16))),"DNM") -> 53.597551 | Y68: =IFERROR(Y69*(1-($AR$16*($F68-$AU$16))),"DNM") -> 69.827358 | Z68: =IFERROR(Z69*(1-($AR$16*($F68-$AU$16))),"DNM") -> 73.915768 | AB68: =IFERROR(AB69*(1-($AR$16*($F68-$AU$16))),"DNM") -> 18.784049 | AC68: =IFERROR(AC69*(1-($AR$16*($F68-$AU$16))),"DNM") -> 32.413914 | AD68: =IFERROR(AD69*(1-($AR$16*($F68-$AU$16))),"DNM") -> 44.044758 | AE68: =IFERROR(AE69*(1-($AR$16*($F68-$AU$16))),"DNM") -> 57.629276 | AF68: =IFERROR(AF69*(1-($AR$16*($F68-$AU$16))),"DNM") -> 75.079924 | AG68: =IFERROR(AG69*(1-($AR$16*($F68-$AU$16))),"DNM") -> 79.475873 | AI68: =AI65 -> 46.782178 | AJ68: =AJ65 -> 87.419672 | AK68: =AK65 -> 128.50676 | AL68: =AL65 -> 163.03279 | AM68: =AM65 -> 193.11182 | AN68: =AN65 -> 225.68661
C69: 3 | E69: SAF-Q-309-G27 | F69: 9 | H69: =H66 -> 20.708411 | I69: =I66 -> 27.316455 | J69: =J66 -> 35.679089 | K69: =K66 -> 39.495006 | L69: =L66 -> 46.655372 | N69: =IFERROR(N68*(1+($AR$16*($F68-$AU$16))),"DNM") -> 42.220916 | O69: =IFERROR(O68*(1+($AR$16*($F68-$AU$16))),"DNM") -> 78.896254 | P69: =IFERROR(P68*(1+($AR$16*($F68-$AU$16))),"DNM") -> 115.97735 | Q69: =IFERROR(Q68*(1+($AR$16*($F68-$AU$16))),"DNM") -> 147.13709 | R69: =IFERROR(R68*(1+($AR$16*($F68-$AU$16))),"DNM") -> 174.28342 | S69: =IFERROR(S68*(1+($AR$16*($F68-$AU$16))),"DNM") -> 203.68216 | U69: =AB69-(AB69*$AR$19) -> 15.917926 | V69: =AC69-(AC69*$AR$19) -> 27.468107 | W69: =AD69-(AD69*$AR$19) -> 37.324284 | X69: =AE69-(AE69*$AR$19) -> 48.836038 | Y69: =AF69-(AF69*$AR$19) -> 63.624016 | Z69: =AG69-(AG69*$AR$19) -> 67.349219 | AB69: =AB66 -> 17.115307 | AC69: =AC66 -> 29.534318 | AD69: =AD66 -> 40.131898 | AE69: =AE66 -> 52.509591 | AF69: =AF66 -> 68.409953 | AG69: =AG66 -> 72.415374 | AI69: =IFERROR(AI68*(1+($AR$16*($F68-$AU$16))),"DNM") -> 42.220916 | AJ69: =IFERROR(AJ68*(1+($AR$16*($F68-$AU$16))),"DNM") -> 78.896254 | AK69: =IFERROR(AK68*(1+($AR$16*($F68-$AU$16))),"DNM") -> 115.97735 | AL69: =IFERROR(AL68*(1+($AR$16*($F68-$AU$16))),"DNM") -> 147.13709 | AM69: =IFERROR(AM68*(1+($AR$16*($F68-$AU$16))),"DNM") -> 174.28342 | AN69: =IFERROR(AN68*(1+($AR$16*($F68-$AU$16))),"DNM") -> 203.68216
C70: 3 | D70: SUB-309-G24 | F70: 9 | H70: 19.559098 | I70: 42.12822 | J70: 44.990846 | K70: 80.509859 | L70: 105.2217 | U70: =AB70-(AB70*$AR$19) -> 20.620748 | V70: =AC70-(AC70*$AR$19) -> 38.981861 | W70: =AD70-(AD70*$AR$19) -> 59.588156 | Z70: =AG70-(AG70*$AR$19) -> 84.668005 | AB70: 22.171885 | AC70: 41.914161 | AD70: 64.070507 | AG70: 91.036917
C71: 3 | D71: SUB-312-G24 | F71: 12 | H71: =IFERROR(H70*(1-($AR$16*($F71-$AU$16))),"DNM") -> 17.652086 | I71: =IFERROR(I70*(1-($AR$16*($F71-$AU$16))),"DNM") -> 38.020719 | J71: =IFERROR(J70*(1-($AR$16*($F71-$AU$16))),"DNM") -> 40.604239 | K71: =IFERROR(K70*(1-($AR$16*($F71-$AU$16))),"DNM") -> 72.660148 | L71: =IFERROR(L70*(1-($AR$16*($F71-$AU$16))),"DNM") -> 94.962587 | U71: =IFERROR(U70*(1-($AR$16*($F71-$AU$16))),"DNM") -> 18.610225 | V71: =IFERROR(V70*(1-($AR$16*($F71-$AU$16))),"DNM") -> 35.181129 | W71: =IFERROR(W70*(1-($AR$16*($F71-$AU$16))),"DNM") -> 53.778311 | Z71: =IFERROR(Z70*(1-($AR$16*($F71-$AU$16))),"DNM") -> 76.412875 | AB71: =IFERROR(AB70*(1-($AR$16*($F71-$AU$16))),"DNM") -> 20.010127 | AC71: =IFERROR(AC70*(1-($AR$16*($F71-$AU$16))),"DNM") -> 37.827531 | AD71: =IFERROR(AD70*(1-($AR$16*($F71-$AU$16))),"DNM") -> 57.823633 | AG71: =IFERROR(AG70*(1-($AR$16*($F71-$AU$16))),"DNM") -> 82.160817
C72: 3 | D72: SAF-Q-309-G24 | F72: 9 | H72: =H70 -> 19.559098 | I72: =I70 -> 42.12822 | J72: =J70 -> 44.990846 | K72: =K70 -> 80.509859 | L72: =L70 -> 105.2217 | U72: =AB72-(AB72*$AR$19) -> 20.620748 | V72: =AC72-(AC72*$AR$19) -> 38.981861 | W72: =AD72-(AD72*$AR$19) -> 59.588156 | Z72: =AG72-(AG72*$AR$19) -> 84.668005 | AB72: =AB70 -> 22.171885 | AC72: =AC70 -> 41.914161 | AD72: =AD70 -> 64.070507 | AG72: =AG70 -> 91.036917
C73: 4 | E73: SUB-400 | F73: 6 | H73: =IFERROR(H74*(1-($AR$16*($F73-$AU$16))),"DNM") -> 22.08956 | I73: =IFERROR(I74*(1-($AR$16*($F73-$AU$16))),"DNM") -> 30.471684 | J73: =IFERROR(J74*(1-($AR$16*($F73-$AU$16))),"DNM") -> 41.537457 | K73: =IFERROR(K74*(1-($AR$16*($F73-$AU$16))),"DNM") -> 55.719157 | L73: =IFERROR(L74*(1-($AR$16*($F73-$AU$16))),"DNM") -> 69.951254 | N73: =IFERROR(N74*(1-($AR$16*($F73-$AU$16))),"DNM") -> 56.477785 | O73: =IFERROR(O74*(1-($AR$16*($F73-$AU$16))),"DNM") -> 105.43197 | P73: =IFERROR(P74*(1-($AR$16*($F73-$AU$16))),"DNM") -> 159.06334 | Q73: =IFERROR(Q74*(1-($AR$16*($F73-$AU$16))),"DNM") -> 209.45158 | R73: =IFERROR(R74*(1-($AR$16*($F73-$AU$16))),"DNM") -> 263.13351 | S73: =IFERROR(S74*(1-($AR$16*($F73-$AU$16))),"DNM") -> 334.68997 | AI73: =IFERROR(AI74*(1-($AR$16*($F73-$AU$16))),"DNM") -> 56.477785 | AJ73: =IFERROR(AJ74*(1-($AR$16*($F73-$AU$16))),"DNM") -> 105.43197 | AK73: =IFERROR(AK74*(1-($AR$16*($F73-$AU$16))),"DNM") -> 159.06334 | AL73: =IFERROR(AL74*(1-($AR$16*($F73-$AU$16))),"DNM") -> 209.45158 | AM73: =IFERROR(AM74*(1-($AR$16*($F73-$AU$16))),"DNM") -> 263.13351 | AN73: =IFERROR(AN74*(1-($AR$16*($F73-$AU$16))),"DNM") -> 334.68997
C74: 4 | E74: SUB-410 | F74: 9 | H74: 20.127162 | I74: 27.764632 | J74: 37.847341 | K74: 50.769164 | L74: 63.736905 | N74: =N31/(1+N$92) -> 51.460396 | O74: =O31/(1+O$92) -> 96.065574 | P74: =P31/(1+P$92) -> 144.93243 | Q74: =Q31/(1+Q$92) -> 190.84426 | R74: =R31/(1+R$92) -> 239.75719 | S74: =S31/(1+S$92) -> 304.9567 | AI74: =AI31/(1+AI$92) -> 51.460396 | AJ74: =AJ31/(1+AJ$92) -> 96.065574 | AK74: =AK31/(1+AK$92) -> 144.93243 | AL74: =AL31/(1+AL$92) -> 190.84426 | AM74: =AM31/(1+AM$92) -> 239.75719 | AN74: =AN31/(1+AN$92) -> 304.9567
C75: 4 | E75: SUB-412-G27 | F75: 12 | H75: =IFERROR(H74*(1-($AR$16*($F75-$AU$16))),"DNM") -> 18.164763 | I75: =IFERROR(I74*(1-($AR$16*($F75-$AU$16))),"DNM") -> 25.05758 | J75: =IFERROR(J74*(1-($AR$16*($F75-$AU$16))),"DNM") -> 34.157226 | K75: =IFERROR(K74*(1-($AR$16*($F75-$AU$16))),"DNM") -> 45.819171 | L75: =IFERROR(L74*(1-($AR$16*($F75-$AU$16))),"DNM") -> 57.522557 | N75: =IFERROR(N74*(1-($AR$16*($F75-$AU$16))),"DNM") -> 46.443007 | O75: =IFERROR(O74*(1-($AR$16*($F75-$AU$16))),"DNM") -> 86.69918 | P75: =IFERROR(P74*(1-($AR$16*($F75-$AU$16))),"DNM") -> 130.80152 | Q75: =IFERROR(Q74*(1-($AR$16*($F75-$AU$16))),"DNM") -> 172.23695 | R75: =IFERROR(R74*(1-($AR$16*($F75-$AU$16))),"DNM") -> 216.38086 | S75: =IFERROR(S74*(1-($AR$16*($F75-$AU$16))),"DNM") -> 275.22342 | AI75: =IFERROR(AI74*(1-($AR$16*($F75-$AU$16))),"DNM") -> 46.443007 | AJ75: =IFERROR(AJ74*(1-($AR$16*($F75-$AU$16))),"DNM") -> 86.69918 | AK75: =IFERROR(AK74*(1-($AR$16*($F75-$AU$16))),"DNM") -> 130.80152 | AL75: =IFERROR(AL74*(1-($AR$16*($F75-$AU$16))),"DNM") -> 172.23695 | AM75: =IFERROR(AM74*(1-($AR$16*($F75-$AU$16))),"DNM") -> 216.38086 | AN75: =IFERROR(AN74*(1-($AR$16*($F75-$AU$16))),"DNM") -> 275.22342
C76: 4 | E76: SUB-414-G27 | F76: 14 | H76: =IFERROR(H74*(1-($AR$16*($F76-$AU$16))),"DNM") -> 16.856498 | I76: =IFERROR(I74*(1-($AR$16*($F76-$AU$16))),"DNM") -> 23.252879 | J76: =IFERROR(J74*(1-($AR$16*($F76-$AU$16))),"DNM") -> 31.697148 | K76: =IFERROR(K74*(1-($AR$16*($F76-$AU$16))),"DNM") -> 42.519175 | L76: =IFERROR(L74*(1-($AR$16*($F76-$AU$16))),"DNM") -> 53.379658 | N76: =IFERROR(N74*(1-($AR$16*($F76-$AU$16))),"DNM") -> 43.098082 | O76: =IFERROR(O74*(1-($AR$16*($F76-$AU$16))),"DNM") -> 80.454918 | P76: =IFERROR(P74*(1-($AR$16*($F76-$AU$16))),"DNM") -> 121.38091 | Q76: =IFERROR(Q74*(1-($AR$16*($F76-$AU$16))),"DNM") -> 159.83207 | R76: =IFERROR(R74*(1-($AR$16*($F76-$AU$16))),"DNM") -> 200.79665 | S76: =IFERROR(S74*(1-($AR$16*($F76-$AU$16))),"DNM") -> 255.40123 | AI76: =IFERROR(AI74*(1-($AR$16*($F76-$AU$16))),"DNM") -> 43.098082 | AJ76: =IFERROR(AJ74*(1-($AR$16*($F76-$AU$16))),"DNM") -> 80.454918 | AK76: =IFERROR(AK74*(1-($AR$16*($F76-$AU$16))),"DNM") -> 121.38091 | AL76: =IFERROR(AL74*(1-($AR$16*($F76-$AU$16))),"DNM") -> 159.83207 | AM76: =IFERROR(AM74*(1-($AR$16*($F76-$AU$16))),"DNM") -> 200.79665 | AN76: =IFERROR(AN74*(1-($AR$16*($F76-$AU$16))),"DNM") -> 255.40123
C77: 4 | E77: SAF-Q-406-G27 | F77: 6 | H77: =IFERROR(H78*(1-($AR$16*($F77-$AU$16))),"DNM") -> 22.08956 | I77: =IFERROR(I78*(1-($AR$16*($F77-$AU$16))),"DNM") -> 30.471684 | J77: =IFERROR(J78*(1-($AR$16*($F77-$AU$16))),"DNM") -> 41.537457 | K77: =IFERROR(K78*(1-($AR$16*($F77-$AU$16))),"DNM") -> 55.719157 | L77: =IFERROR(L78*(1-($AR$16*($F77-$AU$16))),"DNM") -> 69.951254 | N77: =IFERROR(N78*(1-($AR$16*($F77-$AU$16))),"DNM") -> 56.477785 | O77: =IFERROR(O78*(1-($AR$16*($F77-$AU$16))),"DNM") -> 105.43197 | P77: =IFERROR(P78*(1-($AR$16*($F77-$AU$16))),"DNM") -> 159.06334 | Q77: =IFERROR(Q78*(1-($AR$16*($F77-$AU$16))),"DNM") -> 209.45158 | R77: =IFERROR(R78*(1-($AR$16*($F77-$AU$16))),"DNM") -> 263.13351 | S77: =IFERROR(S78*(1-($AR$16*($F77-$AU$16))),"DNM") -> 334.68997 | AI77: =IFERROR(AI78*(1-($AR$16*($F77-$AU$16))),"DNM") -> 56.477785 | AJ77: =IFERROR(AJ78*(1-($AR$16*($F77-$AU$16))),"DNM") -> 105.43197 | AK77: =IFERROR(AK78*(1-($AR$16*($F77-$AU$16))),"DNM") -> 159.06334 | AL77: =IFERROR(AL78*(1-($AR$16*($F77-$AU$16))),"DNM") -> 209.45158 | AM77: =IFERROR(AM78*(1-($AR$16*($F77-$AU$16))),"DNM") -> 263.13351 | AN77: =IFERROR(AN78*(1-($AR$16*($F77-$AU$16))),"DNM") -> 334.68997
C78: 4 | E78: SAF-Q-409-G27 | F78: 9 | H78: =H74 -> 20.127162 | I78: =I74 -> 27.764632 | J78: =J74 -> 37.847341 | K78: =K74 -> 50.769164 | L78: =L74 -> 63.736905 | N78: =N74 -> 51.460396 | O78: =O74 -> 96.065574 | P78: =P74 -> 144.93243 | Q78: =Q74 -> 190.84426 | R78: =R74 -> 239.75719 | S78: =S74 -> 304.9567 | AI78: =AI74 -> 51.460396 | AJ78: =AJ74 -> 96.065574 | AK78: =AK74 -> 144.93243 | AL78: =AL74 -> 190.84426 | AM78: =AM74 -> 239.75719 | AN78: =AN74 -> 304.9567
C79: 4 | E79: SAF-Q-412-G27 | F79: 12 | H79: =IFERROR(H78*(1-($AR$16*($F79-$AU$16))),"DNM") -> 18.164763 | I79: =IFERROR(I78*(1-($AR$16*($F79-$AU$16))),"DNM") -> 25.05758 | J79: =IFERROR(J78*(1-($AR$16*($F79-$AU$16))),"DNM") -> 34.157226 | K79: =IFERROR(K78*(1-($AR$16*($F79-$AU$16))),"DNM") -> 45.819171 | L79: =IFERROR(L78*(1-($AR$16*($F79-$AU$16))),"DNM") -> 57.522557 | N79: =IFERROR(N78*(1-($AR$16*($F79-$AU$16))),"DNM") -> 46.443007 | O79: =IFERROR(O78*(1-($AR$16*($F79-$AU$16))),"DNM") -> 86.69918 | P79: =IFERROR(P78*(1-($AR$16*($F79-$AU$16))),"DNM") -> 130.80152 | Q79: =IFERROR(Q78*(1-($AR$16*($F79-$AU$16))),"DNM") -> 172.23695 | R79: =IFERROR(R78*(1-($AR$16*($F79-$AU$16))),"DNM") -> 216.38086 | S79: =IFERROR(S78*(1-($AR$16*($F79-$AU$16))),"DNM") -> 275.22342 | AI79: =IFERROR(AI78*(1-($AR$16*($F79-$AU$16))),"DNM") -> 46.443007 | AJ79: =IFERROR(AJ78*(1-($AR$16*($F79-$AU$16))),"DNM") -> 86.69918 | AK79: =IFERROR(AK78*(1-($AR$16*($F79-$AU$16))),"DNM") -> 130.80152 | AL79: =IFERROR(AL78*(1-($AR$16*($F79-$AU$16))),"DNM") -> 172.23695 | AM79: =IFERROR(AM78*(1-($AR$16*($F79-$AU$16))),"DNM") -> 216.38086 | AN79: =IFERROR(AN78*(1-($AR$16*($F79-$AU$16))),"DNM") -> 275.22342
C80: 4 | D80: SUB-409-G24 | F80: 9 | H80: 19.556465 | I80: 40.537813 | J80: 48.460559 | K80: 78.884301 | L80: 136.36595
C81: 4 | D81: SUB-412-G24 | F81: 12 | H81: =IFERROR(H80*(1-($AR$16*($F81-$AU$16))),"DNM") -> 17.64971 | I81: =IFERROR(I80*(1-($AR$16*($F81-$AU$16))),"DNM") -> 36.585376 | J81: =IFERROR(J80*(1-($AR$16*($F81-$AU$16))),"DNM") -> 43.735654 | K81: =IFERROR(K80*(1-($AR$16*($F81-$AU$16))),"DNM") -> 71.193082 | L81: =IFERROR(L80*(1-($AR$16*($F81-$AU$16))),"DNM") -> 123.07027
C82: 5 | E82: SUB-506 | F82: 6 | H82: =IFERROR(H83*(1-($AR$16*($F82-$AU$16))),"DNM") -> 22.235147 | I82: =IFERROR(I83*(1-($AR$16*($F82-$AU$16))),"DNM") -> 35.37132 | J82: =IFERROR(J83*(1-($AR$16*($F82-$AU$16))),"DNM") -> 44.29239 | K82: =IFERROR(K83*(1-($AR$16*($F82-$AU$16))),"DNM") -> 63.39297 | L82: =IFERROR(L83*(1-($AR$16*($F82-$AU$16))),"DNM") -> 80.560097 | N82: =IFERROR(N83*(1-($AR$16*($F82-$AU$16))),"DNM") -> 61.612129 | O82: =IFERROR(O83*(1-($AR$16*($F82-$AU$16))),"DNM") -> 113.86652 | P82: =IFERROR(P83*(1-($AR$16*($F82-$AU$16))),"DNM") -> 171.78841 | Q82: =IFERROR(Q83*(1-($AR$16*($F82-$AU$16))),"DNM") -> 225.23939 | R82: =IFERROR(R83*(1-($AR$16*($F82-$AU$16))),"DNM") -> 286.68243 | S82: =IFERROR(S83*(1-($AR$16*($F82-$AU$16))),"DNM") -> 377.67768 | AI82: =IFERROR(AI83*(1-($AR$16*($F82-$AU$16))),"DNM") -> 61.612129 | AJ82: =IFERROR(AJ83*(1-($AR$16*($F82-$AU$16))),"DNM") -> 113.86652 | AK82: =IFERROR(AK83*(1-($AR$16*($F82-$AU$16))),"DNM") -> 171.78841 | AL82: =IFERROR(AL83*(1-($AR$16*($F82-$AU$16))),"DNM") -> 225.23939 | AM82: =IFERROR(AM83*(1-($AR$16*($F82-$AU$16))),"DNM") -> 286.68243 | AN82: =IFERROR(AN83*(1-($AR$16*($F82-$AU$16))),"DNM") -> 377.67768
C83: 5 | E83: SUB-509 | F83: 9 | H83: 20.259815 | I83: 32.228993 | J83: 40.357531 | K83: 57.761249 | L83: 73.403278 | N83: =N40/(1+N$92) -> 56.138614 | O83: =O40/(1+O$92) -> 103.75082 | P83: =P40/(1+P$92) -> 156.52703 | Q83: =Q40/(1+Q$92) -> 205.22951 | R83: =R40/(1+R$92) -> 261.21406 | S83: =S40/(1+S$92) -> 344.12545 | AI83: =AI40/(1+AI$92) -> 56.138614 | AJ83: =AJ40/(1+AJ$92) -> 103.75082 | AK83: =AK40/(1+AK$92) -> 156.52703 | AL83: =AL40/(1+AL$92) -> 205.22951 | AM83: =AM40/(1+AM$92) -> 261.21406 | AN83: =AN40/(1+AN$92) -> 344.12545
C84: 5 | E84: SAF-Q-509-G27 | F84: 9 | H84: =H83 -> 20.259815 | I84: =I83 -> 32.228993 | J84: =J83 -> 40.357531 | K84: =K83 -> 57.761249 | L84: =L83 -> 73.403278 | N84: =N83 -> 56.138614 | O84: =O83 -> 103.75082 | P84: =P83 -> 156.52703 | Q84: =Q83 -> 205.22951 | R84: =R83 -> 261.21406 | S84: =S83 -> 344.12545 | AI84: =AI83 -> 56.138614 | AJ84: =AJ83 -> 103.75082 | AK84: =AK83 -> 156.52703 | AL84: =AL83 -> 205.22951 | AM84: =AM83 -> 261.21406 | AN84: =AN83 -> 344.12545
C85: 5 | D85: SUB-512-G24 | F85: 12 | G85: 10.440439 | H85: 21.73888 | I85: 43.738084 | J85: 52.171838 | K85: 90.301312 | L85: 139.88531
C86: 6 | E86: SUB-606 | F86: 6 | H86: =IFERROR(H87*(1-($AR$16*($F86-$AU$16))),"DNM") -> 23.182738 | I86: =IFERROR(I87*(1-($AR$16*($F86-$AU$16))),"DNM") -> 35.794337 | J86: =IFERROR(J87*(1-($AR$16*($F86-$AU$16))),"DNM") -> 48.246398 | K86: =IFERROR(K87*(1-($AR$16*($F86-$AU$16))),"DNM") -> 65.972403 | L86: =IFERROR(L87*(1-($AR$16*($F86-$AU$16))),"DNM") -> 86.580839
C87: 6 | E87: SUB-609 | F87: 9 | H87: 21.123224 | I87: 32.61443 | J87: 43.960272 | K87: 60.111529 | L87: 78.889147
C88: 6 | E88: SAF-Q-609-G27 | F88: 9 | H88: =H87 -> 21.123224 | I88: =I87 -> 32.61443 | J88: =J87 -> 43.960272 | K88: =K87 -> 60.111529 | L88: =L87 -> 78.889147
C89: 6 | D89: SUB-612-G24 | F89: 12 | G89: 10.583568 | H89: 22.382918 | I89: 43.39558 | J89: 59.624821 | K89: 110.18171 | L89: 220.20911
N91: Comparative Pump Performance based on testing | AI91: Comparative Pump Performance based on testing
N92: 0.068783069 | O92: 0.040955631 | P92: 0.034965035 | Q92: 0.042735043 | R92: 0.071917808 | S92: 0.072283389 | AI92: 0.068783069 | AJ92: 0.040955631 | AK92: 0.034965035 | AL92: 0.042735043 | AM92: 0.071917808 | AN92: 0.072283389

Sheet Sheet2
G1: Subcuvia | N1: KIOVIG | V1: Drug: | W1: Hizentra | AA1: Infusion & Volume Limits
D2: Administration Set | G2: VersaRate Position | N2: VersaRate Position | V2: Pump: | W2: SCIg60 Infuser | AA2: Initial | AB2: Subsequent
B3: Pump | C3: Needle Qty | D3: 24 ga | E3: 27 ga | F3: Needle Length (mm) | G3: 1 | H3: 2 | I3: 3 | J3: 4 | K3: 5 | L3: 6 | N3: 1 | O3: 2 | P3: 3 | Q3: 4 | R3: 5 | S3: 6 | V3: Lookup Set: | W3: SUB-209-G24 | X3: Needle Length: | Y3: =IFERROR(IF(NeedleGauge="24 ga",VLOOKUP(AdminSet,D4:F46,3,0),VLOOKUP(AdminSet,E4:F46,2,0)) & " mm","") -> 9 mm | AE3: Total Flow Rate
B4: FREEDOM60® | C4: 1-27 ga | E4: SUB-104-G27 | F4: 4 | G4: =IFERROR(G6*(1-($W$16*($F4-$Z$16))),"DNM") -> 14.039266 | H4: =IFERROR(H6*(1-($W$16*($F4-$Z$16))),"DNM") -> 20.365231 | I4: =IFERROR(I6*(1-($W$16*($F4-$Z$16))),"DNM") -> 22.912555 | J4: =IFERROR(J6*(1-($W$16*($F4-$Z$16))),"DNM") -> 26.687713 | K4: =IFERROR(K6*(1-($W$16*($F4-$Z$16))),"DNM") -> 30.066728 | L4: =IFERROR(L6*(1-($W$16*($F4-$Z$16))),"DNM") -> 29.149662 | V4: Default Set: | W4: =VLOOKUP(QtyNeedles,[1]Lists!$H$2:$K$8,MATCH(NeedleGauge,[1]Lists!$H$2:$K$2,0),0) -> #N/A | AA4: =INDEX([1]'Flow Rate Limits'!$A$1:$Z$6,MATCH(Country_Region,[1]'Flow Rate Limits'!$A$1:$A$6,0),MATCH(Drug,[1]'Flow Rate Limits'!$A$1:$Z$1,0)) -> 9999 | AE4: =IF(AnyErrorMessages=1,"",FlowRate) -> 18.641072 | AF4: ml/hr
C5: 1-27 ga | E5: SUB-106-G27 | F5: 6 | G5: =IFERROR(G6*(1-($W$16*($F5-$Z$16))),"DNM") -> 13.254275 | H5: =IFERROR(H6*(1-($W$16*($F5-$Z$16))),"DNM") -> 19.22653 | I5: =IFERROR(I6*(1-($W$16*($F5-$Z$16))),"DNM") -> 21.631423 | J5: =IFERROR(J6*(1-($W$16*($F5-$Z$16))),"DNM") -> 25.195497 | K5: =IFERROR(K6*(1-($W$16*($F5-$Z$16))),"DNM") -> 28.385577 | L5: =IFERROR(L6*(1-($W$16*($F5-$Z$16))),"DNM") -> 27.519789 | V5: Alternative Set: | W5: SUB-104-G27 | AE5: =IF(AnyErrorMessages=1,"",IF(AE4>AA4,"Exceeds total flow rate limit",""))
C6: 1-27 ga | E6: SUB-109-G27 | F6: 9 | G6: 12.076788 | H6: 17.518479 | I6: 19.709725 | J6: 22.957173 | K6: 25.863852 | L6: 25.074978 | V6: VersaRate Position: | W6: 2 | AE6: Flow Rate Per Site
C7: 1-27 ga | E7: SAF-Q-106-G27 | F7: 6 | G7: =IFERROR(G8*(1-($W$16*($F7-$Z$16))),"DNM") -> 13.254275 | H7: =IFERROR(H8*(1-($W$16*($F7-$Z$16))),"DNM") -> 19.22653 | I7: =IFERROR(I8*(1-($W$16*($F7-$Z$16))),"DNM") -> 21.631423 | J7: =IFERROR(J8*(1-($W$16*($F7-$Z$16))),"DNM") -> 25.195497 | K7: =IFERROR(K8*(1-($W$16*($F7-$Z$16))),"DNM") -> 28.385577 | L7: =IFERROR(L8*(1-($W$16*($F7-$Z$16))),"DNM") -> 27.519789 | V7: Flow Rate: | W7: =IF(Pump="Freedom60®",IF(NeedleGauge="24 ga",VLOOKUP(AdminSet,D4:S46,2+VersaRatePosition+MATCH(Drug,G1:S1,0),0),VLOOKUP(AdminSet,E4:S46,1+VersaRatePosition+MATCH(Drug,G1:S1,0),0)),IF(NeedleGauge="24 ga",VLOOKUP(AdminSet,D47:S89,2+VersaRatePosition+MATCH(Drug,G1:S1,0),0),VLOOKUP(AdminSet,E47:S89,1+VersaRatePosition+MATCH(Drug,G1:S1,0),0))) -> #N/A | X7: ml/hr | Z7: Infusion: | AA7: =INDEX([1]'Flow Rate Limits'!$A$1:$Z$6,MATCH(Country_Region,[1]'Flow Rate Limits'!$A$1:$A$6,0),MATCH(Drug,[1]'Flow Rate Limits'!$A$1:$Z$1,0)+1) -> 15.5 | AB7: =INDEX([1]'Flow Rate Limits'!$A$1:$Z$6,MATCH(Country_Region,[1]'Flow Rate Limits'!$A$1:$A$6,0),MATCH(Drug,[1]'Flow Rate Limits'!$A$1:$Z$1,0)+2) -> 25.5 | AE7: =IF(AnyErrorMessages=1,"",AE4/W9) -> 9.3205359 | AF7: ml/hr
C8: 1-27 ga | E8: SAF-Q-109-G27 | F8: 9 | G8: =G6 -> 12.076788 | H8: =H6 -> 17.518479 | I8: =I6 -> 19.709725 | J8: =J6 -> 22.957173 | K8: =K6 -> 25.863852 | L8: =L6 -> 25.074978 | V8: Needle Set: | W8: 2 Needles | AH8: =IF(AnyErrorMessages=1,"",IF(AE7>AB7,"Exceeds limit for subsequent infusions",IF(AND(InitialWarnings=1,AE7>AA7),"Caution: Limit for first time infusion exceeded","")))
C9: 1-24 ga | D9: SUB-109-G24 | F9: 9 | G9: 18.081149 | H9: 33.634392 | L9: 111.2852 | V9: Qty Needles: | W9: =VALUE(LEFT(NeedleSet,1)) -> 2 | AE9: Dosage Volume Per Site
C10: 1-24 ga | D10: SUB-112-G24 | F10: 12 | G10: =IFERROR(G9*(1-($W$16*($F10-$Z$16))),"DNM") -> 16.318237 | H10: =IFERROR(H9*(1-($W$16*($F10-$Z$16))),"DNM") -> 30.355039 | L10: =IFERROR(L9*(1-($W$16*($F10-$Z$16))),"DNM") -> 100.4349 | V10: Needle Gauge: | W10: 24 ga | Z10: Volume: | AA10: =INDEX([1]'Flow Rate Limits'!$A$1:$Z$6,MATCH(Country_Region,[1]'Flow Rate Limits'!$A$1:$A$6,0),MATCH(Drug,[1]'Flow Rate Limits'!$A$1:$Z$1,0)+3) -> 15 | AB10: =INDEX([1]'Flow Rate Limits'!$A$1:$Z$6,MATCH(Country_Region,[1]'Flow Rate Limits'!$A$1:$A$6,0),MATCH(Drug,[1]'Flow Rate Limits'!$A$1:$Z$1,0)+4) -> 25 | AE10: =IF(AnyErrorMessages=1,"",W11/W9) -> 12.5 | AF10: ml
C11: 1-24 ga | D11: SAF-Q-106-G24 | F11: 6 | G11: =IFERROR(G12*(1-($W$16*($F11-$Z$16))),"DNM") -> 19.844061 | H11: =IFERROR(H12*(1-($W$16*($F11-$Z$16))),"DNM") -> 36.913745 | L11: =IFERROR(L12*(1-($W$16*($F11-$Z$16))),"DNM") -> 122.13551 | V11: Dosage Volume: | W11: =VALUE(W12) -> 25 | X11: ml | AH11: =IF(AnyErrorMessages=1,"",IF(AE10>AB10,"Exceeds limit for subsequent infusions",IF(AND(InitialWarnings=1,AE10>AA10),"Caution: Limit for first time infusion exceeded","")))
C12: 1-24 ga | D12: SAF-Q-109-G24 | F12: 9 | G12: =G9 -> 18.081149 | H12: =H9 -> 33.634392 | L12: =L9 -> 111.2852 | V12: (Linked cell for dosage volume): | W12: 25
C13: 2-27 ga | E13: SUB-204-G27 | F13: 4 | G13: =IFERROR(G15*(1-($W$16*($F13-$Z$16))),"DNM") -> 18.324817 | H13: =IFERROR(H15*(1-($W$16*($F13-$Z$16))),"DNM") -> 31.450921 | I13: =IFERROR(I15*(1-($W$16*($F13-$Z$16))),"DNM") -> 38.723168 | J13: =IFERROR(J15*(1-($W$16*($F13-$Z$16))),"DNM") -> 47.73318 | K13: =IFERROR(K15*(1-($W$16*($F13-$Z$16))),"DNM") -> 59.906762 | L13: =IFERROR(L15*(1-($W$16*($F13-$Z$16))),"DNM") -> 65.331831 | AE13: Infusion Time
C14: 2-27 ga | E14: SUB-250 | F14: 6 | G14: =IFERROR(G15*(1-($W$16*($F14-$Z$16))),"DNM") -> 17.300204 | H14: =IFERROR(H15*(1-($W$16*($F14-$Z$16))),"DNM") -> 29.692375 | I14: =IFERROR(I15*(1-($W$16*($F14-$Z$16))),"DNM") -> 36.558001 | J14: =IFERROR(J15*(1-($W$16*($F14-$Z$16))),"DNM") -> 45.064228 | K14: =IFERROR(K15*(1-($W$16*($F14-$Z$16))),"DNM") -> 56.557136 | L14: =IFERROR(L15*(1-($W$16*($F14-$Z$16))),"DNM") -> 61.678869 | AE14: =IF(AnyErrorMessages=1,"",IF($W$11=0,0,INT($W$11/$W$7))) -> #N/A | AF14: hrs | AG14: =IF(AnyErrorMessages=1,"",IF($W$11=0,0,INT((($W$11/$W$7)-INT($W$11/$W$7))*60))) -> #N/A | AH14: min
C15: 2-27 ga | E15: SUB-260 | F15: 9 | G15: 15.763284 | H15: 27.054556 | I15: 33.310252 | J15: 41.0608 | K15: 51.532698 | L15: 56.199425
C16: 2-27 ga | E16: SUB-212-G27 | F16: 12 | G16: =IFERROR(G15*(1-($W$16*($F16-$Z$16))),"DNM") -> 14.226364 | H16: =IFERROR(H15*(1-($W$16*($F16-$Z$16))),"DNM") -> 24.416737 | I16: =IFERROR(I15*(1-($W$16*($F16-$Z$16))),"DNM") -> 30.062502 | J16: =IFERROR(J15*(1-($W$16*($F16-$Z$16))),"DNM") -> 37.057372 | K16: =IFERROR(K15*(1-($W$16*($F16-$Z$16))),"DNM") -> 46.50826 | L16: =IFERROR(L15*(1-($W$16*($F16-$Z$16))),"DNM") -> 50.719981 | V16: Needle Length Factor: | W16: 0.0325 | X16: per mm from baseline of | Z16: 9 | AA16: mm
C17: 2-27 ga | E17: SAF-Q-206-G27 | F17: 6 | G17: =IFERROR(G18*(1-($W$16*($F17-$Z$16))),"DNM") -> 17.300204 | H17: =IFERROR(H18*(1-($W$16*($F17-$Z$16))),"DNM") -> 29.692375 | I17: =IFERROR(I18*(1-($W$16*($F17-$Z$16))),"DNM") -> 36.558001 | J17: =IFERROR(J18*(1-($W$16*($F17-$Z$16))),"DNM") -> 45.064228 | K17: =IFERROR(K18*(1-($W$16*($F17-$Z$16))),"DNM") -> 56.557136 | L17: =IFERROR(L18*(1-($W$16*($F17-$Z$16))),"DNM") -> 61.678869
C18: 2-27 ga | E18: SAF-Q-209-G27 | F18: 9 | G18: =G15 -> 15.763284 | H18: =H15 -> 27.054556 | I18: =I15 -> 33.310252 | J18: =J15 -> 41.0608 | K18: =K15 -> 51.532698 | L18: =L15 -> 56.199425
C19: 2-27 ga | E19: SAF-Q-212-G27 | F19: 12 | G19: =IFERROR(G18*(1-($W$16*($F19-$Z$16))),"DNM") -> 14.226364 | H19: =IFERROR(H18*(1-($W$16*($F19-$Z$16))),"DNM") -> 24.416737 | I19: =IFERROR(I18*(1-($W$16*($F19-$Z$16))),"DNM") -> 30.062502 | J19: =IFERROR(J18*(1-($W$16*($F19-$Z$16))),"DNM") -> 37.057372 | K19: =IFERROR(K18*(1-($W$16*($F19-$Z$16))),"DNM") -> 46.50826 | L19: =IFERROR(L18*(1-($W$16*($F19-$Z$16))),"DNM") -> 50.719981 | V19: Gammanorm Factor: | W19: 0.069959661
C20: 2-24 ga | D20: SUB-209-G24 | F20: 9 | G20: 21.877111 | H20: 37.591669 | I20: 62.864582 | L20: 97.767035
C21: 2-24 ga | D21: SUB-212-G24 | F21: 12 | G21: =IFERROR(G20*(1-($W$16*($F21-$Z$16))),"DNM") -> 19.744093 | H21: =IFERROR(H20*(1-($W$16*($F21-$Z$16))),"DNM") -> 33.926481 | I21: =IFERROR(I20*(1-($W$16*($F21-$Z$16))),"DNM") -> 56.735285 | L21: =IFERROR(L20*(1-($W$16*($F21-$Z$16))),"DNM") -> 88.234749 | V21: Country/Region: | W21: USA
C22: 3-27 ga | E22: SUB-310 | F22: 6 | G22: =IFERROR(G23*(1-($W$16*($F22-$Z$16))),"DNM") -> 19.769309 | H22: =IFERROR(H23*(1-($W$16*($F22-$Z$16))),"DNM") -> 31.366976 | I22: =IFERROR(I23*(1-($W$16*($F22-$Z$16))),"DNM") -> 43.871608 | J22: =IFERROR(J23*(1-($W$16*($F22-$Z$16))),"DNM") -> 60.891082 | K22: =IFERROR(K23*(1-($W$16*($F22-$Z$16))),"DNM") -> 74.789228 | L22: =IFERROR(L23*(1-($W$16*($F22-$Z$16))),"DNM") -> 93.741204 | N22: 50 | O22: 91 | P22: 133 | Q22: 170 | R22: 207 | S22: 242 | V22: Include First Infusion Warnings: | W22: =TRUE() -> 1
C23: 3-27 ga | E23: SUB-320 | F23: 9 | G23: 18.013038 | H23: 28.580389 | I23: 39.97413 | J23: 55.481624 | K23: 68.145083 | L23: 85.413397 | N23: =IFERROR(N22*(1+($W$16*($F22-$Z$16))),"DNM") -> 45.125 | O23: =IFERROR(O22*(1+($W$16*($F22-$Z$16))),"DNM") -> 82.1275 | P23: =IFERROR(P22*(1+($W$16*($F22-$Z$16))),"DNM") -> 120.0325 | Q23: =IFERROR(Q22*(1+($W$16*($F22-$Z$16))),"DNM") -> 153.425 | R23: =IFERROR(R22*(1+($W$16*($F22-$Z$16))),"DNM") -> 186.8175 | S23: =IFERROR(S22*(1+($W$16*($F22-$Z$16))),"DNM") -> 218.405
C24: 3-27 ga | E24: SUB-312-G27 | F24: 12 | G24: =IFERROR(G23*(1-($W$16*($F24-$Z$16))),"DNM") -> 16.256767 | H24: =IFERROR(H23*(1-($W$16*($F24-$Z$16))),"DNM") -> 25.793801 | I24: =IFERROR(I23*(1-($W$16*($F24-$Z$16))),"DNM") -> 36.076653 | J24: =IFERROR(J23*(1-($W$16*($F24-$Z$16))),"DNM") -> 50.072165 | K24: =IFERROR(K23*(1-($W$16*($F24-$Z$16))),"DNM") -> 61.500937 | L24: =IFERROR(L23*(1-($W$16*($F24-$Z$16))),"DNM") -> 77.085591 | N24: =IFERROR(N23*(1+($W$16*($F22-$Z$16))),"DNM") -> 40.725313 | O24: =IFERROR(O23*(1+($W$16*($F22-$Z$16))),"DNM") -> 74.120069 | P24: =IFERROR(P23*(1+($W$16*($F22-$Z$16))),"DNM") -> 108.32933 | Q24: =IFERROR(Q23*(1+($W$16*($F22-$Z$16))),"DNM") -> 138.46606 | R24: =IFERROR(R23*(1+($W$16*($F22-$Z$16))),"DNM") -> 168.60279 | S24: =IFERROR(S23*(1+($W$16*($F22-$Z$16))),"DNM") -> 197.11051
C25: 3-27 ga | E25: SAF-Q-306-G27 | F25: 6 | G25: =IFERROR(G26*(1-($W$16*($F25-$Z$16))),"DNM") -> 19.769309 | H25: =IFERROR(H26*(1-($W$16*($F25-$Z$16))),"DNM") -> 31.366976 | I25: =IFERROR(I26*(1-($W$16*($F25-$Z$16))),"DNM") -> 43.871608 | J25: =IFERROR(J26*(1-($W$16*($F25-$Z$16))),"DNM") -> 60.891082 | K25: =IFERROR(K26*(1-($W$16*($F25-$Z$16))),"DNM") -> 74.789228 | L25: =IFERROR(L26*(1-($W$16*($F25-$Z$16))),"DNM") -> 93.741204 | N25: =N22 -> 50 | O25: =O22 -> 91 | P25: =P22 -> 133 | Q25: =Q22 -> 170 | R25: =R22 -> 207 | S25: =S22 -> 242
C26: 3-27 ga | E26: SAF-Q-309-G27 | F26: 9 | G26: =G23 -> 18.013038 | H26: =H23 -> 28.580389 | I26: =I23 -> 39.97413 | J26: =J23 -> 55.481624 | K26: =K23 -> 68.145083 | L26: =L23 -> 85.413397 | N26: =IFERROR(N25*(1+($W$16*($F25-$Z$16))),"DNM") -> 45.125 | O26: =IFERROR(O25*(1+($W$16*($F25-$Z$16))),"DNM") -> 82.1275 | P26: =IFERROR(P25*(1+($W$16*($F25-$Z$16))),"DNM") -> 120.0325 | Q26: =IFERROR(Q25*(1+($W$16*($F25-$Z$16))),"DNM") -> 153.425 | R26: =IFERROR(R25*(1+($W$16*($F25-$Z$16))),"DNM") -> 186.8175 | S26: =IFERROR(S25*(1+($W$16*($F25-$Z$16))),"DNM") -> 218.405
C27: 3-24 ga | D27: SUB-309-G24 | F27: 9 | G27: 20.721364 | H27: 41.401128 | I27: 59.609955 | J27: 118.63334 | L27: 101.5123
C28: 3-24 ga | D28: SUB-312-G24 | F28: 12 | G28: =IFERROR(G27*(1-($W$16*($F28-$Z$16))),"DNM") -> 18.701031 | H28: =IFERROR(H27*(1-($W$16*($F28-$Z$16))),"DNM") -> 37.364518 | I28: =IFERROR(I27*(1-($W$16*($F28-$Z$16))),"DNM") -> 53.797984 | J28: =IFERROR(J27*(1-($W$16*($F28-$Z$16))),"DNM") -> 107.06659 | L28: =IFERROR(L27*(1-($W$16*($F28-$Z$16))),"DNM") -> 91.614855
C29: 3-24 ga | D29: SAF-Q-309-G24 | F29: 9 | G29: =G27 -> 20.721364 | H29: =H27 -> 41.401128 | I29: =I27 -> 59.609955 | J29: =J27 -> 118.63334 | L29: =L27 -> 101.5123
C30: 4-27 ga | E30: SUB-400 | F30: 6 | N30: =IFERROR(N31*(1-($W$16*($F30-$Z$16))),"DNM") -> 60.3625 | O30: =IFERROR(O31*(1-($W$16*($F30-$Z$16))),"DNM") -> 109.75 | P30: =IFERROR(P31*(1-($W$16*($F30-$Z$16))),"DNM") -> 164.625 | Q30: =IFERROR(Q31*(1-($W$16*($F30-$Z$16))),"DNM") -> 218.4025 | R30: =IFERROR(R31*(1-($W$16*($F30-$Z$16))),"DNM") -> 282.0575 | S30: =IFERROR(S31*(1-($W$16*($F30-$Z$16))),"DNM") -> 358.8825
C31: 4-27 ga | E31: SUB-410 | F31: 9 | N31: 55 | O31: 100 | P31: 150 | Q31: 199 | R31: 257 | S31: 327
C32: 4-27 ga | E32: SUB-412-G27 | F32: 12 | N32: =IFERROR(N31*(1-($W$16*($F32-$Z$16))),"DNM") -> 49.6375 | O32: =IFERROR(O31*(1-($W$16*($F32-$Z$16))),"DNM") -> 90.25 | P32: =IFERROR(P31*(1-($W$16*($F32-$Z$16))),"DNM") -> 135.375 | Q32: =IFERROR(Q31*(1-($W$16*($F32-$Z$16))),"DNM") -> 179.5975 | R32: =IFERROR(R31*(1-($W$16*($F32-$Z$16))),"DNM") -> 231.9425 | S32: =IFERROR(S31*(1-($W$16*($F32-$Z$16))),"DNM") -> 295.1175
C33: 4-27 ga | E33: SUB-414-G27 | F33: 14 | N33: =IFERROR(N31*(1-($W$16*($F33-$Z$16))),"DNM") -> 46.0625 | O33: =IFERROR(O31*(1-($W$16*($F33-$Z$16))),"DNM") -> 83.75 | P33: =IFERROR(P31*(1-($W$16*($F33-$Z$16))),"DNM") -> 125.625 | Q33: =IFERROR(Q31*(1-($W$16*($F33-$Z$16))),"DNM") -> 166.6625 | R33: =IFERROR(R31*(1-($W$16*($F33-$Z$16))),"DNM") -> 215.2375 | S33: =IFERROR(S31*(1-($W$16*($F33-$Z$16))),"DNM") -> 273.8625
C34: 4-27 ga | E34: SAF-Q-406-G27 | F34: 6 | N34: =IFERROR(N35*(1-($W$16*($F34-$Z$16))),"DNM") -> 60.3625 | O34: =IFERROR(O35*(1-($W$16*($F34-$Z$16))),"DNM") -> 109.75 | P34: =IFERROR(P35*(1-($W$16*($F34-$Z$16))),"DNM") -> 164.625 | Q34: =IFERROR(Q35*(1-($W$16*($F34-$Z$16))),"DNM") -> 218.4025 | R34: =IFERROR(R35*(1-($W$16*($F34-$Z$16))),"DNM") -> 282.0575 | S34: =IFERROR(S35*(1-($W$16*($F34-$Z$16))),"DNM") -> 358.8825
C35: 4-27 ga | E35: SAF-Q-409-G27 | F35: 9 | N35: =N31 -> 55 | O35: =O31 -> 100 | P35: =P31 -> 150 | Q35: =Q31 -> 199 | R35: =R31 -> 257 | S35: =S31 -> 327
C36: 4-27 ga | E36: SAF-Q-412-G27 | F36: 12 | N36: =IFERROR(N35*(1-($W$16*($F36-$Z$16))),"DNM") -> 49.6375 | O36: =IFERROR(O35*(1-($W$16*($F36-$Z$16))),"DNM") -> 90.25 | P36: =IFERROR(P35*(1-($W$16*($F36-$Z$16))),"DNM") -> 135.375 | Q36: =IFERROR(Q35*(1-($W$16*($F36-$Z$16))),"DNM") -> 179.5975 | R36: =IFERROR(R35*(1-($W$16*($F36-$Z$16))),"DNM") -> 231.9425 | S36: =IFERROR(S35*(1-($W$16*($F36-$Z$16))),"DNM") -> 295.1175
C37: 4-24 ga | D37: SUB-409-G24 | F37: 9
C38: 4-24 ga | D38: SUB-412-G24 | F38: 12
C39: 5-27 ga | E39: SUB-506 | F39: 6 | N39: =IFERROR(N40*(1-($W$16*($F39-$Z$16))),"DNM") -> 65.85 | O39: =IFERROR(O40*(1-($W$16*($F39-$Z$16))),"DNM") -> 118.53 | P39: =IFERROR(P40*(1-($W$16*($F39-$Z$16))),"DNM") -> 177.795 | Q39: =IFERROR(Q40*(1-($W$16*($F39-$Z$16))),"DNM") -> 234.865 | R39: =IFERROR(R40*(1-($W$16*($F39-$Z$16))),"DNM") -> 307.3 | S39: =IFERROR(S40*(1-($W$16*($F39-$Z$16))),"DNM") -> 404.9775
C40: 5-27 ga | E40: SUB-509 | F40: 9 | N40: 60 | O40: 108 | P40: 162 | Q40: 214 | R40: 280 | S40: 369
C41: 5-27 ga | E41: SAF-Q-509-G27 | F41: 9 | N41: =N40 -> 60 | O41: =O40 -> 108 | P41: =P40 -> 162 | Q41: =Q40 -> 214 | R41: =R40 -> 280 | S41: =S40 -> 369
C42: 5-24 ga | D42: SUB-512-G24 | F42: 12
C43: 6-27 ga | E43: SUB-606 | F43: 6
C44: 6-27 ga | E44: SUB-609 | F44: 9
C45: 6-27 ga | E45: SAF-Q-609-G27 | F45: 9
C46: 6-24 ga | D46: SUB-612-G24 | F46: 12
B47: SCIg60 Infuser | C47: 1 | E47: SUB-104-G27 | F47: 4 | G47: =IFERROR(G49*(1-($W$16*($F47-$Z$16))),"DNM") -> 14.083861 | H47: =IFERROR(H49*(1-($W$16*($F47-$Z$16))),"DNM") -> 18.779949 | I47: =IFERROR(I49*(1-($W$16*($F47-$Z$16))),"DNM") -> 23.670456 | J47: =IFERROR(J49*(1-($W$16*($F47-$Z$16))),"DNM") -> 25.98815 | K47: =IFERROR(K49*(1-($W$16*($F47-$Z$16))),"DNM") -> 30.526663 | L47: =IFERROR(L49*(1-($W$16*($F47-$Z$16))),"DNM") -> 31.190174
C48: 1 | E48: SUB-106-G27 | F48: 6 | G48: =IFERROR(G49*(1-($W$16*($F48-$Z$16))),"DNM") -> 13.296376 | H48: =IFERROR(H49*(1-($W$16*($F48-$Z$16))),"DNM") -> 17.729887 | I48: =IFERROR(I49*(1-($W$16*($F48-$Z$16))),"DNM") -> 22.346947 | J48: =IFERROR(J49*(1-($W$16*($F48-$Z$16))),"DNM") -> 24.535049 | K48: =IFERROR(K49*(1-($W$16*($F48-$Z$16))),"DNM") -> 28.819796 | L48: =IFERROR(L49*(1-($W$16*($F48-$Z$16))),"DNM") -> 29.446207
C49: 1 | E49: SUB-109-G27 | F49: 9 | G49: 12.115149 | H49: 16.154795 | I49: 20.361683 | J49: 22.355398 | K49: 26.259495 | L49: 26.830257
C50: 1 | E50: SAF-Q-106-G27 | F50: 6 | G50: =IFERROR(G51*(1-($W$16*($F50-$Z$16))),"DNM") -> 13.296376 | H50: =IFERROR(H51*(1-($W$16*($F50-$Z$16))),"DNM") -> 17.729887 | I50: =IFERROR(I51*(1-($W$16*($F50-$Z$16))),"DNM") -> 22.346947 | J50: =IFERROR(J51*(1-($W$16*($F50-$Z$16))),"DNM") -> 24.535049 | K50: =IFERROR(K51*(1-($W$16*($F50-$Z$16))),"DNM") -> 28.819796 | L50: =IFERROR(L51*(1-($W$16*($F50-$Z$16))),"DNM") -> 29.446207
C51: 1 | E51: SAF-Q-109-G27 | F51: 9 | G51: =G49 -> 12.115149 | H51: =H49 -> 16.154795 | I51: =I49 -> 20.361683 | J51: =J49 -> 22.355398 | K51: =K49 -> 26.259495 | L51: =L49 -> 26.830257
C52: 1 | D52: SUB-109-G24 | F52: 9 | G52: 20.660206 | H52: 30.117017 | L52: 107.68077
C53: 1 | D53: SUB-112-G24 | F53: 12 | G53: =IFERROR(G52*(1-($W$16*($F53-$Z$16))),"DNM") -> 18.645836 | H53: =IFERROR(H52*(1-($W$16*($F53-$Z$16))),"DNM") -> 27.180608 | L53: =IFERROR(L52*(1-($W$16*($F53-$Z$16))),"DNM") -> 97.181894
C54: 1 | D54: SAF-Q-106-G24 | F54: 6 | G54: =IFERROR(G55*(1-($W$16*($F54-$Z$16))),"DNM") -> 22.674576 | H54: =IFERROR(H55*(1-($W$16*($F54-$Z$16))),"DNM") -> 33.053426 | L54: =IFERROR(L55*(1-($W$16*($F54-$Z$16))),"DNM") -> 118.17964
C55: 1 | D55: SAF-Q-109-G24 | F55: 9 | G55: =G52 -> 20.660206 | H55: =H52 -> 30.117017 | L55: =L52 -> 107.68077
C56: 2 | E56: SUB-204-G27 | F56: 4 | G56: =IFERROR(G58*(1-($W$16*($F56-$Z$16))),"DNM") -> 17.926459 | H56: =IFERROR(H58*(1-($W$16*($F56-$Z$16))),"DNM") -> 27.791576 | I56: =IFERROR(I58*(1-($W$16*($F56-$Z$16))),"DNM") -> 37.683951 | J56: =IFERROR(J58*(1-($W$16*($F56-$Z$16))),"DNM") -> 46.825172 | K56: =IFERROR(K58*(1-($W$16*($F56-$Z$16))),"DNM") -> 54.709283 | L56: =IFERROR(L58*(1-($W$16*($F56-$Z$16))),"DNM") -> 60.616156
C57: 2 | E57: SUB-250 | F57: 6 | G57: =IFERROR(G58*(1-($W$16*($F57-$Z$16))),"DNM") -> 16.924119 | H57: =IFERROR(H58*(1-($W$16*($F57-$Z$16))),"DNM") -> 26.237639 | I57: =IFERROR(I58*(1-($W$16*($F57-$Z$16))),"DNM") -> 35.576892 | J57: =IFERROR(J58*(1-($W$16*($F57-$Z$16))),"DNM") -> 44.206991 | K57: =IFERROR(K58*(1-($W$16*($F57-$Z$16))),"DNM") -> 51.650269 | L57: =IFERROR(L58*(1-($W$16*($F57-$Z$16))),"DNM") -> 57.226865
C58: 2 | E58: SUB-260 | F58: 9 | G58: 15.42061 | H58: 23.906732 | I58: 32.416302 | J58: 40.279718 | K58: 47.061749 | L58: 52.14293
C59: 2 | E59: SUB-212-G27 | F59: 12 | G59: =IFERROR(G58*(1-($W$16*($F59-$Z$16))),"DNM") -> 13.9171 | H59: =IFERROR(H58*(1-($W$16*($F59-$Z$16))),"DNM") -> 21.575826 | I59: =IFERROR(I58*(1-($W$16*($F59-$Z$16))),"DNM") -> 29.255713 | J59: =IFERROR(J58*(1-($W$16*($F59-$Z$16))),"DNM") -> 36.352446 | K59: =IFERROR(K58*(1-($W$16*($F59-$Z$16))),"DNM") -> 42.473228 | L59: =IFERROR(L58*(1-($W$16*($F59-$Z$16))),"DNM") -> 47.058994
C60: 2 | E60: SAF-Q-206-G27 | F60: 6 | G60: =IFERROR(G61*(1-($W$16*($F60-$Z$16))),"DNM") -> 16.924119 | H60: =IFERROR(H61*(1-($W$16*($F60-$Z$16))),"DNM") -> 26.237639 | I60: =IFERROR(I61*(1-($W$16*($F60-$Z$16))),"DNM") -> 35.576892 | J60: =IFERROR(J61*(1-($W$16*($F60-$Z$16))),"DNM") -> 44.206991 | K60: =IFERROR(K61*(1-($W$16*($F60-$Z$16))),"DNM") -> 51.650269 | L60: =IFERROR(L61*(1-($W$16*($F60-$Z$16))),"DNM") -> 57.226865
C61: 2 | E61: SAF-Q-209-G27 | F61: 9 | G61: =G58 -> 15.42061 | H61: =H58 -> 23.906732 | I61: =I58 -> 32.416302 | J61: =J58 -> 40.279718 | K61: =K58 -> 47.061749 | L61: =L58 -> 52.14293
C62: 2 | E62: SAF-Q-212-G27 | F62: 12 | G62: =IFERROR(G61*(1-($W$16*($F62-$Z$16))),"DNM") -> 13.9171 | H62: =IFERROR(H61*(1-($W$16*($F62-$Z$16))),"DNM") -> 21.575826 | I62: =IFERROR(I61*(1-($W$16*($F62-$Z$16))),"DNM") -> 29.255713 | J62: =IFERROR(J61*(1-($W$16*($F62-$Z$16))),"DNM") -> 36.352446 | K62: =IFERROR(K61*(1-($W$16*($F62-$Z$16))),"DNM") -> 42.473228 | L62: =IFERROR(L61*(1-($W$16*($F62-$Z$16))),"DNM") -> 47.058994
C63: 2 | D63: SUB-209-G24 | F63: 9 | G63: 21.533623 | H63: 36.733456 | I63: 51.690676 | J63: 77.683335 | L63: 92.96977
C64: 2 | D64: SUB-212-G24 | F64: 12 | G64: =IFERROR(G63*(1-($W$16*($F64-$Z$16))),"DNM") -> 19.434094 | H64: =IFERROR(H63*(1-($W$16*($F64-$Z$16))),"DNM") -> 33.151944 | I64: =IFERROR(I63*(1-($W$16*($F64-$Z$16))),"DNM") -> 46.650835 | J64: =IFERROR(J63*(1-($W$16*($F64-$Z$16))),"DNM") -> 70.10921 | L64: =IFERROR(L63*(1-($W$16*($F64-$Z$16))),"DNM") -> 83.905218
C65: 3 | E65: SUB-310 | F65: 6 | G65: =IFERROR(G66*(1-($W$16*($F65-$Z$16))),"DNM") -> 18.784049 | H65: =IFERROR(H66*(1-($W$16*($F65-$Z$16))),"DNM") -> 32.413914 | I65: =IFERROR(I66*(1-($W$16*($F65-$Z$16))),"DNM") -> 44.044758 | J65: =IFERROR(J66*(1-($W$16*($F65-$Z$16))),"DNM") -> 57.629276 | K65: =IFERROR(K66*(1-($W$16*($F65-$Z$16))),"DNM") -> 75.079924 | L65: =IFERROR(L66*(1-($W$16*($F65-$Z$16))),"DNM") -> 79.475873 | N65: =N22/(1+N$92) -> 46.782178 | O65: =O22/(1+O$92) -> 87.419672 | P65: =P22/(1+P$92) -> 128.50676 | Q65: =Q22/(1+Q$92) -> 163.03279 | R65: =R22/(1+R$92) -> 193.11182 | S65: =S22/(1+S$92) -> 225.68661
C66: 3 | E66: SUB-320 | F66: 9 | G66: 17.115307 | H66: 29.534318 | I66: 40.131898 | J66: 52.509591 | K66: 68.409953 | L66: 72.415374 | N66: =IFERROR(N65*(1+($W$16*($F65-$Z$16))),"DNM") -> 42.220916 | O66: =IFERROR(O65*(1+($W$16*($F65-$Z$16))),"DNM") -> 78.896254 | P66: =IFERROR(P65*(1+($W$16*($F65-$Z$16))),"DNM") -> 115.97735 | Q66: =IFERROR(Q65*(1+($W$16*($F65-$Z$16))),"DNM") -> 147.13709 | R66: =IFERROR(R65*(1+($W$16*($F65-$Z$16))),"DNM") -> 174.28342 | S66: =IFERROR(S65*(1+($W$16*($F65-$Z$16))),"DNM") -> 203.68216
C67: 3 | E67: SUB-312-G27 | F67: 12 | G67: =IFERROR(G66*(1-($W$16*($F67-$Z$16))),"DNM") -> 15.446564 | H67: =IFERROR(H66*(1-($W$16*($F67-$Z$16))),"DNM") -> 26.654722 | I67: =IFERROR(I66*(1-($W$16*($F67-$Z$16))),"DNM") -> 36.219038 | J67: =IFERROR(J66*(1-($W$16*($F67-$Z$16))),"DNM") -> 47.389906 | K67: =IFERROR(K66*(1-($W$16*($F67-$Z$16))),"DNM") -> 61.739983 | L67: =IFERROR(L66*(1-($W$16*($F67-$Z$16))),"DNM") -> 65.354875 | N67: =IFERROR(N66*(1+($W$16*($F65-$Z$16))),"DNM") -> 38.104377 | O67: =IFERROR(O66*(1+($W$16*($F65-$Z$16))),"DNM") -> 71.203869 | P67: =IFERROR(P66*(1+($W$16*($F65-$Z$16))),"DNM") -> 104.66956 | Q67: =IFERROR(Q66*(1+($W$16*($F65-$Z$16))),"DNM") -> 132.79122 | R67: =IFERROR(R66*(1+($W$16*($F65-$Z$16))),"DNM") -> 157.29079 | S67: =IFERROR(S66*(1+($W$16*($F65-$Z$16))),"DNM") -> 183.82315
C68: 3 | E68: SAF-Q-306-G27 | F68: 6 | G68: =IFERROR(G69*(1-($W$16*($F68-$Z$16))),"DNM") -> 18.784049 | H68: =IFERROR(H69*(1-($W$16*($F68-$Z$16))),"DNM") -> 32.413914 | I68: =IFERROR(I69*(1-($W$16*($F68-$Z$16))),"DNM") -> 44.044758 | J68: =IFERROR(J69*(1-($W$16*($F68-$Z$16))),"DNM") -> 57.629276 | K68: =IFERROR(K69*(1-($W$16*($F68-$Z$16))),"DNM") -> 75.079924 | L68: =IFERROR(L69*(1-($W$16*($F68-$Z$16))),"DNM") -> 79.475873 | N68: =N65 -> 46.782178 | O68: =O65 -> 87.419672 | P68: =P65 -> 128.50676 | Q68: =Q65 -> 163.03279 | R68: =R65 -> 193.11182 | S68: =S65 -> 225.68661
C69: 3 | E69: SAF-Q-309-G27 | F69: 9 | G69: =G66 -> 17.115307 | H69: =H66 -> 29.534318 | I69: =I66 -> 40.131898 | J69: =J66 -> 52.509591 | K69: =K66 -> 68.409953 | L69: =L66 -> 72.415374 | N69: =IFERROR(N68*(1+($W$16*($F68-$Z$16))),"DNM") -> 42.220916 | O69: =IFERROR(O68*(1+($W$16*($F68-$Z$16))),"DNM") -> 78.896254 | P69: =IFERROR(P68*(1+($W$16*($F68-$Z$16))),"DNM") -> 115.97735 | Q69: =IFERROR(Q68*(1+($W$16*($F68-$Z$16))),"DNM") -> 147.13709 | R69: =IFERROR(R68*(1+($W$16*($F68-$Z$16))),"DNM") -> 174.28342 | S69: =IFERROR(S68*(1+($W$16*($F68-$Z$16))),"DNM") -> 203.68216
C70: 3 | D70: SUB-309-G24 | F70: 9 | G70: 22.171885 | H70: 41.914161 | I70: 64.070507 | L70: 91.036917
C71: 3 | D71: SUB-312-G24 | F71: 12 | G71: =IFERROR(G70*(1-($W$16*($F71-$Z$16))),"DNM") -> 20.010127 | H71: =IFERROR(H70*(1-($W$16*($F71-$Z$16))),"DNM") -> 37.827531 | I71: =IFERROR(I70*(1-($W$16*($F71-$Z$16))),"DNM") -> 57.823633 | L71: =IFERROR(L70*(1-($W$16*($F71-$Z$16))),"DNM") -> 82.160817
C72: 3 | D72: SAF-Q-309-G24 | F72: 9 | G72: =G70 -> 22.171885 | H72: =H70 -> 41.914161 | I72: =I70 -> 64.070507 | L72: =L70 -> 91.036917
C73: 4 | E73: SUB-400 | F73: 6 | N73: =IFERROR(N74*(1-($W$16*($F73-$Z$16))),"DNM") -> 56.477785 | O73: =IFERROR(O74*(1-($W$16*($F73-$Z$16))),"DNM") -> 105.43197 | P73: =IFERROR(P74*(1-($W$16*($F73-$Z$16))),"DNM") -> 159.06334 | Q73: =IFERROR(Q74*(1-($W$16*($F73-$Z$16))),"DNM") -> 209.45158 | R73: =IFERROR(R74*(1-($W$16*($F73-$Z$16))),"DNM") -> 263.13351 | S73: =IFERROR(S74*(1-($W$16*($F73-$Z$16))),"DNM") -> 334.68997
C74: 4 | E74: SUB-410 | F74: 9 | N74: =N31/(1+N$92) -> 51.460396 | O74: =O31/(1+O$92) -> 96.065574 | P74: =P31/(1+P$92) -> 144.93243 | Q74: =Q31/(1+Q$92) -> 190.84426 | R74: =R31/(1+R$92) -> 239.75719 | S74: =S31/(1+S$92) -> 304.9567
C75: 4 | E75: SUB-412-G27 | F75: 12 | N75: =IFERROR(N74*(1-($W$16*($F75-$Z$16))),"DNM") -> 46.443007 | O75: =IFERROR(O74*(1-($W$16*($F75-$Z$16))),"DNM") -> 86.69918 | P75: =IFERROR(P74*(1-($W$16*($F75-$Z$16))),"DNM") -> 130.80152 | Q75: =IFERROR(Q74*(1-($W$16*($F75-$Z$16))),"DNM") -> 172.23695 | R75: =IFERROR(R74*(1-($W$16*($F75-$Z$16))),"DNM") -> 216.38086 | S75: =IFERROR(S74*(1-($W$16*($F75-$Z$16))),"DNM") -> 275.22342
C76: 4 | E76: SUB-414-G27 | F76: 14 | N76: =IFERROR(N74*(1-($W$16*($F76-$Z$16))),"DNM") -> 43.098082 | O76: =IFERROR(O74*(1-($W$16*($F76-$Z$16))),"DNM") -> 80.454918 | P76: =IFERROR(P74*(1-($W$16*($F76-$Z$16))),"DNM") -> 121.38091 | Q76: =IFERROR(Q74*(1-($W$16*($F76-$Z$16))),"DNM") -> 159.83207 | R76: =IFERROR(R74*(1-($W$16*($F76-$Z$16))),"DNM") -> 200.79665 | S76: =IFERROR(S74*(1-($W$16*($F76-$Z$16))),"DNM") -> 255.40123
C77: 4 | E77: SAF-Q-406-G27 | F77: 6 | N77: =IFERROR(N78*(1-($W$16*($F77-$Z$16))),"DNM") -> 56.477785 | O77: =IFERROR(O78*(1-($W$16*($F77-$Z$16))),"DNM") -> 105.43197 | P77: =IFERROR(P78*(1-($W$16*($F77-$Z$16))),"DNM") -> 159.06334 | Q77: =IFERROR(Q78*(1-($W$16*($F77-$Z$16))),"DNM") -> 209.45158 | R77: =IFERROR(R78*(1-($W$16*($F77-$Z$16))),"DNM") -> 263.13351 | S77: =IFERROR(S78*(1-($W$16*($F77-$Z$16))),"DNM") -> 334.68997
C78: 4 | E78: SAF-Q-409-G27 | F78: 9 | N78: =N74 -> 51.460396 | O78: =O74 -> 96.065574 | P78: =P74 -> 144.93243 | Q78: =Q74 -> 190.84426 | R78: =R74 -> 239.75719 | S78: =S74 -> 304.9567
C79: 4 | E79: SAF-Q-412-G27 | F79: 12 | N79: =IFERROR(N78*(1-($W$16*($F79-$Z$16))),"DNM") -> 46.443007 | O79: =IFERROR(O78*(1-($W$16*($F79-$Z$16))),"DNM") -> 86.69918 | P79: =IFERROR(P78*(1-($W$16*($F79-$Z$16))),"DNM") -> 130.80152 | Q79: =IFERROR(Q78*(1-($W$16*($F79-$Z$16))),"DNM") -> 172.23695 | R79: =IFERROR(R78*(1-($W$16*($F79-$Z$16))),"DNM") -> 216.38086 | S79: =IFERROR(S78*(1-($W$16*($F79-$Z$16))),"DNM") -> 275.22342
C80: 4 | D80: SUB-409-G24 | F80: 9
C81: 4 | D81: SUB-412-G24 | F81: 12
C82: 5 | E82: SUB-506 | F82: 6 | N82: =IFERROR(N83*(1-($W$16*($F82-$Z$16))),"DNM") -> 61.612129 | O82: =IFERROR(O83*(1-($W$16*($F82-$Z$16))),"DNM") -> 113.86652 | P82: =IFERROR(P83*(1-($W$16*($F82-$Z$16))),"DNM") -> 171.78841 | Q82: =IFERROR(Q83*(1-($W$16*($F82-$Z$16))),"DNM") -> 225.23939 | R82: =IFERROR(R83*(1-($W$16*($F82-$Z$16))),"DNM") -> 286.68243 | S82: =IFERROR(S83*(1-($W$16*($F82-$Z$16))),"DNM") -> 377.67768
C83: 5 | E83: SUB-509 | F83: 9 | N83: =N40/(1+N$92) -> 56.138614 | O83: =O40/(1+O$92) -> 103.75082 | P83: =P40/(1+P$92) -> 156.52703 | Q83: =Q40/(1+Q$92) -> 205.22951 | R83: =R40/(1+R$92) -> 261.21406 | S83: =S40/(1+S$92) -> 344.12545
C84: 5 | E84: SAF-Q-509-G27 | F84: 9 | N84: =N83 -> 56.138614 | O84: =O83 -> 103.75082 | P84: =P83 -> 156.52703 | Q84: =Q83 -> 205.22951 | R84: =R83 -> 261.21406 | S84: =S83 -> 344.12545
C85: 5 | D85: SUB-512-G24 | F85: 12
C86: 6 | E86: SUB-606 | F86: 6
C87: 6 | E87: SUB-609 | F87: 9
C88: 6 | E88: SAF-Q-609-G27 | F88: 9
C89: 6 | D89: SUB-612-G24 | F89: 12
N91: Comparative Pump Performance based on testing
N92: 0.068783069 | O92: 0.040955631 | P92: 0.034965035 | Q92: 0.042735043 | R92: 0.071917808 | S92: 0.072283389
