Workbook

Sheet Sheet1
G1: Hizentra | N1: Gammagard | U1: Gammanorm | AB1: Subcuvia | AI1: KIOVIG | AQ1: Drug: | AR1: Hizentra | AV1: Infusion & Volume Limits
D2: Administration Set | G2: VersaRate Position | N2: VersaRate Position | U2: VersaRate Position | AB2: VersaRate Position | AI2: VersaRate Position | AQ2: Pump: | AR2: SCIg60 Infuser | AV2: Initial | AW2: Subsequent
B3: Pump | C3: Needle Qty | D3: 24 ga | E3: 27 ga | F3: Needle Length (mm) | G3: 1 | H3: 2 | I3: 3 | J3: 4 | K3: 5 | L3: 6 | N3: 1 | O3: 2 | P3: 3 | Q3: 4 | R3: 5 | S3: 6 | U3: 1 | V3: 2 | W3: 3 | X3: 4 | Y3: 5 | Z3: 6 | AB3: 1 | AC3: 2 | AD3: 3 | AE3: 4 | AF3: 5 | AG3: 6 | AI3: 1 | AJ3: 2 | AK3: 3 | AL3: 4 | AM3: 5 | AN3: 6 | AQ3: Lookup Set: | AR3: SUB-209-G24 | AS3: Needle Length: | AT3: =IFERROR(IF(NeedleGauge="24 ga",VLOOKUP(AdminSet,D4:F46,3,0),VLOOKUP(AdminSet,E4:F46,2,0)) & " mm","") -> 9 mm | AZ3: Total Flow Rate
B4: FREEDOM60® | C4: 1-27 ga | E4: SUB-104-G27 | F4: 4 | H4: =IFERROR(H6*(1-($AR$16*($F4-$AU$16))),"DNM") -> 12.126729 | I4: =IFERROR(I6*(1-($AR$16*($F4-$AU$16))),"DNM") -> 14.623233 | J4: =IFERROR(J6*(1-($AR$16*($F4-$AU$16))),"DNM") -> 16.027152 | K4: =IFERROR(K6*(1-($AR$16*($F4-$AU$16))),"DNM") -> 17.917097 | L4: =IFERROR(L6*(1-($AR$16*($F4-$AU$16))),"DNM") -> 19.784868 | U4: =IFERROR(U6*(1-($AR$16*($F4-$AU$16))),"DNM") -> 13.057084 | V4: =IFERROR(V6*(1-($AR$16*($F4-$AU$16))),"DNM") -> 18.940487 | W4: =IFERROR(W6*(1-($AR$16*($F4-$AU$16))),"DNM") -> 21.3096 | X4: =IFERROR(X6*(1-($AR$16*($F4-$AU$16))),"DNM") -> 24.82065 | Y4: =IFERROR(Y6*(1-($AR$16*($F4-$AU$16))),"DNM") -> 27.96327 | Z4: =IFERROR(Z6*(1-($AR$16*($F4-$AU$16))),"DNM") -> 27.110362 | AB4: =IFERROR(AB6*(1-($AR$16*($F4-$AU$16))),"DNM") -> 14.039266 | AC4: =IFERROR(AC6*(1-($AR$16*($F4-$AU$16))),"DNM") -> 20.365231 | AD4: =IFERROR(AD6*(1-($AR$16*($F4-$AU$16))),"DNM") -> 22.912555 | AE4: =IFERROR(AE6*(1-($AR$16*($F4-$AU$16))),"DNM") -> 26.687713 | AF4: =IFERROR(AF6*(1-($AR$16*($F4-$AU$16))),"DNM") -> 30.066728 | AG4: =IFERROR(AG6*(1-($AR$16*($F4-$AU$16))),"DNM") -> 29.149662 | AQ4: Default Set: | AR4: =VLOOKUP(QtyNeedles,[1]Lists!$H$2:$K$8,MATCH(NeedleGauge,[1]Lists!$H$2:$K$2,0),0) -> #N/A | AV4: =INDEX([1]'Flow Rate Limits'!$A$1:$Z$6,MATCH(Country_Region,[1]'Flow Rate Limits'!$A$1:$A$6,0),MATCH(Drug,[1]'Flow Rate Limits'!$A$1:$Z$1,0)) -> 9999 | AZ4: =IF(AnyErrorMessages=1,"",FlowRate) -> 18.641072 | BA4: ml/hr
C5: 1-27 ga | E5: SUB-106-G27 | F5: 6 | H5: =IFERROR(H6*(1-($AR$16*($F5-$AU$16))),"DNM") -> 11.448675 | I5: =IFERROR(I6*(1-($AR$16*($F5-$AU$16))),"DNM") -> 13.80559 | J5: =IFERROR(J6*(1-($AR$16*($F5-$AU$16))),"DNM") -> 15.13101 | K5: =IFERROR(K6*(1-($AR$16*($F5-$AU$16))),"DNM") -> 16.915281 | L5: =IFERROR(L6*(1-($AR$16*($F5-$AU$16))),"DNM") -> 18.678617 | U5: =IFERROR(U6*(1-($AR$16*($F5-$AU$16))),"DNM") -> 12.32701 | V5: =IFERROR(V6*(1-($AR$16*($F5-$AU$16))),"DNM") -> 17.881449 | W5: =IFERROR(W6*(1-($AR$16*($F5-$AU$16))),"DNM") -> 20.118096 | X5: =IFERROR(X6*(1-($AR$16*($F5-$AU$16))),"DNM") -> 23.432828 | Y5: =IFERROR(Y6*(1-($AR$16*($F5-$AU$16))),"DNM") -> 26.399732 | Z5: =IFERROR(Z6*(1-($AR$16*($F5-$AU$16))),"DNM") -> 25.594514 | AB5: =IFERROR(AB6*(1-($AR$16*($F5-$AU$16))),"DNM") -> 13.254275 | AC5: =IFERROR(AC6*(1-($AR$16*($F5-$AU$16))),"DNM") -> 19.22653 | AD5: =IFERROR(AD6*(1-($AR$16*($F5-$AU$16))),"DNM") -> 21.631423 | AE5: =IFERROR(AE6*(1-($AR$16*($F5-$AU$16))),"DNM") -> 25.195497 | AF5: =IFERROR(AF6*(1-($AR$16*($F5-$AU$16))),"DNM") -> 28.385577 | AG5: =IFERROR(AG6*(1-($AR$16*($F5-$AU$16))),"DNM") -> 27.519789 | AQ5: Alternative Set: | AR5: SUB-104-G27 | AZ5: =IF(AnyErrorMessages=1,"",IF(AZ4>AV4,"Exceeds total flow rate limit",""))
C6: 1-27 ga | E6: SUB-109-G27 | F6: 9 | H6: 10.431595 | I6: 12.579125 | J6: 13.786797 | K6: 15.412557 | L6: 17.019241 | U6: =AB6-(AB6*$AR$19) -> 11.2319 | V6: =AC6-(AC6*$AR$19) -> 16.292892 | W6: =AD6-(AD6*$AR$19) -> 18.330839 | X6: =AE6-(AE6*$AR$19) -> 21.351097 | Y6: =AF6-(AF6*$AR$19) -> 24.054426 | Z6: =AG6-(AG6*$AR$19) -> 23.320741 | AB6: 12.076788 | AC6: 17.518479 | AD6: 19.709725 | AE6: 22.957173 | AF6: 25.863852 | AG6: 25.074978 | AQ6: VersaRate Position: | AR6: 2 | AZ6: Flow Rate Per Site
C7: 1-27 ga | E7: SAF-Q-106-G27 | F7: 6 | H7: =IFERROR(H8*(1-($AR$16*($F7-$AU$16))),"DNM") -> 11.448675 | I7: =IFERROR(I8*(1-($AR$16*($F7-$AU$16))),"DNM") -> 13.80559 | J7: =IFERROR(J8*(1-($AR$16*($F7-$AU$16))),"DNM") -> 15.13101 | K7: =IFERROR(K8*(1-($AR$16*($F7-$AU$16))),"DNM") -> 16.915281 | L7: =IFERROR(L8*(1-($AR$16*($F7-$AU$16))),"DNM") -> 18.678617 | U7: =IFERROR(U8*(1-($AR$16*($F7-$AU$16))),"DNM") -> 12.32701 | V7: =IFERROR(V8*(1-($AR$16*($F7-$AU$16))),"DNM") -> 17.881449 | W7: =IFERROR(W8*(1-($AR$16*($F7-$AU$16))),"DNM") -> 20.118096 | X7: =IFERROR(X8*(1-($AR$16*($F7-$AU$16))),"DNM") -> 23.432828 | Y7: =IFERROR(Y8*(1-($AR$16*($F7-$AU$16))),"DNM") -> 26.399732 | Z7: =IFERROR(Z8*(1-($AR$16*($F7-$AU$16))),"DNM") -> 25.594514 | AB7: =IFERROR(AB8*(1-($AR$16*($F7-$AU$16))),"DNM") -> 13.254275 | AC7: =IFERROR(AC8*(1-($AR$16*($F7-$AU$16))),"DNM") -> 19.22653 | AD7: =IFERROR(AD8*(1-($AR$16*($F7-$AU$16))),"DNM") -> 21.631423 | AE7: =IFERROR(AE8*(1-($AR$16*($F7-$AU$16))),"DNM") -> 25.195497 | AF7: =IFERROR(AF8*(1-($AR$16*($F7-$AU$16))),"DNM") -> 28.385577 | AG7: =IFERROR(AG8*(1-($AR$16*($F7-$AU$16))),"DNM") -> 27.519789 | AQ7: Flow Rate: | AR7: =IF(Pump="Freedom60®",IF(NeedleGauge="24 ga",VLOOKUP(AdminSet,D4:AN46,2+VersaRatePosition+MATCH(Drug,G1:AN1,0),0),VLOOKUP(AdminSet,E4:AN46,1+VersaRatePosition+MATCH(Drug,G1:AN1,0),0)),IF(NeedleGauge="24 ga",VLOOKUP(AdminSet,D47:AN89,2+VersaRatePosition+MATCH(Drug,G1:AN1,0),0),VLOOKUP(AdminSet,E47:AN89,1+VersaRatePosition+MATCH(Drug,G1:AN1,0),0))) -> 18.641072 | AS7: ml/hr | AU7: Infusion: | AV7: =INDEX([1]'Flow Rate Limits'!$A$1:$Z$6,MATCH(Country_Region,[1]'Flow Rate Limits'!$A$1:$A$6,0),MATCH(Drug,[1]'Flow Rate Limits'!$A$1:$Z$1,0)+1) -> 15.5 | AW7: =INDEX([1]'Flow Rate Limits'!$A$1:$Z$6,MATCH(Country_Region,[1]'Flow Rate Limits'!$A$1:$A$6,0),MATCH(Drug,[1]'Flow Rate Limits'!$A$1:$Z$1,0)+2) -> 25.5 | AZ7: =IF(AnyErrorMessages=1,"",AZ4/AR9) -> 9.3205359 | BA7: ml/hr
C8: 1-27 ga | E8: SAF-Q-109-G27 | F8: 9 | H8: =H6 -> 10.431595 | I8: =I6 -> 12.579125 | J8: =J6 -> 13.786797 | K8: =K6 -> 15.412557 | L8: =L6 -> 17.019241 | U8: =AB8-(AB8*$AR$19) -> 11.2319 | V8: =AC8-(AC8*$AR$19) -> 16.292892 | W8: =AD8-(AD8*$AR$19) -> 18.330839 | X8: =AE8-(AE8*$AR$19) -> 21.351097 | Y8: =AF8-(AF8*$AR$19) -> 24.054426 | Z8: =AG8-(AG8*$AR$19) -> 23.320741 | AB8: =AB6 -> 12.076788 | AC8: =AC6 -> 17.518479 | AD8: =AD6 -> 19.709725 | AE8: =AE6 -> 22.957173 | AF8: =AF6 -> 25.863852 | AG8: =AG6 -> 25.074978 | AQ8: Needle Set: | AR8: 2 Needles | BC8: =IF(AnyErrorMessages=1,"",IF(AZ7>AW7,"Exceeds limit for subsequent infusions",IF(AND(InitialWarnings=1,AZ7>AV7),"Caution: Limit for first time infusion exceeded","")))
C9: 1-24 ga | D9: SUB-109-G24 | F9: 9 | G9: 11.013345 | H9: 16.691955 | I9: 27.38082 | J9: 28.2 | K9: 34.958867 | L9: 43.189229 | U9: =AB9-(AB9*$AR$19) -> 16.816198 | V9: =AC9-(AC9*$AR$19) -> 31.281342 | Z9: =AG9-(AG9*$AR$19) -> 103.49973 | AB9: 18.081149 | AC9: 33.634392 | AG9: 111.2852 | AQ9: Qty Needles: | AR9: =VALUE(LEFT(NeedleSet,1)) -> 2 | AZ9: Dosage Volume Per Site
C10: 1-24 ga | D10: SUB-112-G24 | F10: 12 | G10: =IFERROR(G9*(1-($AR$16*($F10-$AU$16))),"DNM") -> 9.9395439 | H10: =IFERROR(H9*(1-($AR$16*($F10-$AU$16))),"DNM") -> 15.06449 | I10: =IFERROR(I9*(1-($AR$16*($F10-$AU$16))),"DNM") -> 24.71119 | J10: =IFERROR(J9*(1-($AR$16*($F10-$AU$16))),"DNM") -> 25.4505 | K10: =IFERROR(K9*(1-($AR$16*($F10-$AU$16))),"DNM") -> 31.550378 | L10: =IFERROR(L9*(1-($AR$16*($F10-$AU$16))),"DNM") -> 38.978279 | U10: =IFERROR(U9*(1-($AR$16*($F10-$AU$16))),"DNM") -> 15.176618 | V10: =IFERROR(V9*(1-($AR$16*($F10-$AU$16))),"DNM") -> 28.231411 | Z10: =IFERROR(Z9*(1-($AR$16*($F10-$AU$16))),"DNM") -> 93.408505 | AB10: =IFERROR(AB9*(1-($AR$16*($F10-$AU$16))),"DNM") -> 16.318237 | AC10: =IFERROR(AC9*(1-($AR$16*($F10-$AU$16))),"DNM") -> 30.355039 | AG10: =IFERROR(AG9*(1-($AR$16*($F10-$AU$16))),"DNM") -> 100.4349 | AQ10: Needle Gauge: | AR10: 24 ga | AU10: Volume: | AV10: =INDEX([1]'Flow Rate Limits'!$A$1:$Z$6,MATCH(Country_Region,[1]'Flow Rate Limits'!$A$1:$A$6,0),MATCH(Drug,[1]'Flow Rate Limits'!$A$1:$Z$1,0)+3) -> 15 | AW10: =INDEX([1]'Flow Rate Limits'!$A$1:$Z$6,MATCH(Country_Region,[1]'Flow Rate Limits'!$A$1:$A$6,0),MATCH(Drug,[1]'Flow Rate Limits'!$A$1:$Z$1,0)+4) -> 25 | AZ10: =IF(AnyErrorMessages=1,"",AR11/AR9) -> 12.5 | BA10: ml
C11: 1-24 ga | D11: SAF-Q-106-G24 | F11: 6 | G11: =IFERROR(G12*(1-($AR$16*($F11-$AU$16))),"DNM") -> 12.087146 | H11: =IFERROR(H12*(1-($AR$16*($F11-$AU$16))),"DNM") -> 18.319421 | I11: =IFERROR(I12*(1-($AR$16*($F11-$AU$16))),"DNM") -> 30.05045 | J11: =IFERROR(J12*(1-($AR$16*($F11-$AU$16))),"DNM") -> 30.9495 | K11: =IFERROR(K12*(1-($AR$16*($F11-$AU$16))),"DNM") -> 38.367357 | L11: =IFERROR(L12*(1-($AR$16*($F11-$AU$16))),"DNM") -> 47.400179 | U11: =IFERROR(U12*(1-($AR$16*($F11-$AU$16))),"DNM") -> 18.455777 | V11: =IFERROR(V12*(1-($AR$16*($F11-$AU$16))),"DNM") -> 34.331272 | Z11: =IFERROR(Z12*(1-($AR$16*($F11-$AU$16))),"DNM") -> 113.59095 | AB11: =IFERROR(AB12*(1-($AR$16*($F11-$AU$16))),"DNM") -> 19.844061 | AC11: =IFERROR(AC12*(1-($AR$16*($F11-$AU$16))),"DNM") -> 36.913745 | AG11: =IFERROR(AG12*(1-($AR$16*($F11-$AU$16))),"DNM") -> 122.13551 | AQ11: Dosage Volume: | AR11: =VALUE(AR12) -> 25 | AS11: ml | BC11: =IF(AnyErrorMessages=1,"",IF(AZ10>AW10,"Exceeds limit for subsequent infusions",IF(AND(InitialWarnings=1,AZ10>AV10),"Caution: Limit for first time infusion exceeded","")))
C12: 1-24 ga | D12: SAF-Q-109-G24 | F12: 9 | G12: =G9 -> 11.013345 | H12: =H9 -> 16.691955 | I12: =I9 -> 27.38082 | J12: =J9 -> 28.2 | K12: =K9 -> 34.958867 | L12: =L9 -> 43.189229 | U12: =AB12-(AB12*$AR$19) -> 16.816198 | V12: =AC12-(AC12*$AR$19) -> 31.281342 | Z12: =AG12-(AG12*$AR$19) -> 103.49973 | AB12: =AB9 -> 18.081149 | AC12: =AC9 -> 33.634392 | AG12: =AG9 -> 111.2852 | AQ12: (Linked cell for dosage volume): | AR12: 25
C13: 2-27 ga | E13: SUB-204-G27 | F13: 4 | H13: =IFERROR(H15*(1-($AR$16*($F13-$AU$16))),"DNM") -> 18.689216 | I13: =IFERROR(I15*(1-($AR$16*($F13-$AU$16))),"DNM") -> 24.545678 | J13: =IFERROR(J15*(1-($AR$16*($F13-$AU$16))),"DNM") -> 28.191985 | K13: =IFERROR(K15*(1-($AR$16*($F13-$AU$16))),"DNM") -> 34.881807 | L13: =IFERROR(L15*(1-($AR$16*($F13-$AU$16))),"DNM") -> 41.066161 | U13: =IFERROR(U15*(1-($AR$16*($F13-$AU$16))),"DNM") -> 17.042819 | V13: =IFERROR(V15*(1-($AR$16*($F13-$AU$16))),"DNM") -> 29.250625 | W13: =IFERROR(W15*(1-($AR$16*($F13-$AU$16))),"DNM") -> 36.014108 | X13: =IFERROR(X15*(1-($AR$16*($F13-$AU$16))),"DNM") -> 44.393783 | Y13: =IFERROR(Y15*(1-($AR$16*($F13-$AU$16))),"DNM") -> 55.715705 | Z13: =IFERROR(Z15*(1-($AR$16*($F13-$AU$16))),"DNM") -> 60.761238 | AB13: =IFERROR(AB15*(1-($AR$16*($F13-$AU$16))),"DNM") -> 18.324817 | AC13: =IFERROR(AC15*(1-($AR$16*($F13-$AU$16))),"DNM") -> 31.450921 | AD13: =IFERROR(AD15*(1-($AR$16*($F13-$AU$16))),"DNM") -> 38.723168 | AE13: =IFERROR(AE15*(1-($AR$16*($F13-$AU$16))),"DNM") -> 47.73318 | AF13: =IFERROR(AF15*(1-($AR$16*($F13-$AU$16))),"DNM") -> 59.906762 | AG13: =IFERROR(AG15*(1-($AR$16*($F13-$AU$16))),"DNM") -> 65.331831 | AZ13: Infusion Time
C14: 2-27 ga | E14: SUB-250 | F14: 6 | H14: =IFERROR(H15*(1-($AR$16*($F14-$AU$16))),"DNM") -> 17.644227 | I14: =IFERROR(I15*(1-($AR$16*($F14-$AU$16))),"DNM") -> 23.173232 | J14: =IFERROR(J15*(1-($AR$16*($F14-$AU$16))),"DNM") -> 26.615659 | K14: =IFERROR(K15*(1-($AR$16*($F14-$AU$16))),"DNM") -> 32.931426 | L14: =IFERROR(L15*(1-($AR$16*($F14-$AU$16))),"DNM") -> 38.769989 | U14: =IFERROR(U15*(1-($AR$16*($F14-$AU$16))),"DNM") -> 16.089887 | V14: =IFERROR(V15*(1-($AR$16*($F14-$AU$16))),"DNM") -> 27.615107 | W14: =IFERROR(W15*(1-($AR$16*($F14-$AU$16))),"DNM") -> 34.000416 | X14: =IFERROR(X15*(1-($AR$16*($F14-$AU$16))),"DNM") -> 41.91155 | Y14: =IFERROR(Y15*(1-($AR$16*($F14-$AU$16))),"DNM") -> 52.600418 | Z14: =IFERROR(Z15*(1-($AR$16*($F14-$AU$16))),"DNM") -> 57.363836 | AB14: =IFERROR(AB15*(1-($AR$16*($F14-$AU$16))),"DNM") -> 17.300204 | AC14: =IFERROR(AC15*(1-($AR$16*($F14-$AU$16))),"DNM") -> 29.692375 | AD14: =IFERROR(AD15*(1-($AR$16*($F14-$AU$16))),"DNM") -> 36.558001 | AE14: =IFERROR(AE15*(1-($AR$16*($F14-$AU$16))),"DNM") -> 45.064228 | AF14: =IFERROR(AF15*(1-($AR$16*($F14-$AU$16))),"DNM") -> 56.557136 | AG14: =IFERROR(AG15*(1-($AR$16*($F14-$AU$16))),"DNM") -> 61.678869 | AZ14: =IF(AnyErrorMessages=1,"",IF($AR$11=0,0,INT($AR$11/$AR$7))) -> 1 | BA14: hrs | BB14: =IF(AnyErrorMessages=1,"",IF($AR$11=0,0,INT((($AR$11/$AR$7)-INT($AR$11/$AR$7))*60))) -> 20 | BC14: min
C15: 2-27 ga | E15: SUB-260 | F15: 9 | H15: 16.076745 | I15: 21.114562 | J15: 24.25117 | K15: 30.005855 | L15: 35.32573 | U15: =AB15-(AB15*$AR$19) -> 14.66049 | V15: =AC15-(AC15*$AR$19) -> 25.161828 | W15: =AD15-(AD15*$AR$19) -> 30.979878 | X15: =AE15-(AE15*$AR$19) -> 38.1882 | Y15: =AF15-(AF15*$AR$19) -> 47.927488 | Z15: =AG15-(AG15*$AR$19) -> 52.267732 | AB15: 15.763284 | AC15: 27.054556 | AD15: 33.310252 | AE15: 41.0608 | AF15: 51.532698 | AG15: 56.199425
C16: 2-27 ga | E16: SUB-212-G27 | F16: 12 | H16: =IFERROR(H15*(1-($AR$16*($F16-$AU$16))),"DNM") -> 14.509262 | I16: =IFERROR(I15*(1-($AR$16*($F16-$AU$16))),"DNM") -> 19.055892 | J16: =IFERROR(J15*(1-($AR$16*($F16-$AU$16))),"DNM") -> 21.886681 | K16: =IFERROR(K15*(1-($AR$16*($F16-$AU$16))),"DNM") -> 27.080285 | L16: =IFERROR(L15*(1-($AR$16*($F16-$AU$16))),"DNM") -> 31.881471 | U16: =IFERROR(U15*(1-($AR$16*($F16-$AU$16))),"DNM") -> 13.231092 | V16: =IFERROR(V15*(1-($AR$16*($F16-$AU$16))),"DNM") -> 22.70855 | W16: =IFERROR(W15*(1-($AR$16*($F16-$AU$16))),"DNM") -> 27.95934 | X16: =IFERROR(X15*(1-($AR$16*($F16-$AU$16))),"DNM") -> 34.464851 | Y16: =IFERROR(Y15*(1-($AR$16*($F16-$AU$16))),"DNM") -> 43.254558 | Z16: =IFERROR(Z15*(1-($AR$16*($F16-$AU$16))),"DNM") -> 47.171628 | AB16: =IFERROR(AB15*(1-($AR$16*($F16-$AU$16))),"DNM") -> 14.226364 | AC16: =IFERROR(AC15*(1-($AR$16*($F16-$AU$16))),"DNM") -> 24.416737 | AD16: =IFERROR(AD15*(1-($AR$16*($F16-$AU$16))),"DNM") -> 30.062502 | AE16: =IFERROR(AE15*(1-($AR$16*($F16-$AU$16))),"DNM") -> 37.057372 | AF16: =IFERROR(AF15*(1-($AR$16*($F16-$AU$16))),"DNM") -> 46.50826 | AG16: =IFERROR(AG15*(1-($AR$16*($F16-$AU$16))),"DNM") -> 50.719981 | AQ16: Needle Length Factor: | AR16: 0.0325 | AS16: per mm from baseline of | AU16: 9 | AV16: mm
C17: 2-27 ga | E17: SAF-Q-206-G27 | F17: 6 | H17: =IFERROR(H18*(1-($AR$16*($F17-$AU$16))),"DNM") -> 17.644227 | I17: =IFERROR(I18*(1-($AR$16*($F17-$AU$16))),"DNM") -> 23.173232 | J17: =IFERROR(J18*(1-($AR$16*($F17-$AU$16))),"DNM") -> 26.615659 | K17: =IFERROR(K18*(1-($AR$16*($F17-$AU$16))),"DNM") -> 32.931426 | L17: =IFERROR(L18*(1-($AR$16*($F17-$AU$16))),"DNM") -> 38.769989 | U17: =IFERROR(U18*(1-($AR$16*($F17-$AU$16))),"DNM") -> 16.089887 | V17: =IFERROR(V18*(1-($AR$16*($F17-$AU$16))),"DNM") -> 27.615107 | W17: =IFERROR(W18*(1-($AR$16*($F17-$AU$16))),"DNM") -> 34.000416 | X17: =IFERROR(X18*(1-($AR$16*($F17-$AU$16))),"DNM") -> 41.91155 | Y17: =IFERROR(Y18*(1-($AR$16*($F17-$AU$16))),"DNM") -> 52.600418 | Z17: =IFERROR(Z18*(1-($AR$16*($F17-$AU$16))),"DNM") -> 57.363836 | AB17: =IFERROR(AB18*(1-($AR$16*($F17-$AU$16))),"DNM") -> 17.300204 | AC17: =IFERROR(AC18*(1-($AR$16*($F17-$AU$16))),"DNM") -> 29.692375 | AD17: =IFERROR(AD18*(1-($AR$16*($F17-$AU$16))),"DNM") -> 36.558001 | AE17: =IFERROR(AE18*(1-($AR$16*($F17-$AU$16))),"DNM") -> 45.064228 | AF17: =IFERROR(AF18*(1-($AR$16*($F17-$AU$16))),"DNM") -> 56.557136 | AG17: =IFERROR(AG18*(1-($AR$16*($F17-$AU$16))),"DNM") -> 61.678869
C18: 2-27 ga | E18: SAF-Q-209-G27 | F18: 9 | H18: =H15 -> 16.076745 | I18: =I15 -> 21.114562 | J18: =J15 -> 24.25117 | K18: =K15 -> 30.005855 | L18: =L15 -> 35.32573 | U18: =AB18-(AB18*$AR$19) -> 14.66049 | V18: =AC18-(AC18*$AR$19) -> 25.161828 | W18: =AD18-(AD18*$AR$19) -> 30.979878 | X18: =AE18-(AE18*$AR$19) -> 38.1882 | Y18: =AF18-(AF18*$AR$19) -> 47.927488 | Z18: =AG18-(AG18*$AR$19) -> 52.267732 | AB18: =AB15 -> 15.763284 | AC18: =AC15 -> 27.054556 | AD18: =AD15 -> 33.310252 | AE18: =AE15 -> 41.0608 | AF18: =AF15 -> 51.532698 | AG18: =AG15 -> 56.199425
C19: 2-27 ga | E19: SAF-Q-212-G27 | F19: 12 | H19: =IFERROR(H18*(1-($AR$16*($F19-$AU$16))),"DNM") -> 14.509262 | I19: =IFERROR(I18*(1-($AR$16*($F19-$AU$16))),"DNM") -> 19.055892 | J19: =IFERROR(J18*(1-($AR$16*($F19-$AU$16))),"DNM") -> 21.886681 | K19: =IFERROR(K18*(1-($AR$16*($F19-$AU$16))),"DNM") -> 27.080285 | L19: =IFERROR(L18*(1-($AR$16*($F19-$AU$16))),"DNM") -> 31.881471 | U19: =IFERROR(U18*(1-($AR$16*($F19-$AU$16))),"DNM") -> 13.231092 | V19: =IFERROR(V18*(1-($AR$16*($F19-$AU$16))),"DNM") -> 22.70855 | W19: =IFERROR(W18*(1-($AR$16*($F19-$AU$16))),"DNM") -> 27.95934 | X19: =IFERROR(X18*(1-($AR$16*($F19-$AU$16))),"DNM") -> 34.464851 | Y19: =IFERROR(Y18*(1-($AR$16*($F19-$AU$16))),"DNM") -> 43.254558 | Z19: =IFERROR(Z18*(1-($AR$16*($F19-$AU$16))),"DNM") -> 47.171628 | AB19: =IFERROR(AB18*(1-($AR$16*($F19-$AU$16))),"DNM") -> 14.226364 | AC19: =IFERROR(AC18*(1-($AR$16*($F19-$AU$16))),"DNM") -> 24.416737 | AD19: =IFERROR(AD18*(1-($AR$16*($F19-$AU$16))),"DNM") -> 30.062502 | AE19: =IFERROR(AE18*(1-($AR$16*($F19-$AU$16))),"DNM") -> 37.057372 | AF19: =IFERROR(AF18*(1-($AR$16*($F19-$AU$16))),"DNM") -> 46.50826 | AG19: =IFERROR(AG18*(1-($AR$16*($F19-$AU$16))),"DNM") -> 50.719981 | AQ19: Gammanorm Factor: | AR19: 0.069959661
C20: 2-24 ga | D20: SUB-209-G24 | F20: 9 | G20: 13.054141 | H20: 18.620145 | I20: 34.440802 | J20: 37.80327 | K20: 62.545299 | L20: 89.964427 | U20: =AB20-(AB20*$AR$19) -> 20.346596 | V20: =AC20-(AC20*$AR$19) -> 34.961769 | W20: =AD20-(AD20*$AR$19) -> 58.466597 | Z20: =AG20-(AG20*$AR$19) -> 90.927286 | AB20: 21.877111 | AC20: 37.591669 | AD20: 62.864582 | AG20: 97.767035
C21: 2-24 ga | D21: SUB-212-G24 | F21: 12 | G21: =IFERROR(G20*(1-($AR$16*($F21-$AU$16))),"DNM") -> 11.781363 | H21: =IFERROR(H20*(1-($AR$16*($F21-$AU$16))),"DNM") -> 16.804681 | I21: =IFERROR(I20*(1-($AR$16*($F21-$AU$16))),"DNM") -> 31.082823 | J21: =IFERROR(J20*(1-($AR$16*($F21-$AU$16))),"DNM") -> 34.117451 | K21: =IFERROR(K20*(1-($AR$16*($F21-$AU$16))),"DNM") -> 56.447132 | L21: =IFERROR(L20*(1-($AR$16*($F21-$AU$16))),"DNM") -> 81.192895 | U21: =IFERROR(U20*(1-($AR$16*($F21-$AU$16))),"DNM") -> 18.362803 | V21: =IFERROR(V20*(1-($AR$16*($F21-$AU$16))),"DNM") -> 31.552996 | W21: =IFERROR(W20*(1-($AR$16*($F21-$AU$16))),"DNM") -> 52.766104 | Z21: =IFERROR(Z20*(1-($AR$16*($F21-$AU$16))),"DNM") -> 82.061876 | AB21: =IFERROR(AB20*(1-($AR$16*($F21-$AU$16))),"DNM") -> 19.744093 | AC21: =IFERROR(AC20*(1-($AR$16*($F21-$AU$16))),"DNM") -> 33.926481 | AD21: =IFERROR(AD20*(1-($AR$16*($F21-$AU$16))),"DNM") -> 56.735285 | AG21: =IFERROR(AG20*(1-($AR$16*($F21-$AU$16))),"DNM") -> 88.234749 | AQ21: Country/Region: | AR21: USA
C22: 3-27 ga | E22: SUB-310 | F22: 6 | H22: =IFERROR(H23*(1-($AR$16*($F22-$AU$16))),"DNM") -> 23.901744 | I22: =IFERROR(I23*(1-($AR$16*($F22-$AU$16))),"DNM") -> 32.406626 | J22: =IFERROR(J23*(1-($AR$16*($F22-$AU$16))),"DNM") -> 39.748634 | K22: =IFERROR(K23*(1-($AR$16*($F22-$AU$16))),"DNM") -> 47.13544 | L22: =IFERROR(L23*(1-($AR$16*($F22-$AU$16))),"DNM") -> 53.245964 | N22: 50 | O22: 91 | P22: 133 | Q22: 170 | R22: 207 | S22: 242 | U22: =IFERROR(U23*(1-($AR$16*($F22-$AU$16))),"DNM") -> 18.386255 | V22: =IFERROR(V23*(1-($AR$16*($F22-$AU$16))),"DNM") -> 29.172553 | W22: =IFERROR(W23*(1-($AR$16*($F22-$AU$16))),"DNM") -> 40.802365 | X22: =IFERROR(X23*(1-($AR$16*($F22-$AU$16))),"DNM") -> 56.631163 | Y22: =IFERROR(Y23*(1-($AR$16*($F22-$AU$16))),"DNM") -> 69.556999 | Z22: =IFERROR(Z23*(1-($AR$16*($F22-$AU$16))),"DNM") -> 87.183101 | AB22: =IFERROR(AB23*(1-($AR$16*($F22-$AU$16))),"DNM") -> 19.769309 | AC22: =IFERROR(AC23*(1-($AR$16*($F22-$AU$16))),"DNM") -> 31.366976 | AD22: =IFERROR(AD23*(1-($AR$16*($F22-$AU$16))),"DNM") -> 43.871608 | AE22: =IFERROR(AE23*(1-($AR$16*($F22-$AU$16))),"DNM") -> 60.891082 | AF22: =IFERROR(AF23*(1-($AR$16*($F22-$AU$16))),"DNM") -> 74.789228 | AG22: =IFERROR(AG23*(1-($AR$16*($F22-$AU$16))),"DNM") -> 93.741204 | AI22: 50 | AJ22: 91 | AK22: 133 | AL22: 170 | AM22: 207 | AN22: 242 | AQ22: Include First Infusion Warnings: | AR22: =TRUE() -> 1
C23: 3-27 ga | E23: SUB-320 | F23: 9 | H23: 21.778354 | I23: 29.527678 | J23: 36.217435 | K23: 42.948009 | L23: 48.515685 | N23: =IFERROR(N22*(1+($AR$16*($F22-$AU$16))),"DNM") -> 45.125 | O23: =IFERROR(O22*(1+($AR$16*($F22-$AU$16))),"DNM") -> 82.1275 | P23: =IFERROR(P22*(1+($AR$16*($F22-$AU$16))),"DNM") -> 120.0325 | Q23: =IFERROR(Q22*(1+($AR$16*($F22-$AU$16))),"DNM") -> 153.425 | R23: =IFERROR(R22*(1+($AR$16*($F22-$AU$16))),"DNM") -> 186.8175 | S23: =IFERROR(S22*(1+($AR$16*($F22-$AU$16))),"DNM") -> 218.405 | U23: =AB23-(AB23*$AR$19) -> 16.752852 | V23: =AC23-(AC23*$AR$19) -> 26.580914 | W23: =AD23-(AD23*$AR$19) -> 37.177554 | X23: =AE23-(AE23*$AR$19) -> 51.600148 | Y23: =AF23-(AF23*$AR$19) -> 63.377676 | Z23: =AG23-(AG23*$AR$19) -> 79.437905 | AB23: 18.013038 | AC23: 28.580389 | AD23: 39.97413 | AE23: 55.481624 | AF23: 68.145083 | AG23: 85.413397 | AI23: =IFERROR(AI22*(1+($AR$16*($F22-$AU$16))),"DNM") -> 45.125 | AJ23: =IFERROR(AJ22*(1+($AR$16*($F22-$AU$16))),"DNM") -> 82.1275 | AK23: =IFERROR(AK22*(1+($AR$16*($F22-$AU$16))),"DNM") -> 120.0325 | AL23: =IFERROR(AL22*(1+($AR$16*($F22-$AU$16))),"DNM") -> 153.425 | AM23: =IFERROR(AM22*(1+($AR$16*($F22-$AU$16))),"DNM") -> 186.8175 | AN23: =IFERROR(AN22*(1+($AR$16*($F22-$AU$16))),"DNM") -> 218.405
C24: 3-27 ga | E24: SUB-312-G27 | F24: 12 | H24: =IFERROR(H23*(1-($AR$16*($F24-$AU$16))),"DNM") -> 19.654965 | I24: =IFERROR(I23*(1-($AR$16*($F24-$AU$16))),"DNM") -> 26.648729 | J24: =IFERROR(J23*(1-($AR$16*($F24-$AU$16))),"DNM") -> 32.686235 | K24: =IFERROR(K23*(1-($AR$16*($F24-$AU$16))),"DNM") -> 38.760579 | L24: =IFERROR(L23*(1-($AR$16*($F24-$AU$16))),"DNM") -> 43.785405 | N24: =IFERROR(N23*(1+($AR$16*($F22-$AU$16))),"DNM") -> 40.725313 | O24: =IFERROR(O23*(1+($AR$16*($F22-$AU$16))),"DNM") -> 74.120069 | P24: =IFERROR(P23*(1+($AR$16*($F22-$AU$16))),"DNM") -> 108.32933 | Q24: =IFERROR(Q23*(1+($AR$16*($F22-$AU$16))),"DNM") -> 138.46606 | R24: =IFERROR(R23*(1+($AR$16*($F22-$AU$16))),"DNM") -> 168.60279 | S24: =IFERROR(S23*(1+($AR$16*($F22-$AU$16))),"DNM") -> 197.11051 | U24: =IFERROR(U23*(1-($AR$16*($F24-$AU$16))),"DNM") -> 15.119449 | V24: =IFERROR(V23*(1-($AR$16*($F24-$AU$16))),"DNM") -> 23.989275 | W24: =IFERROR(W23*(1-($AR$16*($F24-$AU$16))),"DNM") -> 33.552742 | X24: =IFERROR(X23*(1-($AR$16*($F24-$AU$16))),"DNM") -> 46.569134 | Y24: =IFERROR(Y23*(1-($AR$16*($F24-$AU$16))),"DNM") -> 57.198353 | Z24: =IFERROR(Z23*(1-($AR$16*($F24-$AU$16))),"DNM") -> 71.692709 | AB24: =IFERROR(AB23*(1-($AR$16*($F24-$AU$16))),"DNM") -> 16.256767 | AC24: =IFERROR(AC23*(1-($AR$16*($F24-$AU$16))),"DNM") -> 25.793801 | AD24: =IFERROR(AD23*(1-($AR$16*($F24-$AU$16))),"DNM") -> 36.076653 | AE24: =IFERROR(AE23*(1-($AR$16*($F24-$AU$16))),"DNM") -> 50.072165 | AF24: =IFERROR(AF23*(1-($AR$16*($F24-$AU$16))),"DNM") -> 61.500937 | AG24: =IFERROR(AG23*(1-($AR$16*($F24-$AU$16))),"DNM") -> 77.085591 | AI24: =IFERROR(AI23*(1+($AR$16*($F22-$AU$16))),"DNM") -> 40.725313 | AJ24: =IFERROR(AJ23*(1+($AR$16*($F22-$AU$16))),"DNM") -> 74.120069 | AK24: =IFERROR(AK23*(1+($AR$16*($F22-$AU$16))),"DNM") -> 108.32933 | AL24: =IFERROR(AL23*(1+($AR$16*($F22-$AU$16))),"DNM") -> 138.46606 | AM24: =IFERROR(AM23*(1+($AR$16*($F22-$AU$16))),"DNM") -> 168.60279 | AN24: =IFERROR(AN23*(1+($AR$16*($F22-$AU$16))),"DNM") -> 197.11051
C25: 3-27 ga | E25: SAF-Q-306-G27 | F25: 6 | H25: =IFERROR(H26*(1-($AR$16*($F25-$AU$16))),"DNM") -> 23.901744 | I25: =IFERROR(I26*(1-($AR$16*($F25-$AU$16))),"DNM") -> 32.406626 | J25: =IFERROR(J26*(1-($AR$16*($F25-$AU$16))),"DNM") -> 39.748634 | K25: =IFERROR(K26*(1-($AR$16*($F25-$AU$16))),"DNM") -> 47.13544 | L25: =IFERROR(L26*(1-($AR$16*($F25-$AU$16))),"DNM") -> 53.245964 | N25: =N22 -> 50 | O25: =O22 -> 91 | P25: =P22 -> 133 | Q25: =Q22 -> 170 | R25: =R22 -> 207 | S25: =S22 -> 242 | U25: =IFERROR(U26*(1-($AR$16*($F25-$AU$16))),"DNM") -> 18.386255 | V25: =IFERROR(V26*(1-($AR$16*($F25-$AU$16))),"DNM") -> 29.172553 | W25: =IFERROR(W26*(1-($AR$16*($F25-$AU$16))),"DNM") -> 40.802365 | X25: =IFERROR(X26*(1-($AR$16*($F25-$AU$16))),"DNM") -> 56.631163 | Y25: =IFERROR(Y26*(1-($AR$16*($F25-$AU$16))),"DNM") -> 69.556999 | Z25: =IFERROR(Z26*(1-($AR$16*($F25-$AU$16))),"DNM") -> 87.183101 | AB25: =IFERROR(AB26*(1-($AR$16*($F25-$AU$16))),"DNM") -> 19.769309 | AC25: =IFERROR(AC26*(1-($AR$16*($F25-$AU$16))),"DNM") -> 31.366976 | AD25: =IFERROR(AD26*(1-($AR$16*($F25-$AU$16))),"DNM") -> 43.871608 | AE25: =IFERROR(AE26*(1-($AR$16*($F25-$AU$16))),"DNM") -> 60.891082 | AF25: =IFERROR(AF26*(1-($AR$16*($F25-$AU$16))),"DNM") -> 74.789228 | AG25: =IFERROR(AG26*(1-($AR$16*($F25-$AU$16))),"DNM") -> 93.741204 | AI25: =AI22 -> 50 | AJ25: =AJ22 -> 91 | AK25: =AK22 -> 133 | AL25: =AL22 -> 170 | AM25: =AM22 -> 207 | AN25: =AN22 -> 242
C26: 3-27 ga | E26: SAF-Q-309-G27 | F26: 9 | H26: =H23 -> 21.778354 | I26: =I23 -> 29.527678 | J26: =J23 -> 36.217435 | K26: =K23 -> 42.948009 | L26: =L23 -> 48.515685 | N26: =IFERROR(N25*(1+($AR$16*($F25-$AU$16))),"DNM") -> 45.125 | O26: =IFERROR(O25*(1+($AR$16*($F25-$AU$16))),"DNM") -> 82.1275 | P26: =IFERROR(P25*(1+($AR$16*($F25-$AU$16))),"DNM") -> 120.0325 | Q26: =IFERROR(Q25*(1+($AR$16*($F25-$AU$16))),"DNM") -> 153.425 | R26: =IFERROR(R25*(1+($AR$16*($F25-$AU$16))),"DNM") -> 186.8175 | S26: =IFERROR(S25*(1+($AR$16*($F25-$AU$16))),"DNM") -> 218.405 | U26: =AB26-(AB26*$AR$19) -> 16.752852 | V26: =AC26-(AC26*$AR$19) -> 26.580914 | W26: =AD26-(AD26*$AR$19) -> 37.177554 | X26: =AE26-(AE26*$AR$19) -> 51.600148 | Y26: =AF26-(AF26*$AR$19) -> 63.377676 | Z26: =AG26-(AG26*$AR$19) -> 79.437905 | AB26: =AB23 -> 18.013038 | AC26: =AC23 -> 28.580389 | AD26: =AD23 -> 39.97413 | AE26: =AE23 -> 55.481624 | AF26: =AF23 -> 68.145083 | AG26: =AG23 -> 85.413397 | AI26: =IFERROR(AI25*(1+($AR$16*($F25-$AU$16))),"DNM") -> 45.125 | AJ26: =IFERROR(AJ25*(1+($AR$16*($F25-$AU$16))),"DNM") -> 82.1275 | AK26: =IFERROR(AK25*(1+($AR$16*($F25-$AU$16))),"DNM") -> 120.0325 | AL26: =IFERROR(AL25*(1+($AR$16*($F25-$AU$16))),"DNM") -> 153.425 | AM26: =IFERROR(AM25*(1+($AR$16*($F25-$AU$16))),"DNM") -> 186.8175 | AN26: =IFERROR(AN25*(1+($AR$16*($F25-$AU$16))),"DNM") -> 218.405
C27: 3-24 ga | D27: SUB-309-G24 | F27: 9 | H27: 19.524111 | I27: 43.274879 | J27: 48.070166 | K27: 77.240748 | L27: 112.11584 | U27: =AB27-(AB27*$AR$19) -> 19.271704 | V27: =AC27-(AC27*$AR$19) -> 38.504719 | W27: =AD27-(AD27*$AR$19) -> 55.439663 | X27: =AE27-(AE27*$AR$19) -> 110.3338 | Z27: =AG27-(AG27*$AR$19) -> 94.410539 | AB27: 20.721364 | AC27: 41.401128 | AD27: 59.609955 | AE27: 118.63334 | AG27: 101.5123
C28: 3-24 ga | D28: SUB-312-G24 | F28: 12 | H28: =IFERROR(H27*(1-($AR$16*($F28-$AU$16))),"DNM") -> 17.62051 | I28: =IFERROR(I27*(1-($AR$16*($F28-$AU$16))),"DNM") -> 39.055579 | J28: =IFERROR(J27*(1-($AR$16*($F28-$AU$16))),"DNM") -> 43.383325 | K28: =IFERROR(K27*(1-($AR$16*($F28-$AU$16))),"DNM") -> 69.709775 | L28: =IFERROR(L27*(1-($AR$16*($F28-$AU$16))),"DNM") -> 101.18454 | U28: =IFERROR(U27*(1-($AR$16*($F28-$AU$16))),"DNM") -> 17.392713 | V28: =IFERROR(V27*(1-($AR$16*($F28-$AU$16))),"DNM") -> 34.750509 | W28: =IFERROR(W27*(1-($AR$16*($F28-$AU$16))),"DNM") -> 50.034295 | X28: =IFERROR(X27*(1-($AR$16*($F28-$AU$16))),"DNM") -> 99.576251 | Z28: =IFERROR(Z27*(1-($AR$16*($F28-$AU$16))),"DNM") -> 85.205511 | AB28: =IFERROR(AB27*(1-($AR$16*($F28-$AU$16))),"DNM") -> 18.701031 | AC28: =IFERROR(AC27*(1-($AR$16*($F28-$AU$16))),"DNM") -> 37.364518 | AD28: =IFERROR(AD27*(1-($AR$16*($F28-$AU$16))),"DNM") -> 53.797984 | AE28: =IFERROR(AE27*(1-($AR$16*($F28-$AU$16))),"DNM") -> 107.06659 | AG28: =IFERROR(AG27*(1-($AR$16*($F28-$AU$16))),"DNM") -> 91.614855
C29: 3-24 ga | D29: SAF-Q-309-G24 | F29: 9 | H29: =H27 -> 19.524111 | I29: =I27 -> 43.274879 | J29: =J27 -> 48.070166 | K29: =K27 -> 77.240748 | L29: =L27 -> 112.11584 | U29: =AB29-(AB29*$AR$19) -> 19.271704 | V29: =AC29-(AC29*$AR$19) -> 38.504719 | W29: =AD29-(AD29*$AR$19) -> 55.439663 | X29: =AE29-(AE29*$AR$19) -> 110.3338 | Z29: =AG29-(AG29*$AR$19) -> 94.410539 | AB29: =AB27 -> 20.721364 | AC29: =AC27 -> 41.401128 | AD29: =AD27 -> 59.609955 | AE29: =AE27 -> 118.63334 | AG29: =AG27 -> 101.5123
C30: 4-27 ga | E30: SUB-400 | F30: 6 | H30: =IFERROR(H31*(1-($AR$16*($F30-$AU$16))),"DNM") -> 23.341965 | I30: =IFERROR(I31*(1-($AR$16*($F30-$AU$16))),"DNM") -> 33.547259 | J30: =IFERROR(J31*(1-($AR$16*($F30-$AU$16))),"DNM") -> 44.374906 | K30: =IFERROR(K31*(1-($AR$16*($F30-$AU$16))),"DNM") -> 57.473305 | L30: =IFERROR(L31*(1-($AR$16*($F30-$AU$16))),"DNM") -> 66.10313 | N30: =IFERROR(N31*(1-($AR$16*($F30-$AU$16))),"DNM") -> 60.3625 | O30: =IFERROR(O31*(1-($AR$16*($F30-$AU$16))),"DNM") -> 109.75 | P30: =IFERROR(P31*(1-($AR$16*($F30-$AU$16))),"DNM") -> 164.625 | Q30: =IFERROR(Q31*(1-($AR$16*($F30-$AU$16))),"DNM") -> 218.4025 | R30: =IFERROR(R31*(1-($AR$16*($F30-$AU$16))),"DNM") -> 282.0575 | S30: =IFERROR(S31*(1-($AR$16*($F30-$AU$16))),"DNM") -> 358.8825 | AI30: =IFERROR(AI31*(1-($AR$16*($F30-$AU$16))),"DNM") -> 60.3625 | AJ30: =IFERROR(AJ31*(1-($AR$16*($F30-$AU$16))),"DNM") -> 109.75 | AK30: =IFERROR(AK31*(1-($AR$16*($F30-$AU$16))),"DNM") -> 164.625 | AL30: =IFERROR(AL31*(1-($AR$16*($F30-$AU$16))),"DNM") -> 218.4025 | AM30: =IFERROR(AM31*(1-($AR$16*($F30-$AU$16))),"DNM") -> 282.0575 | AN30: =IFERROR(AN31*(1-($AR$16*($F30-$AU$16))),"DNM") -> 358.8825
C31: 4-27 ga | E31: SUB-410 | F31: 9 | H31: 21.268305 | I31: 30.566979 | J31: 40.432716 | K31: 52.367476 | L31: 60.230642 | N31: 55 | O31: 100 | P31: 150 | Q31: 199 | R31: 257 | S31: 327 | AI31: 55 | AJ31: 100 | AK31: 150 | AL31: 199 | AM31: 257 | AN31: 327
C32: 4-27 ga | E32: SUB-412-G27 | F32: 12 | H32: =IFERROR(H31*(1-($AR$16*($F32-$AU$16))),"DNM") -> 19.194645 | I32: =IFERROR(I31*(1-($AR$16*($F32-$AU$16))),"DNM") -> 27.586698 | J32: =IFERROR(J31*(1-($AR$16*($F32-$AU$16))),"DNM") -> 36.490526 | K32: =IFERROR(K31*(1-($AR$16*($F32-$AU$16))),"DNM") -> 47.261647 | L32: =IFERROR(L31*(1-($AR$16*($F32-$AU$16))),"DNM") -> 54.358154 | N32: =IFERROR(N31*(1-($AR$16*($F32-$AU$16))),"DNM") -> 49.6375 | O32: =IFERROR(O31*(1-($AR$16*($F32-$AU$16))),"DNM") -> 90.25 | P32: =IFERROR(P31*(1-($AR$16*($F32-$AU$16))),"DNM") -> 135.375 | Q32: =IFERROR(Q31*(1-($AR$16*($F32-$AU$16))),"DNM") -> 179.5975 | R32: =IFERROR(R31*(1-($AR$16*($F32-$AU$16))),"DNM") -> 231.9425 | S32: =IFERROR(S31*(1-($AR$16*($F32-$AU$16))),"DNM") -> 295.1175 | AI32: =IFERROR(AI31*(1-($AR$16*($F32-$AU$16))),"DNM") -> 49.6375 | AJ32: =IFERROR(AJ31*(1-($AR$16*($F32-$AU$16))),"DNM") -> 90.25 | AK32: =IFERROR(AK31*(1-($AR$16*($F32-$AU$16))),"DNM") -> 135.375 | AL32: =IFERROR(AL31*(1-($AR$16*($F32-$AU$16))),"DNM") -> 179.5975 | AM32: =IFERROR(AM31*(1-($AR$16*($F32-$AU$16))),"DNM") -> 231.9425 | AN32: =IFERROR(AN31*(1-($AR$16*($F32-$AU$16))),"DNM") -> 295.1175
C33: 4-27 ga | E33: SUB-414-G27 | F33: 14 | H33: =IFERROR(H31*(1-($AR$16*($F33-$AU$16))),"DNM") -> 17.812206 | I33: =IFERROR(I31*(1-($AR$16*($F33-$AU$16))),"DNM") -> 25.599845 | J33: =IFERROR(J31*(1-($AR$16*($F33-$AU$16))),"DNM") -> 33.8624 | K33: =IFERROR(K31*(1-($AR$16*($F33-$AU$16))),"DNM") -> 43.857761 | L33: =IFERROR(L31*(1-($AR$16*($F33-$AU$16))),"DNM") -> 50.443163 | N33: =IFERROR(N31*(1-($AR$16*($F33-$AU$16))),"DNM") -> 46.0625 | O33: =IFERROR(O31*(1-($AR$16*($F33-$AU$16))),"DNM") -> 83.75 | P33: =IFERROR(P31*(1-($AR$16*($F33-$AU$16))),"DNM") -> 125.625 | Q33: =IFERROR(Q31*(1-($AR$16*($F33-$AU$16))),"DNM") -> 166.6625 | R33: =IFERROR(R31*(1-($AR$16*($F33-$AU$16))),"DNM") -> 215.2375 | S33: =IFERROR(S31*(1-($AR$16*($F33-$AU$16))),"DNM") -> 273.8625 | AI33: =IFERROR(AI31*(1-($AR$16*($F33-$AU$16))),"DNM") -> 46.0625 | AJ33: =IFERROR(AJ31*(1-($AR$16*($F33-$AU$16))),"DNM") -> 83.75 | AK33: =IFERROR(AK31*(1-($AR$16*($F33-$AU$16))),"DNM") -> 125.625 | AL33: =IFERROR(AL31*(1-($AR$16*($F33-$AU$16))),"DNM") -> 166.6625 | AM33: =IFERROR(AM31*(1-($AR$16*($F33-$AU$16))),"DNM") -> 215.2375 | AN33: =IFERROR(AN31*(1-($AR$16*($F33-$AU$16))),"DNM") -> 273.8625
C34: 4-27 ga | E34: SAF-Q-406-G27 | F34: 6 | H34: =IFERROR(H35*(1-($AR$16*($F34-$AU$16))),"DNM") -> 23.341965 | I34: =IFERROR(I35*(1-($AR$16*($F34-$AU$16))),"DNM") -> 33.547259 | J34: =IFERROR(J35*(1-($AR$16*($F34-$AU$16))),"DNM") -> 44.374906 | K34: =IFERROR(K35*(1-($AR$16*($F34-$AU$16))),"DNM") -> 57.473305 | L34: =IFERROR(L35*(1-($AR$16*($F34-$AU$16))),"DNM") -> 66.10313 | N34: =IFERROR(N35*(1-($AR$16*($F34-$AU$16))),"DNM") -> 60.3625 | O34: =IFERROR(O35*(1-($AR$16*($F34-$AU$16))),"DNM") -> 109.75 | P34: =IFERROR(P35*(1-($AR$16*($F34-$AU$16))),"DNM") -> 164.625 | Q34: =IFERROR(Q35*(1-($AR$16*($F34-$AU$16))),"DNM") -> 218.4025 | R34: =IFERROR(R35*(1-($AR$16*($F34-$AU$16))),"DNM") -> 282.0575 | S34: =IFERROR(S35*(1-($AR$16*($F34-$AU$16))),"DNM") -> 358.8825 | AI34: =IFERROR(AI35*(1-($AR$16*($F34-$AU$16))),"DNM") -> 60.3625 | AJ34: =IFERROR(AJ35*(1-($AR$16*($F34-$AU$16))),"DNM") -> 109.75 | AK34: =IFERROR(AK35*(1-($AR$16*($F34-$AU$16))),"DNM") -> 164.625 | AL34: =IFERROR(AL35*(1-($AR$16*($F34-$AU$16))),"DNM") -> 218.4025 | AM34: =IFERROR(AM35*(1-($AR$16*($F34-$AU$16))),"DNM") -> 282.0575 | AN34: =IFERROR(AN35*(1-($AR$16*($F34-$AU$16))),"DNM") -> 358.8825
C35: 4-27 ga | E35: SAF-Q-409-G27 | F35: 9 | H35: =H31 -> 21.268305 | I35: =I31 -> 30.566979 | J35: =J31 -> 40.432716 | K35: =K31 -> 52.367476 | L35: =L31 -> 60.230642 | N35: =N31 -> 55 | O35: =O31 -> 100 | P35: =P31 -> 150 | Q35: =Q31 -> 199 | R35: =R31 -> 257 | S35: =S31 -> 327 | AI35: =AI31 -> 55 | AJ35: =AJ31 -> 100 | AK35: =AK31 -> 150 | AL35: =AL31 -> 199 | AM35: =AM31 -> 257 | AN35: =AN31 -> 327
C36: 4-27 ga | E36: SAF-Q-412-G27 | F36: 12 | H36: =IFERROR(H35*(1-($AR$16*($F36-$AU$16))),"DNM") -> 19.194645 | I36: =IFERROR(I35*(1-($AR$16*($F36-$AU$16))),"DNM") -> 27.586698 | J36: =IFERROR(J35*(1-($AR$16*($F36-$AU$16))),"DNM") -> 36.490526 | K36: =IFERROR(K35*(1-($AR$16*($F36-$AU$16))),"DNM") -> 47.261647 | L36: =IFERROR(L35*(1-($AR$16*($F36-$AU$16))),"DNM") -> 54.358154 | N36: =IFERROR(N35*(1-($AR$16*($F36-$AU$16))),"DNM") -> 49.6375 | O36: =IFERROR(O35*(1-($AR$16*($F36-$AU$16))),"DNM") -> 90.25 | P36: =IFERROR(P35*(1-($AR$16*($F36-$AU$16))),"DNM") -> 135.375 | Q36: =IFERROR(Q35*(1-($AR$16*($F36-$AU$16))),"DNM") -> 179.5975 | R36: =IFERROR(R35*(1-($AR$16*($F36-$AU$16))),"DNM") -> 231.9425 | S36: =IFERROR(S35*(1-($AR$16*($F36-$AU$16))),"DNM") -> 295.1175 | AI36: =IFERROR(AI35*(1-($AR$16*($F36-$AU$16))),"DNM") -> 49.6375 | AJ36: =IFERROR(AJ35*(1-($AR$16*($F36-$AU$16))),"DNM") -> 90.25 | AK36: =IFERROR(AK35*(1-($AR$16*($F36-$AU$16))),"DNM") -> 135.375 | AL36: =IFERROR(AL35*(1-($AR$16*($F36-$AU$16))),"DNM") -> 179.5975 | AM36: =IFERROR(AM35*(1-($AR$16*($F36-$AU$16))),"DNM") -> 231.9425 | AN36: =IFERROR(AN35*(1-($AR$16*($F36-$AU$16))),"DNM") -> 295.1175
C37: 4-24 ga | D37: SUB-409-G24 | F37: 9 | H37: 20.667108 | I37: 41.433059 | J37: 57.035211 | K37: 86.21449 | L37: 171.02328
C38: 4-24 ga | D38: SUB-412-G24 | F38: 12 | H38: =IFERROR(H37*(1-($AR$16*($F38-$AU$16))),"DNM") -> 18.652065 | I38: =IFERROR(I37*(1-($AR$16*($F38-$AU$16))),"DNM") -> 37.393336 | J38: =IFERROR(J37*(1-($AR$16*($F38-$AU$16))),"DNM") -> 51.474278 | K38: =IFERROR(K37*(1-($AR$16*($F38-$AU$16))),"DNM") -> 77.808577 | L38: =IFERROR(L37*(1-($AR$16*($F38-$AU$16))),"DNM") -> 154.34851
C39: 5-27 ga | E39: SUB-506 | F39: 6 | H39: =IFERROR(H40*(1-($AR$16*($F39-$AU$16))),"DNM") -> 22.482236 | I39: =IFERROR(I40*(1-($AR$16*($F39-$AU$16))),"DNM") -> 33.382908 | J39: =IFERROR(J40*(1-($AR$16*($F39-$AU$16))),"DNM") -> 51.304845 | K39: =IFERROR(K40*(1-($AR$16*($F39-$AU$16))),"DNM") -> 67.517619 | L39: =IFERROR(L40*(1-($AR$16*($F39-$AU$16))),"DNM") -> 91.602911 | N39: =IFERROR(N40*(1-($AR$16*($F39-$AU$16))),"DNM") -> 65.85 | O39: =IFERROR(O40*(1-($AR$16*($F39-$AU$16))),"DNM") -> 118.53 | P39: =IFERROR(P40*(1-($AR$16*($F39-$AU$16))),"DNM") -> 177.795 | Q39: =IFERROR(Q40*(1-($AR$16*($F39-$AU$16))),"DNM") -> 234.865 | R39: =IFERROR(R40*(1-($AR$16*($F39-$AU$16))),"DNM") -> 307.3 | S39: =IFERROR(S40*(1-($AR$16*($F39-$AU$16))),"DNM") -> 404.9775 | AI39: =IFERROR(AI40*(1-($AR$16*($F39-$AU$16))),"DNM") -> 65.85 | AJ39: =IFERROR(AJ40*(1-($AR$16*($F39-$AU$16))),"DNM") -> 118.53 | AK39: =IFERROR(AK40*(1-($AR$16*($F39-$AU$16))),"DNM") -> 177.795 | AL39: =IFERROR(AL40*(1-($AR$16*($F39-$AU$16))),"DNM") -> 234.865 | AM39: =IFERROR(AM40*(1-($AR$16*($F39-$AU$16))),"DNM") -> 307.3 | AN39: =IFERROR(AN40*(1-($AR$16*($F39-$AU$16))),"DNM") -> 404.9775
C40: 5-27 ga | E40: SUB-509 | F40: 9 | H40: 20.484953 | I40: 30.417228 | J40: 46.747012 | K40: 61.51947 | L40: 83.465067 | N40: 60 | O40: 108 | P40: 162 | Q40: 214 | R40: 280 | S40: 369 | AI40: 60 | AJ40: 108 | AK40: 162 | AL40: 214 | AM40: 280 | AN40: 369
...

Sheet Sheet2
G1: Subcuvia | N1: KIOVIG | V1: Drug: | W1: Hizentra | AA1: Infusion & Volume Limits
D2: Administration Set | G2: VersaRate Position | N2: VersaRate Position | V2: Pump: | W2: SCIg60 Infuser | AA2: Initial | AB2: Subsequent
B3: Pump | C3: Needle Qty | D3: 24 ga | E3: 27 ga | F3: Needle Length (mm) | G3: 1 | H3: 2 | I3: 3 | J3: 4 | K3: 5 | L3: 6 | N3: 1 | O3: 2 | P3: 3 | Q3: 4 | R3: 5 | S3: 6 | V3: Lookup Set: | W3: SUB-209-G24 | X3: Needle Length: | Y3: =IFERROR(IF(NeedleGauge="24 ga",VLOOKUP(AdminSet,D4:F46,3,0),VLOOKUP(AdminSet,E4:F46,2,0)) & " mm","") -> 9 mm | AE3: Total Flow Rate
B4: FREEDOM60® | C4: 1-27 ga | E4: SUB-104-G27 | F4: 4 | G4: =IFERROR(G6*(1-($W$16*($F4-$Z$16))),"DNM") -> 14.039266 | H4: =IFERROR(H6*(1-($W$16*($F4-$Z$16))),"DNM") -> 20.365231 | I4: =IFERROR(I6*(1-($W$16*($F4-$Z$16))),"DNM") -> 22.912555 | J4: =IFERROR(J6*(1-($W$16*($F4-$Z$16))),"DNM") -> 26.687713 | K4: =IFERROR(K6*(1-($W$16*($F4-$Z$16))),"DNM") -> 30.066728 | L4: =IFERROR(L6*(1-($W$16*($F4-$Z$16))),"DNM") -> 29.149662 | V4: Default Set: | W4: =VLOOKUP(QtyNeedles,[1]Lists!$H$2:$K$8,MATCH(NeedleGauge,[1]Lists!$H$2:$K$2,0),0) -> #N/A | AA4: =INDEX([1]'Flow Rate Limits'!$A$1:$Z$6,MATCH(Country_Region,[1]'Flow Rate Limits'!$A$1:$A$6,0),MATCH(Drug,[1]'Flow Rate Limits'!$A$1:$Z$1,0)) -> 9999 | AE4: =IF(AnyErrorMessages=1,"",FlowRate) -> 18.641072 | AF4: ml/hr
C5: 1-27 ga | E5: SUB-106-G27 | F5: 6 | G5: =IFERROR(G6*(1-($W$16*($F5-$Z$16))),"DNM") -> 13.254275 | H5: =IFERROR(H6*(1-($W$16*($F5-$Z$16))),"DNM") -> 19.22653 | I5: =IFERROR(I6*(1-($W$16*($F5-$Z$16))),"DNM") -> 21.631423 | J5: =IFERROR(J6*(1-($W$16*($F5-$Z$16))),"DNM") -> 25.195497 | K5: =IFERROR(K6*(1-($W$16*($F5-$Z$16))),"DNM") -> 28.385577 | L5: =IFERROR(L6*(1-($W$16*($F5-$Z$16))),"DNM") -> 27.519789 | V5: Alternative Set: | W5: SUB-104-G27 | AE5: =IF(AnyErrorMessages=1,"",IF(AE4>AA4,"Exceeds total flow rate limit",""))
C6: 1-27 ga | E6: SUB-109-G27 | F6: 9 | G6: 12.076788 | H6: 17.518479 | I6: 19.709725 | J6: 22.957173 | K6: 25.863852 | L6: 25.074978 | V6: VersaRate Position: | W6: 2 | AE6: Flow Rate Per Site
C7: 1-27 ga | E7: SAF-Q-106-G27 | F7: 6 | G7: =IFERROR(G8*(1-($W$16*($F7-$Z$16))),"DNM") -> 13.254275 | H7: =IFERROR(H8*(1-($W$16*($F7-$Z$16))),"DNM") -> 19.22653 | I7: =IFERROR(I8*(1-($W$16*($F7-$Z$16))),"DNM") -> 21.631423 | J7: =IFERROR(J8*(1-($W$16*($F7-$Z$16))),"DNM") -> 25.195497 | K7: =IFERROR(K8*(1-($W$16*($F7-$Z$16))),"DNM") -> 28.385577 | L7: =IFERROR(L8*(1-($W$16*($F7-$Z$16))),"DNM") -> 27.519789 | V7: Flow Rate: | W7: =IF(Pump="Freedom60®",IF(NeedleGauge="24 ga",VLOOKUP(AdminSet,D4:S46,2+VersaRatePosition+MATCH(Drug,G1:S1,0),0),VLOOKUP(AdminSet,E4:S46,1+VersaRatePosition+MATCH(Drug,G1:S1,0),0)),IF(NeedleGauge="24 ga",VLOOKUP(AdminSet,D47:S89,2+VersaRatePosition+MATCH(Drug,G1:S1,0),0),VLOOKUP(AdminSet,E47:S89,1+VersaRatePosition+MATCH(Drug,G1:S1,0),0))) -> #N/A | X7: ml/hr | Z7: Infusion: | AA7: =INDEX([1]'Flow Rate Limits'!$A$1:$Z$6,MATCH(Country_Region,[1]'Flow Rate Limits'!$A$1:$A$6,0),MATCH(Drug,[1]'Flow Rate Limits'!$A$1:$Z$1,0)+1) -> 15.5 | AB7: =INDEX([1]'Flow Rate Limits'!$A$1:$Z$6,MATCH(Country_Region,[1]'Flow Rate Limits'!$A$1:$A$6,0),MATCH(Drug,[1]'Flow Rate Limits'!$A$1:$Z$1,0)+2) -> 25.5 | AE7: =IF(AnyErrorMessages=1,"",AE4/W9) -> 9.3205359 | AF7: ml/hr
C8: 1-27 ga | E8: SAF-Q-109-G27 | F8: 9 | G8: =G6 -> 12.076788 | H8: =H6 -> 17.518479 | I8: =I6 -> 19.709725 | J8: =J6 -> 22.957173 | K8: =K6 -> 25.863852 | L8: =L6 -> 25.074978 | V8: Needle Set: | W8: 2 Needles | AH8: =IF(AnyErrorMessages=1,"",IF(AE7>AB7,"Exceeds limit for subsequent infusions",IF(AND(InitialWarnings=1,AE7>AA7),"Caution: Limit for first time infusion exceeded","")))
C9: 1-24 ga | D9: SUB-109-G24 | F9: 9 | G9: 18.081149 | H9: 33.634392 | L9: 111.2852 | V9: Qty Needles: | W9: =VALUE(LEFT(NeedleSet,1)) -> 2 | AE9: Dosage Volume Per Site
C10: 1-24 ga | D10: SUB-112-G24 | F10: 12 | G10: =IFERROR(G9*(1-($W$16*($F10-$Z$16))),"DNM") -> 16.318237 | H10: =IFERROR(H9*(1-($W$16*($F10-$Z$16))),"DNM") -> 30.355039 | L10: =IFERROR(L9*(1-($W$16*($F10-$Z$16))),"DNM") -> 100.4349 | V10: Needle Gauge: | W10: 24 ga | Z10: Volume: | AA10: =INDEX([1]'Flow Rate Limits'!$A$1:$Z$6,MATCH(Country_Region,[1]'Flow Rate Limits'!$A$1:$A$6,0),MATCH(Drug,[1]'Flow Rate Limits'!$A$1:$Z$1,0)+3) -> 15 | AB10: =INDEX([1]'Flow Rate Limits'!$A$1:$Z$6,MATCH(Country_Region,[1]'Flow Rate Limits'!$A$1:$A$6,0),MATCH(Drug,[1]'Flow Rate Limits'!$A$1:$Z$1,0)+4) -> 25 | AE10: =IF(AnyErrorMessages=1,"",W11/W9) -> 12.5 | AF10: ml
C11: 1-24 ga | D11: SAF-Q-106-G24 | F11: 6 | G11: =IFERROR(G12*(1-($W$16*($F11-$Z$16))),"DNM") -> 19.844061 | H11: =IFERROR(H12*(1-($W$16*($F11-$Z$16))),"DNM") -> 36.913745 | L11: =IFERROR(L12*(1-($W$16*($F11-$Z$16))),"DNM") -> 122.13551 | V11: Dosage Volume: | W11: =VALUE(W12) -> 25 | X11: ml | AH11: =IF(AnyErrorMessages=1,"",IF(AE10>AB10,"Exceeds limit for subsequent infusions",IF(AND(InitialWarnings=1,AE10>AA10),"Caution: Limit for first time infusion exceeded","")))
C12: 1-24 ga | D12: SAF-Q-109-G24 | F12: 9 | G12: =G9 -> 18.081149 | H12: =H9 -> 33.634392 | L12: =L9 -> 111.2852 | V12: (Linked cell for dosage volume): | W12: 25
C13: 2-27 ga | E13: SUB-204-G27 | F13: 4 | G13: =IFERROR(G15*(1-($W$16*($F13-$Z$16))),"DNM") -> 18.324817 | H13: =IFERROR(H15*(1-($W$16*($F13-$Z$16))),"DNM") -> 31.450921 | I13: =IFERROR(I15*(1-($W$16*($F13-$Z$16))),"DNM") -> 38.723168 | J13: =IFERROR(J15*(1-($W$16*($F13-$Z$16))),"DNM") -> 47.73318 | K13: =IFERROR(K15*(1-($W$16*($F13-$Z$16))),"DNM") -> 59.906762 | L13: =IFERROR(L15*(1-($W$16*($F13-$Z$16))),"DNM") -> 65.331831 | AE13: Infusion Time
C14: 2-27 ga | E14: SUB-250 | F14: 6 | G14: =IFERROR(G15*(1-($W$16*($F14-$Z$16))),"DNM") -> 17.300204 | H14: =IFERROR(H15*(1-($W$16*($F14-$Z$16))),"DNM") -> 29.692375 | I14: =IFERROR(I15*(1-($W$16*($F14-$Z$16))),"DNM") -> 36.558001 | J14: =IFERROR(J15*(1-($W$16*($F14-$Z$16))),"DNM") -> 45.064228 | K14: =IFERROR(K15*(1-($W$16*($F14-$Z$16))),"DNM") -> 56.557136 | L14: =IFERROR(L15*(1-($W$16*($F14-$Z$16))),"DNM") -> 61.678869 | AE14: =IF(AnyErrorMessages=1,"",IF($W$11=0,0,INT($W$11/$W$7))) -> #N/A | AF14: hrs | AG14: =IF(AnyErrorMessages=1,"",IF($W$11=0,0,INT((($W$11/$W$7)-INT($W$11/$W$7))*60))) -> #N/A | AH14: min
C15: 2-27 ga | E15: SUB-260 | F15: 9 | G15: 15.763284 | H15: 27.054556 | I15: 33.310252 | J15: 41.0608 | K15: 51.532698 | L15: 56.199425
C16: 2-27 ga | E16: SUB-212-G27 | F16: 12 | G16: =IFERROR(G15*(1-($W$16*($F16-$Z$16))),"DNM") -> 14.226364 | H16: =IFERROR(H15*(1-($W$16*($F16-$Z$16))),"DNM") -> 24.416737 | I16: =IFERROR(I15*(1-($W$16*($F16-$Z$16))),"DNM") -> 30.062502 | J16: =IFERROR(J15*(1-($W$16*($F16-$Z$16))),"DNM") -> 37.057372 | K16: =IFERROR(K15*(1-($W$16*($F16-$Z$16))),"DNM") -> 46.50826 | L16: =IFERROR(L15*(1-($W$16*($F16-$Z$16))),"DNM") -> 50.719981 | V16: Needle Length Factor: | W16: 0.0325 | X16: per mm from baseline of | Z16: 9 | AA16: mm
C17: 2-27 ga | E17: SAF-Q-206-G27 | F17: 6 | G17: =IFERROR(G18*(1-($W$16*($F17-$Z$16))),"DNM") -> 17.300204 | H17: =IFERROR(H18*(1-($W$16*($F17-$Z$16))),"DNM") -> 29.692375 | I17: =IFERROR(I18*(1-($W$16*($F17-$Z$16))),"DNM") -> 36.558001 | J17: =IFERROR(J18*(1-($W$16*($F17-$Z$16))),"DNM") -> 45.064228 | K17: =IFERROR(K18*(1-($W$16*($F17-$Z$16))),"DNM") -> 56.557136 | L17: =IFERROR(L18*(1-($W$16*($F17-$Z$16))),"DNM") -> 61.678869
C18: 2-27 ga | E18: SAF-Q-209-G27 | F18: 9 | G18: =G15 -> 15.763284 | H18: =H15 -> 27.054556 | I18: =I15 -> 33.310252 | J18: =J15 -> 41.0608 | K18: =K15 -> 51.532698 | L18: =L15 -> 56.199425
C19: 2-27 ga | E19: SAF-Q-212-G27 | F19: 12 | G19: =IFERROR(G18*(1-($W$16*($F19-$Z$16))),"DNM") -> 14.226364 | H19: =IFERROR(H18*(1-($W$16*($F19-$Z$16))),"DNM") -> 24.416737 | I19: =IFERROR(I18*(1-($W$16*($F19-$Z$16))),"DNM") -> 30.062502 | J19: =IFERROR(J18*(1-($W$16*($F19-$Z$16))),"DNM") -> 37.057372 | K19: =IFERROR(K18*(1-($W$16*($F19-$Z$16))),"DNM") -> 46.50826 | L19: =IFERROR(L18*(1-($W$16*($F19-$Z$16))),"DNM") -> 50.719981 | V19: Gammanorm Factor: | W19: 0.069959661
C20: 2-24 ga | D20: SUB-209-G24 | F20: 9 | G20: 21.877111 | H20: 37.591669 | I20: 62.864582 | L20: 97.767035
C21: 2-24 ga | D21: SUB-212-G24 | F21: 12 | G21: =IFERROR(G20*(1-($W$16*($F21-$Z$16))),"DNM") -> 19.744093 | H21: =IFERROR(H20*(1-($W$16*($F21-$Z$16))),"DNM") -> 33.926481 | I21: =IFERROR(I20*(1-($W$16*($F21-$Z$16))),"DNM") -> 56.735285 | L21: =IFERROR(L20*(1-($W$16*($F21-$Z$16))),"DNM") -> 88.234749 | V21: Country/Region: | W21: USA
C22: 3-27 ga | E22: SUB-310 | F22: 6 | G22: =IFERROR(G23*(1-($W$16*($F22-$Z$16))),"DNM") -> 19.769309 | H22: =IFERROR(H23*(1-($W$16*($F22-$Z$16))),"DNM") -> 31.366976 | I22: =IFERROR(I23*(1-($W$16*($F22-$Z$16))),"DNM") -> 43.871608 | J22: =IFERROR(J23*(1-($W$16*($F22-$Z$16))),"DNM") -> 60.891082 | K22: =IFERROR(K23*(1-($W$16*($F22-$Z$16))),"DNM") -> 74.789228 | L22: =IFERROR(L23*(1-($W$16*($F22-$Z$16))),"DNM") -> 93.741204 | N22: 50 | O22: 91 | P22: 133 | Q22: 170 | R22: 207 | S22: 242 | V22: Include First Infusion Warnings: | W22: =TRUE() -> 1
C23: 3-27 ga | E23: SUB-320 | F23: 9 | G23: 18.013038 | H23: 28.580389 | I23: 39.97413 | J23: 55.481624 | K23: 68.145083 | L23: 85.413397 | N23: =IFERROR(N22*(1+($W$16*($F22-$Z$16))),"DNM") -> 45.125 | O23: =IFERROR(O22*(1+($W$16*($F22-$Z$16))),"DNM") -> 82.1275 | P23: =IFERROR(P22*(1+($W$16*($F22-$Z$16))),"DNM") -> 120.0325 | Q23: =IFERROR(Q22*(1+($W$16*($F22-$Z$16))),"DNM") -> 153.425 | R23: =IFERROR(R22*(1+($W$16*($F22-$Z$16))),"DNM") -> 186.8175 | S23: =IFERROR(S22*(1+($W$16*($F22-$Z$16))),"DNM") -> 218.405
C24: 3-27 ga | E24: SUB-312-G27 | F24: 12 | G24: =IFERROR(G23*(1-($W$16*($F24-$Z$16))),"DNM") -> 16.256767 | H24: =IFERROR(H23*(1-($W$16*($F24-$Z$16))),"DNM") -> 25.793801 | I24: =IFERROR(I23*(1-($W$16*($F24-$Z$16))),"DNM") -> 36.076653 | J24: =IFERROR(J23*(1-($W$16*($F24-$Z$16))),"DNM") -> 50.072165 | K24: =IFERROR(K23*(1-($W$16*($F24-$Z$16))),"DNM") -> 61.500937 | L24: =IFERROR(L23*(1-($W$16*($F24-$Z$16))),"DNM") -> 77.085591 | N24: =IFERROR(N23*(1+($W$16*($F22-$Z$16))),"DNM") -> 40.725313 | O24: =IFERROR(O23*(1+($W$16*($F22-$Z$16))),"DNM") -> 74.120069 | P24: =IFERROR(P23*(1+($W$16*($F22-$Z$16))),"DNM") -> 108.32933 | Q24: =IFERROR(Q23*(1+($W$16*($F22-$Z$16))),"DNM") -> 138.46606 | R24: =IFERROR(R23*(1+($W$16*($F22-$Z$16))),"DNM") -> 168.60279 | S24: =IFERROR(S23*(1+($W$16*($F22-$Z$16))),"DNM") -> 197.11051
C25: 3-27 ga | E25: SAF-Q-306-G27 | F25: 6 | G25: =IFERROR(G26*(1-($W$16*($F25-$Z$16))),"DNM") -> 19.769309 | H25: =IFERROR(H26*(1-($W$16*($F25-$Z$16))),"DNM") -> 31.366976 | I25: =IFERROR(I26*(1-($W$16*($F25-$Z$16))),"DNM") -> 43.871608 | J25: =IFERROR(J26*(1-($W$16*($F25-$Z$16))),"DNM") -> 60.891082 | K25: =IFERROR(K26*(1-($W$16*($F25-$Z$16))),"DNM") -> 74.789228 | L25: =IFERROR(L26*(1-($W$16*($F25-$Z$16))),"DNM") -> 93.741204 | N25: =N22 -> 50 | O25: =O22 -> 91 | P25: =P22 -> 133 | Q25: =Q22 -> 170 | R25: =R22 -> 207 | S25: =S22 -> 242
C26: 3-27 ga | E26: SAF-Q-309-G27 | F26: 9 | G26: =G23 -> 18.013038 | H26: =H23 -> 28.580389 | I26: =I23 -> 39.97413 | J26: =J23 -> 55.481624 | K26: =K23 -> 68.145083 | L26: =L23 -> 85.413397 | N26: =IFERROR(N25*(1+($W$16*($F25-$Z$16))),"DNM") -> 45.125 | O26: =IFERROR(O25*(1+($W$16*($F25-$Z$16))),"DNM") -> 82.1275 | P26: =IFERROR(P25*(1+($W$16*($F25-$Z$16))),"DNM") -> 120.0325 | Q26: =IFERROR(Q25*(1+($W$16*($F25-$Z$16))),"DNM") -> 153.425 | R26: =IFERROR(R25*(1+($W$16*($F25-$Z$16))),"DNM") -> 186.8175 | S26: =IFERROR(S25*(1+($W$16*($F25-$Z$16))),"DNM") -> 218.405
C27: 3-24 ga | D27: SUB-309-G24 | F27: 9 | G27: 20.721364 | H27: 41.401128 | I27: 59.609955 | J27: 118.63334 | L27: 101.5123
C28: 3-24 ga | D28: SUB-312-G24 | F28: 12 | G28: =IFERROR(G27*(1-($W$16*($F28-$Z$16))),"DNM") -> 18.701031 | H28: =IFERROR(H27*(1-($W$16*($F28-$Z$16))),"DNM") -> 37.364518 | I28: =IFERROR(I27*(1-($W$16*($F28-$Z$16))),"DNM") -> 53.797984 | J28: =IFERROR(J27*(1-($W$16*($F28-$Z$16))),"DNM") -> 107.06659 | L28: =IFERROR(L27*(1-($W$16*($F28-$Z$16))),"DNM") -> 91.614855
C29: 3-24 ga | D29: SAF-Q-309-G24 | F29: 9 | G29: =G27 -> 20.721364 | H29: =H27 -> 41.401128 | I29: =I27 -> 59.609955 | J29: =J27 -> 118.63334 | L29: =L27 -> 101.5123
C30: 4-27 ga | E30: SUB-400 | F30: 6 | N30: =IFERROR(N31*(1-($W$16*($F30-$Z$16))),"DNM") -> 60.3625 | O30: =IFERROR(O31*(1-($W$16*($F30-$Z$16))),"DNM") -> 109.75 | P30: =IFERROR(P31*(1-($W$16*($F30-$Z$16))),"DNM") -> 164.625 | Q30: =IFERROR(Q31*(1-($W$16*($F30-$Z$16))),"DNM") -> 218.4025 | R30: =IFERROR(R31*(1-($W$16*($F30-$Z$16))),"DNM") -> 282.0575 | S30: =IFERROR(S31*(1-($W$16*($F30-$Z$16))),"DNM") -> 358.8825
C31: 4-27 ga | E31: SUB-410 | F31: 9 | N31: 55 | O31: 100 | P31: 150 | Q31: 199 | R31: 257 | S31: 327
C32: 4-27 ga | E32: SUB-412-G27 | F32: 12 | N32: =IFERROR(N31*(1-($W$16*($F32-$Z$16))),"DNM") -> 49.6375 | O32: =IFERROR(O31*(1-($W$16*($F32-$Z$16))),"DNM") -> 90.25 | P32: =IFERROR(P31*(1-($W$16*($F32-$Z$16))),"DNM") -> 135.375 | Q32: =IFERROR(Q31*(1-($W$16*($F32-$Z$16))),"DNM") -> 179.5975 | R32: =IFERROR(R31*(1-($W$16*($F32-$Z$16))),"DNM") -> 231.9425 | S32: =IFERROR(S31*(1-($W$16*($F32-$Z$16))),"DNM") -> 295.1175
C33: 4-27 ga | E33: SUB-414-G27 | F33: 14 | N33: =IFERROR(N31*(1-($W$16*($F33-$Z$16))),"DNM") -> 46.0625 | O33: =IFERROR(O31*(1-($W$16*($F33-$Z$16))),"DNM") -> 83.75 | P33: =IFERROR(P31*(1-($W$16*($F33-$Z$16))),"DNM") -> 125.625 | Q33: =IFERROR(Q31*(1-($W$16*($F33-$Z$16))),"DNM") -> 166.6625 | R33: =IFERROR(R31*(1-($W$16*($F33-$Z$16))),"DNM") -> 215.2375 | S33: =IFERROR(S31*(1-($W$16*($F33-$Z$16))),"DNM") -> 273.8625
C34: 4-27 ga | E34: SAF-Q-406-G27 | F34: 6 | N34: =IFERROR(N35*(1-($W$16*($F34-$Z$16))),"DNM") -> 60.3625 | O34: =IFERROR(O35*(1-($W$16*($F34-$Z$16))),"DNM") -> 109.75 | P34: =IFERROR(P35*(1-($W$16*($F34-$Z$16))),"DNM") -> 164.625 | Q34: =IFERROR(Q35*(1-($W$16*($F34-$Z$16))),"DNM") -> 218.4025 | R34: =IFERROR(R35*(1-($W$16*($F34-$Z$16))),"DNM") -> 282.0575 | S34: =IFERROR(S35*(1-($W$16*($F34-$Z$16))),"DNM") -> 358.8825
C35: 4-27 ga | E35: SAF-Q-409-G27 | F35: 9 | N35: =N31 -> 55 | O35: =O31 -> 100 | P35: =P31 -> 150 | Q35: =Q31 -> 199 | R35: =R31 -> 257 | S35: =S31 -> 327
C36: 4-27 ga | E36: SAF-Q-412-G27 | F36: 12 | N36: =IFERROR(N35*(1-($W$16*($F36-$Z$16))),"DNM") -> 49.6375 | O36: =IFERROR(O35*(1-($W$16*($F36-$Z$16))),"DNM") -> 90.25 | P36: =IFERROR(P35*(1-($W$16*($F36-$Z$16))),"DNM") -> 135.375 | Q36: =IFERROR(Q35*(1-($W$16*($F36-$Z$16))),"DNM") -> 179.5975 | R36: =IFERROR(R35*(1-($W$16*($F36-$Z$16))),"DNM") -> 231.9425 | S36: =IFERROR(S35*(1-($W$16*($F36-$Z$16))),"DNM") -> 295.1175
C37: 4-24 ga | D37: SUB-409-G24 | F37: 9
C38: 4-24 ga | D38: SUB-412-G24 | F38: 12
C39: 5-27 ga | E39: SUB-506 | F39: 6 | N39: =IFERROR(N40*(1-($W$16*($F39-$Z$16))),"DNM") -> 65.85 | O39: =IFERROR(O40*(1-($W$16*($F39-$Z$16))),"DNM") -> 118.53 | P39: =IFERROR(P40*(1-($W$16*($F39-$Z$16))),"DNM") -> 177.795 | Q39: =IFERROR(Q40*(1-($W$16*($F39-$Z$16))),"DNM") -> 234.865 | R39: =IFERROR(R40*(1-($W$16*($F39-$Z$16))),"DNM") -> 307.3 | S39: =IFERROR(S40*(1-($W$16*($F39-$Z$16))),"DNM") -> 404.9775
C40: 5-27 ga | E40: SUB-509 | F40: 9 | N40: 60 | O40: 108 | P40: 162 | Q40: 214 | R40: 280 | S40: 369
...
